BEGIN:VCALENDAR
VERSION:2.0
PRODID:-//The Food Initiative - ECPv6.15.20//NONSGML v1.0//EN
CALSCALE:GREGORIAN
METHOD:PUBLISH
X-WR-CALNAME:The Food Initiative
X-ORIGINAL-URL:https://foodinitiative.org
X-WR-CALDESC:Events for The Food Initiative
REFRESH-INTERVAL;VALUE=DURATION:PT1H
X-Robots-Tag:noindex
X-PUBLISHED-TTL:PT1H
BEGIN:VTIMEZONE
TZID:UTC
BEGIN:STANDARD
TZOFFSETFROM:+0000
TZOFFSETTO:+0000
TZNAME:UTC
DTSTART:20280101T000000
END:STANDARD
END:VTIMEZONE
BEGIN:VEVENT
DTSTART;TZID=UTC:20290911T093000
DTEND;TZID=UTC:20290911T110000
DTSTAMP:20260425T015355
CREATED:20240325T220617Z
LAST-MODIFIED:20250407T194959Z
UID:10003236-1883813400-1883818800@foodinitiative.org
SUMMARY:FIGS Mobile Pantry-2nd Tuesday of the Month
DESCRIPTION:
URL:https://foodinitiative.org/event/figs-mobile-pantry-24/2029-09-11/
LOCATION:West Modesto Community Collaborative\, 601 S Martin Luther King Drive\, Modesto\, CA\, 95351
END:VEVENT
BEGIN:VEVENT
DTSTART;TZID=UTC:20291009T093000
DTEND;TZID=UTC:20291009T110000
DTSTAMP:20260425T015355
CREATED:20240325T220617Z
LAST-MODIFIED:20250407T194959Z
UID:10003237-1886232600-1886238000@foodinitiative.org
SUMMARY:FIGS Mobile Pantry-2nd Tuesday of the Month
DESCRIPTION:
URL:https://foodinitiative.org/event/figs-mobile-pantry-24/2029-10-09/
LOCATION:West Modesto Community Collaborative\, 601 S Martin Luther King Drive\, Modesto\, CA\, 95351
END:VEVENT
BEGIN:VEVENT
DTSTART;TZID=UTC:20291113T093000
DTEND;TZID=UTC:20291113T110000
DTSTAMP:20260425T015355
CREATED:20240325T220617Z
LAST-MODIFIED:20250407T194959Z
UID:10003238-1889256600-1889262000@foodinitiative.org
SUMMARY:FIGS Mobile Pantry-2nd Tuesday of the Month
DESCRIPTION:
URL:https://foodinitiative.org/event/figs-mobile-pantry-24/2029-11-13/
LOCATION:West Modesto Community Collaborative\, 601 S Martin Luther King Drive\, Modesto\, CA\, 95351
END:VEVENT
BEGIN:VEVENT
DTSTART;TZID=UTC:20291211T093000
DTEND;TZID=UTC:20291211T110000
DTSTAMP:20260425T015355
CREATED:20240325T220617Z
LAST-MODIFIED:20250407T194959Z
UID:10003239-1891675800-1891681200@foodinitiative.org
SUMMARY:FIGS Mobile Pantry-2nd Tuesday of the Month
DESCRIPTION:
URL:https://foodinitiative.org/event/figs-mobile-pantry-24/2029-12-11/
LOCATION:West Modesto Community Collaborative\, 601 S Martin Luther King Drive\, Modesto\, CA\, 95351
END:VEVENT
BEGIN:VEVENT
DTSTART;TZID=UTC:20300108T093000
DTEND;TZID=UTC:20300108T110000
DTSTAMP:20260425T015355
CREATED:20240325T220617Z
LAST-MODIFIED:20250407T194959Z
UID:10003240-1894095000-1894100400@foodinitiative.org
SUMMARY:FIGS Mobile Pantry-2nd Tuesday of the Month
DESCRIPTION:
URL:https://foodinitiative.org/event/figs-mobile-pantry-24/2030-01-08/
LOCATION:West Modesto Community Collaborative\, 601 S Martin Luther King Drive\, Modesto\, CA\, 95351
END:VEVENT
BEGIN:VEVENT
DTSTART;TZID=UTC:20300212T093000
DTEND;TZID=UTC:20300212T110000
DTSTAMP:20260425T015355
CREATED:20240325T220617Z
LAST-MODIFIED:20250407T194959Z
UID:10003241-1897119000-1897124400@foodinitiative.org
SUMMARY:FIGS Mobile Pantry-2nd Tuesday of the Month
DESCRIPTION:
URL:https://foodinitiative.org/event/figs-mobile-pantry-24/2030-02-12/
LOCATION:West Modesto Community Collaborative\, 601 S Martin Luther King Drive\, Modesto\, CA\, 95351
END:VEVENT
BEGIN:VEVENT
DTSTART;TZID=UTC:20300312T093000
DTEND;TZID=UTC:20300312T110000
DTSTAMP:20260425T015355
CREATED:20240325T220617Z
LAST-MODIFIED:20250407T194959Z
UID:10003242-1899538200-1899543600@foodinitiative.org
SUMMARY:FIGS Mobile Pantry-2nd Tuesday of the Month
DESCRIPTION:
URL:https://foodinitiative.org/event/figs-mobile-pantry-24/2030-03-12/
LOCATION:West Modesto Community Collaborative\, 601 S Martin Luther King Drive\, Modesto\, CA\, 95351
END:VEVENT
END:VCALENDAR