BEGIN:VCALENDAR
VERSION:2.0
PRODID:-//The Food Initiative - ECPv6.15.20//NONSGML v1.0//EN
CALSCALE:GREGORIAN
METHOD:PUBLISH
X-WR-CALNAME:The Food Initiative
X-ORIGINAL-URL:https://foodinitiative.org
X-WR-CALDESC:Events for The Food Initiative
REFRESH-INTERVAL;VALUE=DURATION:PT1H
X-Robots-Tag:noindex
X-PUBLISHED-TTL:PT1H
BEGIN:VTIMEZONE
TZID:UTC
BEGIN:STANDARD
TZOFFSETFROM:+0000
TZOFFSETTO:+0000
TZNAME:UTC
DTSTART:20260101T000000
END:STANDARD
END:VTIMEZONE
BEGIN:VEVENT
DTSTART;TZID=UTC:20270309T093000
DTEND;TZID=UTC:20270309T110000
DTSTAMP:20260424T202515
CREATED:20240325T220617Z
LAST-MODIFIED:20250407T194959Z
UID:10002679-1804584600-1804590000@foodinitiative.org
SUMMARY:FIGS Mobile Pantry-2nd Tuesday of the Month
DESCRIPTION:
URL:https://foodinitiative.org/event/figs-mobile-pantry-24/2027-03-09/
LOCATION:West Modesto Community Collaborative\, 601 S Martin Luther King Drive\, Modesto\, CA\, 95351
END:VEVENT
BEGIN:VEVENT
DTSTART;TZID=UTC:20270413T093000
DTEND;TZID=UTC:20270413T110000
DTSTAMP:20260424T202515
CREATED:20240325T220617Z
LAST-MODIFIED:20250407T194959Z
UID:10002680-1807608600-1807614000@foodinitiative.org
SUMMARY:FIGS Mobile Pantry-2nd Tuesday of the Month
DESCRIPTION:
URL:https://foodinitiative.org/event/figs-mobile-pantry-24/2027-04-13/
LOCATION:West Modesto Community Collaborative\, 601 S Martin Luther King Drive\, Modesto\, CA\, 95351
END:VEVENT
BEGIN:VEVENT
DTSTART;TZID=UTC:20270511T093000
DTEND;TZID=UTC:20270511T110000
DTSTAMP:20260424T202515
CREATED:20240325T220617Z
LAST-MODIFIED:20250407T194959Z
UID:10002681-1810027800-1810033200@foodinitiative.org
SUMMARY:FIGS Mobile Pantry-2nd Tuesday of the Month
DESCRIPTION:
URL:https://foodinitiative.org/event/figs-mobile-pantry-24/2027-05-11/
LOCATION:West Modesto Community Collaborative\, 601 S Martin Luther King Drive\, Modesto\, CA\, 95351
END:VEVENT
BEGIN:VEVENT
DTSTART;TZID=UTC:20270608T093000
DTEND;TZID=UTC:20270608T110000
DTSTAMP:20260424T202515
CREATED:20240325T220617Z
LAST-MODIFIED:20250407T194959Z
UID:10002682-1812447000-1812452400@foodinitiative.org
SUMMARY:FIGS Mobile Pantry-2nd Tuesday of the Month
DESCRIPTION:
URL:https://foodinitiative.org/event/figs-mobile-pantry-24/2027-06-08/
LOCATION:West Modesto Community Collaborative\, 601 S Martin Luther King Drive\, Modesto\, CA\, 95351
END:VEVENT
BEGIN:VEVENT
DTSTART;TZID=UTC:20270713T093000
DTEND;TZID=UTC:20270713T110000
DTSTAMP:20260424T202515
CREATED:20240325T220617Z
LAST-MODIFIED:20250407T194959Z
UID:10002683-1815471000-1815476400@foodinitiative.org
SUMMARY:FIGS Mobile Pantry-2nd Tuesday of the Month
DESCRIPTION:
URL:https://foodinitiative.org/event/figs-mobile-pantry-24/2027-07-13/
LOCATION:West Modesto Community Collaborative\, 601 S Martin Luther King Drive\, Modesto\, CA\, 95351
END:VEVENT
BEGIN:VEVENT
DTSTART;TZID=UTC:20270810T093000
DTEND;TZID=UTC:20270810T110000
DTSTAMP:20260424T202515
CREATED:20240325T220617Z
LAST-MODIFIED:20250407T194959Z
UID:10002684-1817890200-1817895600@foodinitiative.org
SUMMARY:FIGS Mobile Pantry-2nd Tuesday of the Month
DESCRIPTION:
URL:https://foodinitiative.org/event/figs-mobile-pantry-24/2027-08-10/
LOCATION:West Modesto Community Collaborative\, 601 S Martin Luther King Drive\, Modesto\, CA\, 95351
END:VEVENT
BEGIN:VEVENT
DTSTART;TZID=UTC:20270914T093000
DTEND;TZID=UTC:20270914T110000
DTSTAMP:20260424T202515
CREATED:20240325T220617Z
LAST-MODIFIED:20250407T194959Z
UID:10002685-1820914200-1820919600@foodinitiative.org
SUMMARY:FIGS Mobile Pantry-2nd Tuesday of the Month
DESCRIPTION:
URL:https://foodinitiative.org/event/figs-mobile-pantry-24/2027-09-14/
LOCATION:West Modesto Community Collaborative\, 601 S Martin Luther King Drive\, Modesto\, CA\, 95351
END:VEVENT
BEGIN:VEVENT
DTSTART;TZID=UTC:20271012T093000
DTEND;TZID=UTC:20271012T110000
DTSTAMP:20260424T202515
CREATED:20240325T220617Z
LAST-MODIFIED:20250407T194959Z
UID:10002686-1823333400-1823338800@foodinitiative.org
SUMMARY:FIGS Mobile Pantry-2nd Tuesday of the Month
DESCRIPTION:
URL:https://foodinitiative.org/event/figs-mobile-pantry-24/2027-10-12/
LOCATION:West Modesto Community Collaborative\, 601 S Martin Luther King Drive\, Modesto\, CA\, 95351
END:VEVENT
BEGIN:VEVENT
DTSTART;TZID=UTC:20271109T093000
DTEND;TZID=UTC:20271109T110000
DTSTAMP:20260424T202515
CREATED:20240325T220617Z
LAST-MODIFIED:20250407T194959Z
UID:10002687-1825752600-1825758000@foodinitiative.org
SUMMARY:FIGS Mobile Pantry-2nd Tuesday of the Month
DESCRIPTION:
URL:https://foodinitiative.org/event/figs-mobile-pantry-24/2027-11-09/
LOCATION:West Modesto Community Collaborative\, 601 S Martin Luther King Drive\, Modesto\, CA\, 95351
END:VEVENT
BEGIN:VEVENT
DTSTART;TZID=UTC:20271214T093000
DTEND;TZID=UTC:20271214T110000
DTSTAMP:20260424T202515
CREATED:20240325T220617Z
LAST-MODIFIED:20250407T194959Z
UID:10002688-1828776600-1828782000@foodinitiative.org
SUMMARY:FIGS Mobile Pantry-2nd Tuesday of the Month
DESCRIPTION:
URL:https://foodinitiative.org/event/figs-mobile-pantry-24/2027-12-14/
LOCATION:West Modesto Community Collaborative\, 601 S Martin Luther King Drive\, Modesto\, CA\, 95351
END:VEVENT
BEGIN:VEVENT
DTSTART;TZID=UTC:20280111T093000
DTEND;TZID=UTC:20280111T110000
DTSTAMP:20260424T202515
CREATED:20240325T220617Z
LAST-MODIFIED:20250407T194959Z
UID:10002689-1831195800-1831201200@foodinitiative.org
SUMMARY:FIGS Mobile Pantry-2nd Tuesday of the Month
DESCRIPTION:
URL:https://foodinitiative.org/event/figs-mobile-pantry-24/2028-01-11/
LOCATION:West Modesto Community Collaborative\, 601 S Martin Luther King Drive\, Modesto\, CA\, 95351
END:VEVENT
BEGIN:VEVENT
DTSTART;TZID=UTC:20280208T093000
DTEND;TZID=UTC:20280208T110000
DTSTAMP:20260424T202515
CREATED:20240325T220617Z
LAST-MODIFIED:20250407T194959Z
UID:10002690-1833615000-1833620400@foodinitiative.org
SUMMARY:FIGS Mobile Pantry-2nd Tuesday of the Month
DESCRIPTION:
URL:https://foodinitiative.org/event/figs-mobile-pantry-24/2028-02-08/
LOCATION:West Modesto Community Collaborative\, 601 S Martin Luther King Drive\, Modesto\, CA\, 95351
END:VEVENT
BEGIN:VEVENT
DTSTART;TZID=UTC:20280314T093000
DTEND;TZID=UTC:20280314T110000
DTSTAMP:20260424T202515
CREATED:20240325T220617Z
LAST-MODIFIED:20250407T194959Z
UID:10002691-1836639000-1836644400@foodinitiative.org
SUMMARY:FIGS Mobile Pantry-2nd Tuesday of the Month
DESCRIPTION:
URL:https://foodinitiative.org/event/figs-mobile-pantry-24/2028-03-14/
LOCATION:West Modesto Community Collaborative\, 601 S Martin Luther King Drive\, Modesto\, CA\, 95351
END:VEVENT
BEGIN:VEVENT
DTSTART;TZID=UTC:20280411T093000
DTEND;TZID=UTC:20280411T110000
DTSTAMP:20260424T202515
CREATED:20240325T220617Z
LAST-MODIFIED:20250407T194959Z
UID:10002692-1839058200-1839063600@foodinitiative.org
SUMMARY:FIGS Mobile Pantry-2nd Tuesday of the Month
DESCRIPTION:
URL:https://foodinitiative.org/event/figs-mobile-pantry-24/2028-04-11/
LOCATION:West Modesto Community Collaborative\, 601 S Martin Luther King Drive\, Modesto\, CA\, 95351
END:VEVENT
BEGIN:VEVENT
DTSTART;TZID=UTC:20280509T093000
DTEND;TZID=UTC:20280509T110000
DTSTAMP:20260424T202515
CREATED:20240325T220617Z
LAST-MODIFIED:20250407T194959Z
UID:10002693-1841477400-1841482800@foodinitiative.org
SUMMARY:FIGS Mobile Pantry-2nd Tuesday of the Month
DESCRIPTION:
URL:https://foodinitiative.org/event/figs-mobile-pantry-24/2028-05-09/
LOCATION:West Modesto Community Collaborative\, 601 S Martin Luther King Drive\, Modesto\, CA\, 95351
END:VEVENT
BEGIN:VEVENT
DTSTART;TZID=UTC:20280613T093000
DTEND;TZID=UTC:20280613T110000
DTSTAMP:20260424T202515
CREATED:20240325T220617Z
LAST-MODIFIED:20250407T194959Z
UID:10002694-1844501400-1844506800@foodinitiative.org
SUMMARY:FIGS Mobile Pantry-2nd Tuesday of the Month
DESCRIPTION:
URL:https://foodinitiative.org/event/figs-mobile-pantry-24/2028-06-13/
LOCATION:West Modesto Community Collaborative\, 601 S Martin Luther King Drive\, Modesto\, CA\, 95351
END:VEVENT
BEGIN:VEVENT
DTSTART;TZID=UTC:20280711T093000
DTEND;TZID=UTC:20280711T110000
DTSTAMP:20260424T202515
CREATED:20240325T220617Z
LAST-MODIFIED:20250407T194959Z
UID:10002695-1846920600-1846926000@foodinitiative.org
SUMMARY:FIGS Mobile Pantry-2nd Tuesday of the Month
DESCRIPTION:
URL:https://foodinitiative.org/event/figs-mobile-pantry-24/2028-07-11/
LOCATION:West Modesto Community Collaborative\, 601 S Martin Luther King Drive\, Modesto\, CA\, 95351
END:VEVENT
BEGIN:VEVENT
DTSTART;TZID=UTC:20280808T093000
DTEND;TZID=UTC:20280808T110000
DTSTAMP:20260424T202515
CREATED:20240325T220617Z
LAST-MODIFIED:20250407T194959Z
UID:10002696-1849339800-1849345200@foodinitiative.org
SUMMARY:FIGS Mobile Pantry-2nd Tuesday of the Month
DESCRIPTION:
URL:https://foodinitiative.org/event/figs-mobile-pantry-24/2028-08-08/
LOCATION:West Modesto Community Collaborative\, 601 S Martin Luther King Drive\, Modesto\, CA\, 95351
END:VEVENT
BEGIN:VEVENT
DTSTART;TZID=UTC:20280912T093000
DTEND;TZID=UTC:20280912T110000
DTSTAMP:20260424T202515
CREATED:20240325T220617Z
LAST-MODIFIED:20250407T194959Z
UID:10002697-1852363800-1852369200@foodinitiative.org
SUMMARY:FIGS Mobile Pantry-2nd Tuesday of the Month
DESCRIPTION:
URL:https://foodinitiative.org/event/figs-mobile-pantry-24/2028-09-12/
LOCATION:West Modesto Community Collaborative\, 601 S Martin Luther King Drive\, Modesto\, CA\, 95351
END:VEVENT
BEGIN:VEVENT
DTSTART;TZID=UTC:20281010T093000
DTEND;TZID=UTC:20281010T110000
DTSTAMP:20260424T202515
CREATED:20240325T220617Z
LAST-MODIFIED:20250407T194959Z
UID:10002698-1854783000-1854788400@foodinitiative.org
SUMMARY:FIGS Mobile Pantry-2nd Tuesday of the Month
DESCRIPTION:
URL:https://foodinitiative.org/event/figs-mobile-pantry-24/2028-10-10/
LOCATION:West Modesto Community Collaborative\, 601 S Martin Luther King Drive\, Modesto\, CA\, 95351
END:VEVENT
BEGIN:VEVENT
DTSTART;TZID=UTC:20281114T093000
DTEND;TZID=UTC:20281114T110000
DTSTAMP:20260424T202515
CREATED:20240325T220617Z
LAST-MODIFIED:20250407T194959Z
UID:10002699-1857807000-1857812400@foodinitiative.org
SUMMARY:FIGS Mobile Pantry-2nd Tuesday of the Month
DESCRIPTION:
URL:https://foodinitiative.org/event/figs-mobile-pantry-24/2028-11-14/
LOCATION:West Modesto Community Collaborative\, 601 S Martin Luther King Drive\, Modesto\, CA\, 95351
END:VEVENT
BEGIN:VEVENT
DTSTART;TZID=UTC:20281212T093000
DTEND;TZID=UTC:20281212T110000
DTSTAMP:20260424T202515
CREATED:20240325T220617Z
LAST-MODIFIED:20250407T194959Z
UID:10002700-1860226200-1860231600@foodinitiative.org
SUMMARY:FIGS Mobile Pantry-2nd Tuesday of the Month
DESCRIPTION:
URL:https://foodinitiative.org/event/figs-mobile-pantry-24/2028-12-12/
LOCATION:West Modesto Community Collaborative\, 601 S Martin Luther King Drive\, Modesto\, CA\, 95351
END:VEVENT
BEGIN:VEVENT
DTSTART;TZID=UTC:20290109T093000
DTEND;TZID=UTC:20290109T110000
DTSTAMP:20260424T202515
CREATED:20240325T220617Z
LAST-MODIFIED:20250407T194959Z
UID:10002701-1862645400-1862650800@foodinitiative.org
SUMMARY:FIGS Mobile Pantry-2nd Tuesday of the Month
DESCRIPTION:
URL:https://foodinitiative.org/event/figs-mobile-pantry-24/2029-01-09/
LOCATION:West Modesto Community Collaborative\, 601 S Martin Luther King Drive\, Modesto\, CA\, 95351
END:VEVENT
BEGIN:VEVENT
DTSTART;TZID=UTC:20290213T093000
DTEND;TZID=UTC:20290213T110000
DTSTAMP:20260424T202515
CREATED:20240325T220617Z
LAST-MODIFIED:20250407T194959Z
UID:10002702-1865669400-1865674800@foodinitiative.org
SUMMARY:FIGS Mobile Pantry-2nd Tuesday of the Month
DESCRIPTION:
URL:https://foodinitiative.org/event/figs-mobile-pantry-24/2029-02-13/
LOCATION:West Modesto Community Collaborative\, 601 S Martin Luther King Drive\, Modesto\, CA\, 95351
END:VEVENT
BEGIN:VEVENT
DTSTART;TZID=UTC:20290313T093000
DTEND;TZID=UTC:20290313T110000
DTSTAMP:20260424T202515
CREATED:20240325T220617Z
LAST-MODIFIED:20250407T194959Z
UID:10002703-1868088600-1868094000@foodinitiative.org
SUMMARY:FIGS Mobile Pantry-2nd Tuesday of the Month
DESCRIPTION:
URL:https://foodinitiative.org/event/figs-mobile-pantry-24/2029-03-13/
LOCATION:West Modesto Community Collaborative\, 601 S Martin Luther King Drive\, Modesto\, CA\, 95351
END:VEVENT
BEGIN:VEVENT
DTSTART;TZID=UTC:20290410T093000
DTEND;TZID=UTC:20290410T110000
DTSTAMP:20260424T202515
CREATED:20240325T220617Z
LAST-MODIFIED:20250407T194959Z
UID:10003231-1870507800-1870513200@foodinitiative.org
SUMMARY:FIGS Mobile Pantry-2nd Tuesday of the Month
DESCRIPTION:
URL:https://foodinitiative.org/event/figs-mobile-pantry-24/2029-04-10/
LOCATION:West Modesto Community Collaborative\, 601 S Martin Luther King Drive\, Modesto\, CA\, 95351
END:VEVENT
BEGIN:VEVENT
DTSTART;TZID=UTC:20290508T093000
DTEND;TZID=UTC:20290508T110000
DTSTAMP:20260424T202515
CREATED:20240325T220617Z
LAST-MODIFIED:20250407T194959Z
UID:10003232-1872927000-1872932400@foodinitiative.org
SUMMARY:FIGS Mobile Pantry-2nd Tuesday of the Month
DESCRIPTION:
URL:https://foodinitiative.org/event/figs-mobile-pantry-24/2029-05-08/
LOCATION:West Modesto Community Collaborative\, 601 S Martin Luther King Drive\, Modesto\, CA\, 95351
END:VEVENT
BEGIN:VEVENT
DTSTART;TZID=UTC:20290612T093000
DTEND;TZID=UTC:20290612T110000
DTSTAMP:20260424T202515
CREATED:20240325T220617Z
LAST-MODIFIED:20250407T194959Z
UID:10003233-1875951000-1875956400@foodinitiative.org
SUMMARY:FIGS Mobile Pantry-2nd Tuesday of the Month
DESCRIPTION:
URL:https://foodinitiative.org/event/figs-mobile-pantry-24/2029-06-12/
LOCATION:West Modesto Community Collaborative\, 601 S Martin Luther King Drive\, Modesto\, CA\, 95351
END:VEVENT
BEGIN:VEVENT
DTSTART;TZID=UTC:20290710T093000
DTEND;TZID=UTC:20290710T110000
DTSTAMP:20260424T202515
CREATED:20240325T220617Z
LAST-MODIFIED:20250407T194959Z
UID:10003234-1878370200-1878375600@foodinitiative.org
SUMMARY:FIGS Mobile Pantry-2nd Tuesday of the Month
DESCRIPTION:
URL:https://foodinitiative.org/event/figs-mobile-pantry-24/2029-07-10/
LOCATION:West Modesto Community Collaborative\, 601 S Martin Luther King Drive\, Modesto\, CA\, 95351
END:VEVENT
BEGIN:VEVENT
DTSTART;TZID=UTC:20290814T093000
DTEND;TZID=UTC:20290814T110000
DTSTAMP:20260424T202515
CREATED:20240325T220617Z
LAST-MODIFIED:20250407T194959Z
UID:10003235-1881394200-1881399600@foodinitiative.org
SUMMARY:FIGS Mobile Pantry-2nd Tuesday of the Month
DESCRIPTION:
URL:https://foodinitiative.org/event/figs-mobile-pantry-24/2029-08-14/
LOCATION:West Modesto Community Collaborative\, 601 S Martin Luther King Drive\, Modesto\, CA\, 95351
END:VEVENT
END:VCALENDAR