BEGIN:VCALENDAR
VERSION:2.0
PRODID:-//The Food Initiative - ECPv6.15.20//NONSGML v1.0//EN
CALSCALE:GREGORIAN
METHOD:PUBLISH
X-ORIGINAL-URL:https://foodinitiative.org
X-WR-CALDESC:Events for The Food Initiative
REFRESH-INTERVAL;VALUE=DURATION:PT1H
X-Robots-Tag:noindex
X-PUBLISHED-TTL:PT1H
BEGIN:VTIMEZONE
TZID:UTC
BEGIN:STANDARD
TZOFFSETFROM:+0000
TZOFFSETTO:+0000
TZNAME:UTC
DTSTART:20230101T000000
END:STANDARD
END:VTIMEZONE
BEGIN:VEVENT
DTSTART;TZID=UTC:20260414T093000
DTEND;TZID=UTC:20260414T110000
DTSTAMP:20260424T202702
CREATED:20240325T220617Z
LAST-MODIFIED:20250407T194959Z
UID:10002668-1776159000-1776164400@foodinitiative.org
SUMMARY:FIGS Mobile Pantry-2nd Tuesday of the Month
DESCRIPTION:
URL:https://foodinitiative.org/event/figs-mobile-pantry-24/2026-04-14/
LOCATION:West Modesto Community Collaborative\, 601 S Martin Luther King Drive\, Modesto\, CA\, 95351
END:VEVENT
BEGIN:VEVENT
DTSTART;TZID=UTC:20260310T093000
DTEND;TZID=UTC:20260310T110000
DTSTAMP:20260424T202702
CREATED:20240325T220617Z
LAST-MODIFIED:20250407T194959Z
UID:10002667-1773135000-1773140400@foodinitiative.org
SUMMARY:FIGS Mobile Pantry-2nd Tuesday of the Month
DESCRIPTION:
URL:https://foodinitiative.org/event/figs-mobile-pantry-24/2026-03-10/
LOCATION:West Modesto Community Collaborative\, 601 S Martin Luther King Drive\, Modesto\, CA\, 95351
END:VEVENT
BEGIN:VEVENT
DTSTART;TZID=UTC:20260210T093000
DTEND;TZID=UTC:20260210T110000
DTSTAMP:20260424T202702
CREATED:20240325T220617Z
LAST-MODIFIED:20250407T194959Z
UID:10002666-1770715800-1770721200@foodinitiative.org
SUMMARY:FIGS Mobile Pantry-2nd Tuesday of the Month
DESCRIPTION:
URL:https://foodinitiative.org/event/figs-mobile-pantry-24/2026-02-10/
LOCATION:West Modesto Community Collaborative\, 601 S Martin Luther King Drive\, Modesto\, CA\, 95351
END:VEVENT
BEGIN:VEVENT
DTSTART;TZID=UTC:20260113T093000
DTEND;TZID=UTC:20260113T110000
DTSTAMP:20260424T202702
CREATED:20240325T220617Z
LAST-MODIFIED:20250407T194959Z
UID:10002665-1768296600-1768302000@foodinitiative.org
SUMMARY:FIGS Mobile Pantry-2nd Tuesday of the Month
DESCRIPTION:
URL:https://foodinitiative.org/event/figs-mobile-pantry-24/2026-01-13/
LOCATION:West Modesto Community Collaborative\, 601 S Martin Luther King Drive\, Modesto\, CA\, 95351
END:VEVENT
BEGIN:VEVENT
DTSTART;TZID=UTC:20251209T093000
DTEND;TZID=UTC:20251209T110000
DTSTAMP:20260424T202702
CREATED:20240325T220617Z
LAST-MODIFIED:20250407T194959Z
UID:10002664-1765272600-1765278000@foodinitiative.org
SUMMARY:FIGS Mobile Pantry-2nd Tuesday of the Month
DESCRIPTION:
URL:https://foodinitiative.org/event/figs-mobile-pantry-24/2025-12-09/
LOCATION:West Modesto Community Collaborative\, 601 S Martin Luther King Drive\, Modesto\, CA\, 95351
END:VEVENT
BEGIN:VEVENT
DTSTART;TZID=UTC:20251111T093000
DTEND;TZID=UTC:20251111T110000
DTSTAMP:20260424T202702
CREATED:20240325T220617Z
LAST-MODIFIED:20250407T194959Z
UID:10002663-1762853400-1762858800@foodinitiative.org
SUMMARY:FIGS Mobile Pantry-2nd Tuesday of the Month
DESCRIPTION:
URL:https://foodinitiative.org/event/figs-mobile-pantry-24/2025-11-11/
LOCATION:West Modesto Community Collaborative\, 601 S Martin Luther King Drive\, Modesto\, CA\, 95351
END:VEVENT
BEGIN:VEVENT
DTSTART;TZID=UTC:20251014T093000
DTEND;TZID=UTC:20251014T110000
DTSTAMP:20260424T202702
CREATED:20240325T220617Z
LAST-MODIFIED:20250407T194959Z
UID:10002662-1760434200-1760439600@foodinitiative.org
SUMMARY:FIGS Mobile Pantry-2nd Tuesday of the Month
DESCRIPTION:
URL:https://foodinitiative.org/event/figs-mobile-pantry-24/2025-10-14/
LOCATION:West Modesto Community Collaborative\, 601 S Martin Luther King Drive\, Modesto\, CA\, 95351
END:VEVENT
BEGIN:VEVENT
DTSTART;TZID=UTC:20250909T093000
DTEND;TZID=UTC:20250909T110000
DTSTAMP:20260424T202702
CREATED:20240325T220617Z
LAST-MODIFIED:20250407T194959Z
UID:10002661-1757410200-1757415600@foodinitiative.org
SUMMARY:FIGS Mobile Pantry-2nd Tuesday of the Month
DESCRIPTION:
URL:https://foodinitiative.org/event/figs-mobile-pantry-24/2025-09-09/
LOCATION:West Modesto Community Collaborative\, 601 S Martin Luther King Drive\, Modesto\, CA\, 95351
END:VEVENT
BEGIN:VEVENT
DTSTART;TZID=UTC:20250812T093000
DTEND;TZID=UTC:20250812T110000
DTSTAMP:20260424T202702
CREATED:20240325T220617Z
LAST-MODIFIED:20250407T194959Z
UID:10002660-1754991000-1754996400@foodinitiative.org
SUMMARY:FIGS Mobile Pantry-2nd Tuesday of the Month
DESCRIPTION:
URL:https://foodinitiative.org/event/figs-mobile-pantry-24/2025-08-12/
LOCATION:West Modesto Community Collaborative\, 601 S Martin Luther King Drive\, Modesto\, CA\, 95351
END:VEVENT
BEGIN:VEVENT
DTSTART;TZID=UTC:20250708T093000
DTEND;TZID=UTC:20250708T110000
DTSTAMP:20260424T202702
CREATED:20240325T220617Z
LAST-MODIFIED:20250407T194959Z
UID:10002659-1751967000-1751972400@foodinitiative.org
SUMMARY:FIGS Mobile Pantry-2nd Tuesday of the Month
DESCRIPTION:
URL:https://foodinitiative.org/event/figs-mobile-pantry-24/2025-07-08/
LOCATION:West Modesto Community Collaborative\, 601 S Martin Luther King Drive\, Modesto\, CA\, 95351
END:VEVENT
BEGIN:VEVENT
DTSTART;TZID=UTC:20250610T093000
DTEND;TZID=UTC:20250610T110000
DTSTAMP:20260424T202702
CREATED:20240325T220617Z
LAST-MODIFIED:20250407T194959Z
UID:10002658-1749547800-1749553200@foodinitiative.org
SUMMARY:FIGS Mobile Pantry-2nd Tuesday of the Month
DESCRIPTION:
URL:https://foodinitiative.org/event/figs-mobile-pantry-24/2025-06-10/
LOCATION:West Modesto Community Collaborative\, 601 S Martin Luther King Drive\, Modesto\, CA\, 95351
END:VEVENT
BEGIN:VEVENT
DTSTART;TZID=UTC:20250513T093000
DTEND;TZID=UTC:20250513T110000
DTSTAMP:20260424T202702
CREATED:20240325T220617Z
LAST-MODIFIED:20250407T194959Z
UID:10002657-1747128600-1747134000@foodinitiative.org
SUMMARY:FIGS Mobile Pantry-2nd Tuesday of the Month
DESCRIPTION:
URL:https://foodinitiative.org/event/figs-mobile-pantry-24/2025-05-13/
LOCATION:West Modesto Community Collaborative\, 601 S Martin Luther King Drive\, Modesto\, CA\, 95351
END:VEVENT
BEGIN:VEVENT
DTSTART;TZID=UTC:20250408T093000
DTEND;TZID=UTC:20250408T110000
DTSTAMP:20260424T202702
CREATED:20240325T220617Z
LAST-MODIFIED:20250407T194959Z
UID:10002656-1744104600-1744110000@foodinitiative.org
SUMMARY:FIGS Mobile Pantry-2nd Tuesday of the Month
DESCRIPTION:
URL:https://foodinitiative.org/event/figs-mobile-pantry-24/2025-04-08/
LOCATION:West Modesto Community Collaborative\, 601 S Martin Luther King Drive\, Modesto\, CA\, 95351
END:VEVENT
BEGIN:VEVENT
DTSTART;TZID=UTC:20250311T093000
DTEND;TZID=UTC:20250311T110000
DTSTAMP:20260424T202702
CREATED:20240325T220617Z
LAST-MODIFIED:20250407T194959Z
UID:10002655-1741685400-1741690800@foodinitiative.org
SUMMARY:FIGS Mobile Pantry-2nd Tuesday of the Month
DESCRIPTION:
URL:https://foodinitiative.org/event/figs-mobile-pantry-24/2025-03-11/
LOCATION:West Modesto Community Collaborative\, 601 S Martin Luther King Drive\, Modesto\, CA\, 95351
END:VEVENT
BEGIN:VEVENT
DTSTART;TZID=UTC:20250211T093000
DTEND;TZID=UTC:20250211T110000
DTSTAMP:20260424T202702
CREATED:20240325T220617Z
LAST-MODIFIED:20250407T194959Z
UID:10002654-1739266200-1739271600@foodinitiative.org
SUMMARY:FIGS Mobile Pantry-2nd Tuesday of the Month
DESCRIPTION:
URL:https://foodinitiative.org/event/figs-mobile-pantry-24/2025-02-11/
LOCATION:West Modesto Community Collaborative\, 601 S Martin Luther King Drive\, Modesto\, CA\, 95351
END:VEVENT
BEGIN:VEVENT
DTSTART;TZID=UTC:20250114T093000
DTEND;TZID=UTC:20250114T110000
DTSTAMP:20260424T202702
CREATED:20240325T220617Z
LAST-MODIFIED:20250407T194959Z
UID:10002653-1736847000-1736852400@foodinitiative.org
SUMMARY:FIGS Mobile Pantry-2nd Tuesday of the Month
DESCRIPTION:
URL:https://foodinitiative.org/event/figs-mobile-pantry-24/2025-01-14/
LOCATION:West Modesto Community Collaborative\, 601 S Martin Luther King Drive\, Modesto\, CA\, 95351
END:VEVENT
BEGIN:VEVENT
DTSTART;TZID=UTC:20241210T093000
DTEND;TZID=UTC:20241210T110000
DTSTAMP:20260424T202702
CREATED:20240325T220617Z
LAST-MODIFIED:20250407T194959Z
UID:10002652-1733823000-1733828400@foodinitiative.org
SUMMARY:FIGS Mobile Pantry-2nd Tuesday of the Month
DESCRIPTION:
URL:https://foodinitiative.org/event/figs-mobile-pantry-24/2024-12-10/
LOCATION:West Modesto Community Collaborative\, 601 S Martin Luther King Drive\, Modesto\, CA\, 95351
END:VEVENT
BEGIN:VEVENT
DTSTART;TZID=UTC:20241112T093000
DTEND;TZID=UTC:20241112T110000
DTSTAMP:20260424T202702
CREATED:20240325T220617Z
LAST-MODIFIED:20250407T194959Z
UID:10002651-1731403800-1731409200@foodinitiative.org
SUMMARY:FIGS Mobile Pantry-2nd Tuesday of the Month
DESCRIPTION:
URL:https://foodinitiative.org/event/figs-mobile-pantry-24/2024-11-12/
LOCATION:West Modesto Community Collaborative\, 601 S Martin Luther King Drive\, Modesto\, CA\, 95351
END:VEVENT
BEGIN:VEVENT
DTSTART;TZID=UTC:20241008T093000
DTEND;TZID=UTC:20241008T110000
DTSTAMP:20260424T202702
CREATED:20240325T220617Z
LAST-MODIFIED:20250407T194959Z
UID:10002650-1728379800-1728385200@foodinitiative.org
SUMMARY:FIGS Mobile Pantry-2nd Tuesday of the Month
DESCRIPTION:
URL:https://foodinitiative.org/event/figs-mobile-pantry-24/2024-10-08/
LOCATION:West Modesto Community Collaborative\, 601 S Martin Luther King Drive\, Modesto\, CA\, 95351
END:VEVENT
BEGIN:VEVENT
DTSTART;TZID=UTC:20240910T093000
DTEND;TZID=UTC:20240910T110000
DTSTAMP:20260424T202702
CREATED:20240325T220617Z
LAST-MODIFIED:20250407T194959Z
UID:10002649-1725960600-1725966000@foodinitiative.org
SUMMARY:FIGS Mobile Pantry-2nd Tuesday of the Month
DESCRIPTION:
URL:https://foodinitiative.org/event/figs-mobile-pantry-24/2024-09-10/
LOCATION:West Modesto Community Collaborative\, 601 S Martin Luther King Drive\, Modesto\, CA\, 95351
END:VEVENT
BEGIN:VEVENT
DTSTART;TZID=UTC:20240813T093000
DTEND;TZID=UTC:20240813T110000
DTSTAMP:20260424T202702
CREATED:20240325T220617Z
LAST-MODIFIED:20250407T194959Z
UID:10002648-1723541400-1723546800@foodinitiative.org
SUMMARY:FIGS Mobile Pantry-2nd Tuesday of the Month
DESCRIPTION:
URL:https://foodinitiative.org/event/figs-mobile-pantry-24/2024-08-13/
LOCATION:West Modesto Community Collaborative\, 601 S Martin Luther King Drive\, Modesto\, CA\, 95351
END:VEVENT
BEGIN:VEVENT
DTSTART;TZID=UTC:20240709T093000
DTEND;TZID=UTC:20240709T110000
DTSTAMP:20260424T202702
CREATED:20240325T220617Z
LAST-MODIFIED:20250407T194959Z
UID:10002647-1720517400-1720522800@foodinitiative.org
SUMMARY:FIGS Mobile Pantry-2nd Tuesday of the Month
DESCRIPTION:
URL:https://foodinitiative.org/event/figs-mobile-pantry-24/2024-07-09/
LOCATION:West Modesto Community Collaborative\, 601 S Martin Luther King Drive\, Modesto\, CA\, 95351
END:VEVENT
BEGIN:VEVENT
DTSTART;TZID=UTC:20240611T093000
DTEND;TZID=UTC:20240611T110000
DTSTAMP:20260424T202702
CREATED:20240325T220617Z
LAST-MODIFIED:20250407T194959Z
UID:10002646-1718098200-1718103600@foodinitiative.org
SUMMARY:FIGS Mobile Pantry-2nd Tuesday of the Month
DESCRIPTION:
URL:https://foodinitiative.org/event/figs-mobile-pantry-24/2024-06-11/
LOCATION:West Modesto Community Collaborative\, 601 S Martin Luther King Drive\, Modesto\, CA\, 95351
END:VEVENT
BEGIN:VEVENT
DTSTART;TZID=UTC:20240514T093000
DTEND;TZID=UTC:20240514T110000
DTSTAMP:20260424T202702
CREATED:20240325T220617Z
LAST-MODIFIED:20250407T194959Z
UID:10002645-1715679000-1715684400@foodinitiative.org
SUMMARY:FIGS Mobile Pantry-2nd Tuesday of the Month
DESCRIPTION:
URL:https://foodinitiative.org/event/figs-mobile-pantry-24/2024-05-14/
LOCATION:West Modesto Community Collaborative\, 601 S Martin Luther King Drive\, Modesto\, CA\, 95351
END:VEVENT
BEGIN:VEVENT
DTSTART;TZID=UTC:20240409T093000
DTEND;TZID=UTC:20240409T110000
DTSTAMP:20260424T202702
CREATED:20240325T220617Z
LAST-MODIFIED:20250407T194959Z
UID:10002644-1712655000-1712660400@foodinitiative.org
SUMMARY:FIGS Mobile Pantry-2nd Tuesday of the Month
DESCRIPTION:
URL:https://foodinitiative.org/event/figs-mobile-pantry-24/2024-04-09/
LOCATION:West Modesto Community Collaborative\, 601 S Martin Luther King Drive\, Modesto\, CA\, 95351
END:VEVENT
END:VCALENDAR