BEGIN:VCALENDAR
VERSION:2.0
PRODID:-//The Food Initiative - ECPv6.15.20//NONSGML v1.0//EN
CALSCALE:GREGORIAN
METHOD:PUBLISH
X-ORIGINAL-URL:https://foodinitiative.org
X-WR-CALDESC:Events for The Food Initiative
REFRESH-INTERVAL;VALUE=DURATION:PT1H
X-Robots-Tag:noindex
X-PUBLISHED-TTL:PT1H
BEGIN:VTIMEZONE
TZID:UTC
BEGIN:STANDARD
TZOFFSETFROM:+0000
TZOFFSETTO:+0000
TZNAME:UTC
DTSTART:20230101T000000
END:STANDARD
END:VTIMEZONE
BEGIN:VEVENT
DTSTART;TZID=UTC:20250620T100000
DTEND;TZID=UTC:20250620T120000
DTSTAMP:20260425T002336
CREATED:20240126T190521Z
LAST-MODIFIED:20250407T203116Z
UID:10002065-1750413600-1750420800@foodinitiative.org
SUMMARY:FIGS Mobile Pantry-3rd Friday of the Month
DESCRIPTION:
URL:https://foodinitiative.org/event/figs-mobile-pantry-17/2025-06-20/
LOCATION:The Well Community Fellowship\, 2500 Claus Rd\, Modesto\, 95355\, United States
END:VEVENT
BEGIN:VEVENT
DTSTART;TZID=UTC:20250516T100000
DTEND;TZID=UTC:20250516T120000
DTSTAMP:20260425T002336
CREATED:20240126T190521Z
LAST-MODIFIED:20250407T203116Z
UID:10002064-1747389600-1747396800@foodinitiative.org
SUMMARY:FIGS Mobile Pantry-3rd Friday of the Month
DESCRIPTION:
URL:https://foodinitiative.org/event/figs-mobile-pantry-17/2025-05-16/
LOCATION:The Well Community Fellowship\, 2500 Claus Rd\, Modesto\, 95355\, United States
END:VEVENT
BEGIN:VEVENT
DTSTART;TZID=UTC:20250418T100000
DTEND;TZID=UTC:20250418T120000
DTSTAMP:20260425T002336
CREATED:20240126T190521Z
LAST-MODIFIED:20250407T203116Z
UID:10002063-1744970400-1744977600@foodinitiative.org
SUMMARY:FIGS Mobile Pantry-3rd Friday of the Month
DESCRIPTION:
URL:https://foodinitiative.org/event/figs-mobile-pantry-17/2025-04-18/
LOCATION:The Well Community Fellowship\, 2500 Claus Rd\, Modesto\, 95355\, United States
END:VEVENT
BEGIN:VEVENT
DTSTART;TZID=UTC:20250321T100000
DTEND;TZID=UTC:20250321T120000
DTSTAMP:20260425T002336
CREATED:20240126T190521Z
LAST-MODIFIED:20250407T203116Z
UID:10002062-1742551200-1742558400@foodinitiative.org
SUMMARY:FIGS Mobile Pantry-3rd Friday of the Month
DESCRIPTION:
URL:https://foodinitiative.org/event/figs-mobile-pantry-17/2025-03-21/
LOCATION:The Well Community Fellowship\, 2500 Claus Rd\, Modesto\, 95355\, United States
END:VEVENT
BEGIN:VEVENT
DTSTART;TZID=UTC:20250221T100000
DTEND;TZID=UTC:20250221T120000
DTSTAMP:20260425T002336
CREATED:20240126T190521Z
LAST-MODIFIED:20250407T203116Z
UID:10002061-1740132000-1740139200@foodinitiative.org
SUMMARY:FIGS Mobile Pantry-3rd Friday of the Month
DESCRIPTION:
URL:https://foodinitiative.org/event/figs-mobile-pantry-17/2025-02-21/
LOCATION:The Well Community Fellowship\, 2500 Claus Rd\, Modesto\, 95355\, United States
END:VEVENT
BEGIN:VEVENT
DTSTART;TZID=UTC:20250117T100000
DTEND;TZID=UTC:20250117T120000
DTSTAMP:20260425T002336
CREATED:20240126T190521Z
LAST-MODIFIED:20250407T203116Z
UID:10002060-1737108000-1737115200@foodinitiative.org
SUMMARY:FIGS Mobile Pantry-3rd Friday of the Month
DESCRIPTION:
URL:https://foodinitiative.org/event/figs-mobile-pantry-17/2025-01-17/
LOCATION:The Well Community Fellowship\, 2500 Claus Rd\, Modesto\, 95355\, United States
END:VEVENT
BEGIN:VEVENT
DTSTART;TZID=UTC:20241220T100000
DTEND;TZID=UTC:20241220T120000
DTSTAMP:20260425T002336
CREATED:20240126T190521Z
LAST-MODIFIED:20250407T203116Z
UID:10002059-1734688800-1734696000@foodinitiative.org
SUMMARY:FIGS Mobile Pantry-3rd Friday of the Month
DESCRIPTION:
URL:https://foodinitiative.org/event/figs-mobile-pantry-17/2024-12-20/
LOCATION:The Well Community Fellowship\, 2500 Claus Rd\, Modesto\, 95355\, United States
END:VEVENT
BEGIN:VEVENT
DTSTART;TZID=UTC:20241115T100000
DTEND;TZID=UTC:20241115T120000
DTSTAMP:20260425T002336
CREATED:20240126T190521Z
LAST-MODIFIED:20250407T203116Z
UID:10002058-1731664800-1731672000@foodinitiative.org
SUMMARY:FIGS Mobile Pantry-3rd Friday of the Month
DESCRIPTION:
URL:https://foodinitiative.org/event/figs-mobile-pantry-17/2024-11-15/
LOCATION:The Well Community Fellowship\, 2500 Claus Rd\, Modesto\, 95355\, United States
END:VEVENT
BEGIN:VEVENT
DTSTART;TZID=UTC:20241018T100000
DTEND;TZID=UTC:20241018T120000
DTSTAMP:20260425T002336
CREATED:20240126T190521Z
LAST-MODIFIED:20250407T203116Z
UID:10002057-1729245600-1729252800@foodinitiative.org
SUMMARY:FIGS Mobile Pantry-3rd Friday of the Month
DESCRIPTION:
URL:https://foodinitiative.org/event/figs-mobile-pantry-17/2024-10-18/
LOCATION:The Well Community Fellowship\, 2500 Claus Rd\, Modesto\, 95355\, United States
END:VEVENT
BEGIN:VEVENT
DTSTART;TZID=UTC:20240920T100000
DTEND;TZID=UTC:20240920T120000
DTSTAMP:20260425T002336
CREATED:20240126T190521Z
LAST-MODIFIED:20250407T203116Z
UID:10002056-1726826400-1726833600@foodinitiative.org
SUMMARY:FIGS Mobile Pantry-3rd Friday of the Month
DESCRIPTION:
URL:https://foodinitiative.org/event/figs-mobile-pantry-17/2024-09-20/
LOCATION:The Well Community Fellowship\, 2500 Claus Rd\, Modesto\, 95355\, United States
END:VEVENT
BEGIN:VEVENT
DTSTART;TZID=UTC:20240816T100000
DTEND;TZID=UTC:20240816T120000
DTSTAMP:20260425T002336
CREATED:20240126T190521Z
LAST-MODIFIED:20250407T203116Z
UID:10002055-1723802400-1723809600@foodinitiative.org
SUMMARY:FIGS Mobile Pantry-3rd Friday of the Month
DESCRIPTION:
URL:https://foodinitiative.org/event/figs-mobile-pantry-17/2024-08-16/
LOCATION:The Well Community Fellowship\, 2500 Claus Rd\, Modesto\, 95355\, United States
END:VEVENT
BEGIN:VEVENT
DTSTART;TZID=UTC:20240719T100000
DTEND;TZID=UTC:20240719T120000
DTSTAMP:20260425T002336
CREATED:20240126T190521Z
LAST-MODIFIED:20250407T203116Z
UID:10002054-1721383200-1721390400@foodinitiative.org
SUMMARY:FIGS Mobile Pantry-3rd Friday of the Month
DESCRIPTION:
URL:https://foodinitiative.org/event/figs-mobile-pantry-17/2024-07-19/
LOCATION:The Well Community Fellowship\, 2500 Claus Rd\, Modesto\, 95355\, United States
END:VEVENT
BEGIN:VEVENT
DTSTART;TZID=UTC:20240621T100000
DTEND;TZID=UTC:20240621T120000
DTSTAMP:20260425T002336
CREATED:20240126T190521Z
LAST-MODIFIED:20250407T203116Z
UID:10002053-1718964000-1718971200@foodinitiative.org
SUMMARY:FIGS Mobile Pantry-3rd Friday of the Month
DESCRIPTION:
URL:https://foodinitiative.org/event/figs-mobile-pantry-17/2024-06-21/
LOCATION:The Well Community Fellowship\, 2500 Claus Rd\, Modesto\, 95355\, United States
END:VEVENT
BEGIN:VEVENT
DTSTART;TZID=UTC:20240517T100000
DTEND;TZID=UTC:20240517T120000
DTSTAMP:20260425T002336
CREATED:20240126T190521Z
LAST-MODIFIED:20250407T203116Z
UID:10002052-1715940000-1715947200@foodinitiative.org
SUMMARY:FIGS Mobile Pantry-3rd Friday of the Month
DESCRIPTION:
URL:https://foodinitiative.org/event/figs-mobile-pantry-17/2024-05-17/
LOCATION:The Well Community Fellowship\, 2500 Claus Rd\, Modesto\, 95355\, United States
END:VEVENT
BEGIN:VEVENT
DTSTART;TZID=UTC:20240419T100000
DTEND;TZID=UTC:20240419T120000
DTSTAMP:20260425T002336
CREATED:20240126T190521Z
LAST-MODIFIED:20250407T203116Z
UID:10002051-1713520800-1713528000@foodinitiative.org
SUMMARY:FIGS Mobile Pantry-3rd Friday of the Month
DESCRIPTION:
URL:https://foodinitiative.org/event/figs-mobile-pantry-17/2024-04-19/
LOCATION:The Well Community Fellowship\, 2500 Claus Rd\, Modesto\, 95355\, United States
END:VEVENT
BEGIN:VEVENT
DTSTART;TZID=UTC:20240315T100000
DTEND;TZID=UTC:20240315T120000
DTSTAMP:20260425T002336
CREATED:20240126T190521Z
LAST-MODIFIED:20250407T203116Z
UID:10002050-1710496800-1710504000@foodinitiative.org
SUMMARY:FIGS Mobile Pantry-3rd Friday of the Month
DESCRIPTION:
URL:https://foodinitiative.org/event/figs-mobile-pantry-17/2024-03-15/
LOCATION:The Well Community Fellowship\, 2500 Claus Rd\, Modesto\, 95355\, United States
END:VEVENT
BEGIN:VEVENT
DTSTART;TZID=UTC:20240216T100000
DTEND;TZID=UTC:20240216T120000
DTSTAMP:20260425T002336
CREATED:20240126T190521Z
LAST-MODIFIED:20250407T203116Z
UID:10002049-1708077600-1708084800@foodinitiative.org
SUMMARY:FIGS Mobile Pantry-3rd Friday of the Month
DESCRIPTION:
URL:https://foodinitiative.org/event/figs-mobile-pantry-17/2024-02-16/
LOCATION:The Well Community Fellowship\, 2500 Claus Rd\, Modesto\, 95355\, United States
END:VEVENT
END:VCALENDAR