BEGIN:VCALENDAR
VERSION:2.0
PRODID:-//The Food Initiative - ECPv6.15.20//NONSGML v1.0//EN
CALSCALE:GREGORIAN
METHOD:PUBLISH
X-ORIGINAL-URL:https://foodinitiative.org
X-WR-CALDESC:Events for The Food Initiative
REFRESH-INTERVAL;VALUE=DURATION:PT1H
X-Robots-Tag:noindex
X-PUBLISHED-TTL:PT1H
BEGIN:VTIMEZONE
TZID:UTC
BEGIN:STANDARD
TZOFFSETFROM:+0000
TZOFFSETTO:+0000
TZNAME:UTC
DTSTART:20230101T000000
END:STANDARD
END:VTIMEZONE
BEGIN:VEVENT
DTSTART;TZID=UTC:20250605T150000
DTEND;TZID=UTC:20250605T160000
DTSTAMP:20260424T222017
CREATED:20240105T232548Z
LAST-MODIFIED:20250923T162157Z
UID:10001268-1749135600-1749139200@foodinitiative.org
SUMMARY:FIGS Mobile Pantry-1st Thursday of the Month
DESCRIPTION:
URL:https://foodinitiative.org/event/figs-mobile-pantry-12/2025-06-05/
LOCATION:St. Matthias Anglican Church\, 101 S. First Avenue\, OAKDALE\, CA\, 95361\, United States
END:VEVENT
BEGIN:VEVENT
DTSTART;TZID=UTC:20250501T150000
DTEND;TZID=UTC:20250501T160000
DTSTAMP:20260424T222017
CREATED:20240105T232548Z
LAST-MODIFIED:20250923T162157Z
UID:10001267-1746111600-1746115200@foodinitiative.org
SUMMARY:FIGS Mobile Pantry-1st Thursday of the Month
DESCRIPTION:
URL:https://foodinitiative.org/event/figs-mobile-pantry-12/2025-05-01/
LOCATION:St. Matthias Anglican Church\, 101 S. First Avenue\, OAKDALE\, CA\, 95361\, United States
END:VEVENT
BEGIN:VEVENT
DTSTART;TZID=UTC:20250403T150000
DTEND;TZID=UTC:20250403T160000
DTSTAMP:20260424T222017
CREATED:20240105T232548Z
LAST-MODIFIED:20250923T162157Z
UID:10001266-1743692400-1743696000@foodinitiative.org
SUMMARY:FIGS Mobile Pantry-1st Thursday of the Month
DESCRIPTION:
URL:https://foodinitiative.org/event/figs-mobile-pantry-12/2025-04-03/
LOCATION:St. Matthias Anglican Church\, 101 S. First Avenue\, OAKDALE\, CA\, 95361\, United States
END:VEVENT
BEGIN:VEVENT
DTSTART;TZID=UTC:20250306T150000
DTEND;TZID=UTC:20250306T160000
DTSTAMP:20260424T222017
CREATED:20240105T232548Z
LAST-MODIFIED:20250923T162157Z
UID:10001265-1741273200-1741276800@foodinitiative.org
SUMMARY:FIGS Mobile Pantry-1st Thursday of the Month
DESCRIPTION:
URL:https://foodinitiative.org/event/figs-mobile-pantry-12/2025-03-06/
LOCATION:St. Matthias Anglican Church\, 101 S. First Avenue\, OAKDALE\, CA\, 95361\, United States
END:VEVENT
BEGIN:VEVENT
DTSTART;TZID=UTC:20250206T150000
DTEND;TZID=UTC:20250206T160000
DTSTAMP:20260424T222017
CREATED:20240105T232548Z
LAST-MODIFIED:20250923T162157Z
UID:10001264-1738854000-1738857600@foodinitiative.org
SUMMARY:FIGS Mobile Pantry-1st Thursday of the Month
DESCRIPTION:
URL:https://foodinitiative.org/event/figs-mobile-pantry-12/2025-02-06/
LOCATION:St. Matthias Anglican Church\, 101 S. First Avenue\, OAKDALE\, CA\, 95361\, United States
END:VEVENT
BEGIN:VEVENT
DTSTART;TZID=UTC:20250102T150000
DTEND;TZID=UTC:20250102T160000
DTSTAMP:20260424T222017
CREATED:20240105T232548Z
LAST-MODIFIED:20250923T162157Z
UID:10001263-1735830000-1735833600@foodinitiative.org
SUMMARY:FIGS Mobile Pantry-1st Thursday of the Month
DESCRIPTION:
URL:https://foodinitiative.org/event/figs-mobile-pantry-12/2025-01-02/
LOCATION:St. Matthias Anglican Church\, 101 S. First Avenue\, OAKDALE\, CA\, 95361\, United States
END:VEVENT
BEGIN:VEVENT
DTSTART;TZID=UTC:20241205T150000
DTEND;TZID=UTC:20241205T160000
DTSTAMP:20260424T222017
CREATED:20240105T232548Z
LAST-MODIFIED:20250923T162157Z
UID:10001262-1733410800-1733414400@foodinitiative.org
SUMMARY:FIGS Mobile Pantry-1st Thursday of the Month
DESCRIPTION:
URL:https://foodinitiative.org/event/figs-mobile-pantry-12/2024-12-05/
LOCATION:St. Matthias Anglican Church\, 101 S. First Avenue\, OAKDALE\, CA\, 95361\, United States
END:VEVENT
BEGIN:VEVENT
DTSTART;TZID=UTC:20241107T150000
DTEND;TZID=UTC:20241107T160000
DTSTAMP:20260424T222017
CREATED:20240105T232548Z
LAST-MODIFIED:20250923T162157Z
UID:10003514-1730991600-1730995200@foodinitiative.org
SUMMARY:FIGS Mobile Pantry-1st Thursday of the Month
DESCRIPTION:
URL:https://foodinitiative.org/event/figs-mobile-pantry-12/2024-11-07/
LOCATION:St. Matthias Anglican Church\, 101 S. First Avenue\, OAKDALE\, CA\, 95361\, United States
END:VEVENT
BEGIN:VEVENT
DTSTART;TZID=UTC:20241003T150000
DTEND;TZID=UTC:20241003T160000
DTSTAMP:20260424T222017
CREATED:20240105T232548Z
LAST-MODIFIED:20250923T162157Z
UID:10001260-1727967600-1727971200@foodinitiative.org
SUMMARY:FIGS Mobile Pantry-1st Thursday of the Month
DESCRIPTION:
URL:https://foodinitiative.org/event/figs-mobile-pantry-12/2024-10-03/
LOCATION:St. Matthias Anglican Church\, 101 S. First Avenue\, OAKDALE\, CA\, 95361\, United States
END:VEVENT
BEGIN:VEVENT
DTSTART;TZID=UTC:20240905T150000
DTEND;TZID=UTC:20240905T160000
DTSTAMP:20260424T222017
CREATED:20240105T232548Z
LAST-MODIFIED:20250923T162157Z
UID:10001259-1725548400-1725552000@foodinitiative.org
SUMMARY:FIGS Mobile Pantry-1st Thursday of the Month
DESCRIPTION:
URL:https://foodinitiative.org/event/figs-mobile-pantry-12/2024-09-05/
LOCATION:St. Matthias Anglican Church\, 101 S. First Avenue\, OAKDALE\, CA\, 95361\, United States
END:VEVENT
BEGIN:VEVENT
DTSTART;TZID=UTC:20240801T150000
DTEND;TZID=UTC:20240801T160000
DTSTAMP:20260424T222017
CREATED:20240105T232548Z
LAST-MODIFIED:20250923T162157Z
UID:10001258-1722524400-1722528000@foodinitiative.org
SUMMARY:FIGS Mobile Pantry-1st Thursday of the Month
DESCRIPTION:
URL:https://foodinitiative.org/event/figs-mobile-pantry-12/2024-08-01/
LOCATION:St. Matthias Anglican Church\, 101 S. First Avenue\, OAKDALE\, CA\, 95361\, United States
END:VEVENT
BEGIN:VEVENT
DTSTART;TZID=UTC:20240704T150000
DTEND;TZID=UTC:20240704T160000
DTSTAMP:20260424T222017
CREATED:20240105T232548Z
LAST-MODIFIED:20250923T162157Z
UID:10001257-1720105200-1720108800@foodinitiative.org
SUMMARY:FIGS Mobile Pantry-1st Thursday of the Month
DESCRIPTION:
URL:https://foodinitiative.org/event/figs-mobile-pantry-12/2024-07-04/
LOCATION:St. Matthias Anglican Church\, 101 S. First Avenue\, OAKDALE\, CA\, 95361\, United States
END:VEVENT
BEGIN:VEVENT
DTSTART;TZID=UTC:20240606T150000
DTEND;TZID=UTC:20240606T160000
DTSTAMP:20260424T222017
CREATED:20240105T232548Z
LAST-MODIFIED:20250923T162157Z
UID:10001256-1717686000-1717689600@foodinitiative.org
SUMMARY:FIGS Mobile Pantry-1st Thursday of the Month
DESCRIPTION:
URL:https://foodinitiative.org/event/figs-mobile-pantry-12/2024-06-06/
LOCATION:St. Matthias Anglican Church\, 101 S. First Avenue\, OAKDALE\, CA\, 95361\, United States
END:VEVENT
BEGIN:VEVENT
DTSTART;TZID=UTC:20240502T150000
DTEND;TZID=UTC:20240502T160000
DTSTAMP:20260424T222017
CREATED:20240105T232548Z
LAST-MODIFIED:20250923T162157Z
UID:10003513-1714662000-1714665600@foodinitiative.org
SUMMARY:FIGS Mobile Pantry-1st Thursday of the Month
DESCRIPTION:
URL:https://foodinitiative.org/event/figs-mobile-pantry-12/2024-05-02/
LOCATION:St. Matthias Anglican Church\, 101 S. First Avenue\, OAKDALE\, CA\, 95361\, United States
END:VEVENT
BEGIN:VEVENT
DTSTART;TZID=UTC:20240404T150000
DTEND;TZID=UTC:20240404T160000
DTSTAMP:20260424T222017
CREATED:20240105T232548Z
LAST-MODIFIED:20250923T162157Z
UID:10001254-1712242800-1712246400@foodinitiative.org
SUMMARY:FIGS Mobile Pantry-1st Thursday of the Month
DESCRIPTION:
URL:https://foodinitiative.org/event/figs-mobile-pantry-12/2024-04-04/
LOCATION:St. Matthias Anglican Church\, 101 S. First Avenue\, OAKDALE\, CA\, 95361\, United States
END:VEVENT
BEGIN:VEVENT
DTSTART;TZID=UTC:20240307T150000
DTEND;TZID=UTC:20240307T160000
DTSTAMP:20260424T222017
CREATED:20240105T232548Z
LAST-MODIFIED:20250923T162157Z
UID:10001253-1709823600-1709827200@foodinitiative.org
SUMMARY:FIGS Mobile Pantry-1st Thursday of the Month
DESCRIPTION:
URL:https://foodinitiative.org/event/figs-mobile-pantry-12/2024-03-07/
LOCATION:St. Matthias Anglican Church\, 101 S. First Avenue\, OAKDALE\, CA\, 95361\, United States
END:VEVENT
BEGIN:VEVENT
DTSTART;TZID=UTC:20240201T150000
DTEND;TZID=UTC:20240201T160000
DTSTAMP:20260424T222017
CREATED:20240105T232548Z
LAST-MODIFIED:20250923T162157Z
UID:10001252-1706799600-1706803200@foodinitiative.org
SUMMARY:FIGS Mobile Pantry-1st Thursday of the Month
DESCRIPTION:
URL:https://foodinitiative.org/event/figs-mobile-pantry-12/2024-02-01/
LOCATION:St. Matthias Anglican Church\, 101 S. First Avenue\, OAKDALE\, CA\, 95361\, United States
END:VEVENT
END:VCALENDAR