BEGIN:VCALENDAR
VERSION:2.0
PRODID:-//The Food Initiative - ECPv6.15.20//NONSGML v1.0//EN
CALSCALE:GREGORIAN
METHOD:PUBLISH
X-WR-CALNAME:The Food Initiative
X-ORIGINAL-URL:https://foodinitiative.org
X-WR-CALDESC:Events for The Food Initiative
REFRESH-INTERVAL;VALUE=DURATION:PT1H
X-Robots-Tag:noindex
X-PUBLISHED-TTL:PT1H
BEGIN:VTIMEZONE
TZID:UTC
BEGIN:STANDARD
TZOFFSETFROM:+0000
TZOFFSETTO:+0000
TZNAME:UTC
DTSTART:20260101T000000
END:STANDARD
END:VTIMEZONE
BEGIN:VEVENT
DTSTART;TZID=UTC:20270309T133000
DTEND;TZID=UTC:20270309T150000
DTSTAMP:20260424T213217
CREATED:20250811T193642Z
LAST-MODIFIED:20250811T194637Z
UID:10003760-1804599000-1804604400@foodinitiative.org
SUMMARY:FIGS Mobile Pantry-2nd Tuesday of the Month
DESCRIPTION:
URL:https://foodinitiative.org/event/figs-mobile-pantry-2nd-tuesday-of-the-month/2027-03-09/
LOCATION:Sierra Vista\, 906 Imperial Ave\, Modesto\, CA\, 95358\, United States
END:VEVENT
BEGIN:VEVENT
DTSTART;TZID=UTC:20270413T133000
DTEND;TZID=UTC:20270413T150000
DTSTAMP:20260424T213217
CREATED:20250811T193642Z
LAST-MODIFIED:20250811T194637Z
UID:10003761-1807623000-1807628400@foodinitiative.org
SUMMARY:FIGS Mobile Pantry-2nd Tuesday of the Month
DESCRIPTION:
URL:https://foodinitiative.org/event/figs-mobile-pantry-2nd-tuesday-of-the-month/2027-04-13/
LOCATION:Sierra Vista\, 906 Imperial Ave\, Modesto\, CA\, 95358\, United States
END:VEVENT
BEGIN:VEVENT
DTSTART;TZID=UTC:20270511T133000
DTEND;TZID=UTC:20270511T150000
DTSTAMP:20260424T213217
CREATED:20250811T193642Z
LAST-MODIFIED:20250811T194637Z
UID:10003762-1810042200-1810047600@foodinitiative.org
SUMMARY:FIGS Mobile Pantry-2nd Tuesday of the Month
DESCRIPTION:
URL:https://foodinitiative.org/event/figs-mobile-pantry-2nd-tuesday-of-the-month/2027-05-11/
LOCATION:Sierra Vista\, 906 Imperial Ave\, Modesto\, CA\, 95358\, United States
END:VEVENT
BEGIN:VEVENT
DTSTART;TZID=UTC:20270608T133000
DTEND;TZID=UTC:20270608T150000
DTSTAMP:20260424T213217
CREATED:20250811T193642Z
LAST-MODIFIED:20250811T194637Z
UID:10003763-1812461400-1812466800@foodinitiative.org
SUMMARY:FIGS Mobile Pantry-2nd Tuesday of the Month
DESCRIPTION:
URL:https://foodinitiative.org/event/figs-mobile-pantry-2nd-tuesday-of-the-month/2027-06-08/
LOCATION:Sierra Vista\, 906 Imperial Ave\, Modesto\, CA\, 95358\, United States
END:VEVENT
BEGIN:VEVENT
DTSTART;TZID=UTC:20270713T133000
DTEND;TZID=UTC:20270713T150000
DTSTAMP:20260424T213217
CREATED:20250811T193642Z
LAST-MODIFIED:20250811T194637Z
UID:10003764-1815485400-1815490800@foodinitiative.org
SUMMARY:FIGS Mobile Pantry-2nd Tuesday of the Month
DESCRIPTION:
URL:https://foodinitiative.org/event/figs-mobile-pantry-2nd-tuesday-of-the-month/2027-07-13/
LOCATION:Sierra Vista\, 906 Imperial Ave\, Modesto\, CA\, 95358\, United States
END:VEVENT
BEGIN:VEVENT
DTSTART;TZID=UTC:20270810T133000
DTEND;TZID=UTC:20270810T150000
DTSTAMP:20260424T213217
CREATED:20250811T193642Z
LAST-MODIFIED:20250811T194637Z
UID:10003765-1817904600-1817910000@foodinitiative.org
SUMMARY:FIGS Mobile Pantry-2nd Tuesday of the Month
DESCRIPTION:
URL:https://foodinitiative.org/event/figs-mobile-pantry-2nd-tuesday-of-the-month/2027-08-10/
LOCATION:Sierra Vista\, 906 Imperial Ave\, Modesto\, CA\, 95358\, United States
END:VEVENT
BEGIN:VEVENT
DTSTART;TZID=UTC:20270914T133000
DTEND;TZID=UTC:20270914T150000
DTSTAMP:20260424T213217
CREATED:20250811T193642Z
LAST-MODIFIED:20250811T194637Z
UID:10003766-1820928600-1820934000@foodinitiative.org
SUMMARY:FIGS Mobile Pantry-2nd Tuesday of the Month
DESCRIPTION:
URL:https://foodinitiative.org/event/figs-mobile-pantry-2nd-tuesday-of-the-month/2027-09-14/
LOCATION:Sierra Vista\, 906 Imperial Ave\, Modesto\, CA\, 95358\, United States
END:VEVENT
BEGIN:VEVENT
DTSTART;TZID=UTC:20271012T133000
DTEND;TZID=UTC:20271012T150000
DTSTAMP:20260424T213217
CREATED:20250811T193642Z
LAST-MODIFIED:20250811T194637Z
UID:10003767-1823347800-1823353200@foodinitiative.org
SUMMARY:FIGS Mobile Pantry-2nd Tuesday of the Month
DESCRIPTION:
URL:https://foodinitiative.org/event/figs-mobile-pantry-2nd-tuesday-of-the-month/2027-10-12/
LOCATION:Sierra Vista\, 906 Imperial Ave\, Modesto\, CA\, 95358\, United States
END:VEVENT
BEGIN:VEVENT
DTSTART;TZID=UTC:20271109T133000
DTEND;TZID=UTC:20271109T150000
DTSTAMP:20260424T213217
CREATED:20250811T193642Z
LAST-MODIFIED:20250811T194637Z
UID:10003768-1825767000-1825772400@foodinitiative.org
SUMMARY:FIGS Mobile Pantry-2nd Tuesday of the Month
DESCRIPTION:
URL:https://foodinitiative.org/event/figs-mobile-pantry-2nd-tuesday-of-the-month/2027-11-09/
LOCATION:Sierra Vista\, 906 Imperial Ave\, Modesto\, CA\, 95358\, United States
END:VEVENT
BEGIN:VEVENT
DTSTART;TZID=UTC:20271214T133000
DTEND;TZID=UTC:20271214T150000
DTSTAMP:20260424T213217
CREATED:20250811T193642Z
LAST-MODIFIED:20250811T194637Z
UID:10003769-1828791000-1828796400@foodinitiative.org
SUMMARY:FIGS Mobile Pantry-2nd Tuesday of the Month
DESCRIPTION:
URL:https://foodinitiative.org/event/figs-mobile-pantry-2nd-tuesday-of-the-month/2027-12-14/
LOCATION:Sierra Vista\, 906 Imperial Ave\, Modesto\, CA\, 95358\, United States
END:VEVENT
BEGIN:VEVENT
DTSTART;TZID=UTC:20280111T133000
DTEND;TZID=UTC:20280111T150000
DTSTAMP:20260424T213217
CREATED:20250811T193642Z
LAST-MODIFIED:20250811T194637Z
UID:10003770-1831210200-1831215600@foodinitiative.org
SUMMARY:FIGS Mobile Pantry-2nd Tuesday of the Month
DESCRIPTION:
URL:https://foodinitiative.org/event/figs-mobile-pantry-2nd-tuesday-of-the-month/2028-01-11/
LOCATION:Sierra Vista\, 906 Imperial Ave\, Modesto\, CA\, 95358\, United States
END:VEVENT
BEGIN:VEVENT
DTSTART;TZID=UTC:20280208T133000
DTEND;TZID=UTC:20280208T150000
DTSTAMP:20260424T213217
CREATED:20250811T193642Z
LAST-MODIFIED:20250811T194637Z
UID:10003771-1833629400-1833634800@foodinitiative.org
SUMMARY:FIGS Mobile Pantry-2nd Tuesday of the Month
DESCRIPTION:
URL:https://foodinitiative.org/event/figs-mobile-pantry-2nd-tuesday-of-the-month/2028-02-08/
LOCATION:Sierra Vista\, 906 Imperial Ave\, Modesto\, CA\, 95358\, United States
END:VEVENT
BEGIN:VEVENT
DTSTART;TZID=UTC:20280314T133000
DTEND;TZID=UTC:20280314T150000
DTSTAMP:20260424T213217
CREATED:20250811T193642Z
LAST-MODIFIED:20250811T194637Z
UID:10003772-1836653400-1836658800@foodinitiative.org
SUMMARY:FIGS Mobile Pantry-2nd Tuesday of the Month
DESCRIPTION:
URL:https://foodinitiative.org/event/figs-mobile-pantry-2nd-tuesday-of-the-month/2028-03-14/
LOCATION:Sierra Vista\, 906 Imperial Ave\, Modesto\, CA\, 95358\, United States
END:VEVENT
BEGIN:VEVENT
DTSTART;TZID=UTC:20280411T133000
DTEND;TZID=UTC:20280411T150000
DTSTAMP:20260424T213217
CREATED:20250811T193642Z
LAST-MODIFIED:20250811T194637Z
UID:10003773-1839072600-1839078000@foodinitiative.org
SUMMARY:FIGS Mobile Pantry-2nd Tuesday of the Month
DESCRIPTION:
URL:https://foodinitiative.org/event/figs-mobile-pantry-2nd-tuesday-of-the-month/2028-04-11/
LOCATION:Sierra Vista\, 906 Imperial Ave\, Modesto\, CA\, 95358\, United States
END:VEVENT
BEGIN:VEVENT
DTSTART;TZID=UTC:20280509T133000
DTEND;TZID=UTC:20280509T150000
DTSTAMP:20260424T213217
CREATED:20250811T193642Z
LAST-MODIFIED:20250811T194637Z
UID:10003774-1841491800-1841497200@foodinitiative.org
SUMMARY:FIGS Mobile Pantry-2nd Tuesday of the Month
DESCRIPTION:
URL:https://foodinitiative.org/event/figs-mobile-pantry-2nd-tuesday-of-the-month/2028-05-09/
LOCATION:Sierra Vista\, 906 Imperial Ave\, Modesto\, CA\, 95358\, United States
END:VEVENT
BEGIN:VEVENT
DTSTART;TZID=UTC:20280613T133000
DTEND;TZID=UTC:20280613T150000
DTSTAMP:20260424T213217
CREATED:20250811T193642Z
LAST-MODIFIED:20250811T194637Z
UID:10003775-1844515800-1844521200@foodinitiative.org
SUMMARY:FIGS Mobile Pantry-2nd Tuesday of the Month
DESCRIPTION:
URL:https://foodinitiative.org/event/figs-mobile-pantry-2nd-tuesday-of-the-month/2028-06-13/
LOCATION:Sierra Vista\, 906 Imperial Ave\, Modesto\, CA\, 95358\, United States
END:VEVENT
BEGIN:VEVENT
DTSTART;TZID=UTC:20280711T133000
DTEND;TZID=UTC:20280711T150000
DTSTAMP:20260424T213217
CREATED:20250811T193642Z
LAST-MODIFIED:20250811T194637Z
UID:10003776-1846935000-1846940400@foodinitiative.org
SUMMARY:FIGS Mobile Pantry-2nd Tuesday of the Month
DESCRIPTION:
URL:https://foodinitiative.org/event/figs-mobile-pantry-2nd-tuesday-of-the-month/2028-07-11/
LOCATION:Sierra Vista\, 906 Imperial Ave\, Modesto\, CA\, 95358\, United States
END:VEVENT
BEGIN:VEVENT
DTSTART;TZID=UTC:20280808T133000
DTEND;TZID=UTC:20280808T150000
DTSTAMP:20260424T213217
CREATED:20250811T193642Z
LAST-MODIFIED:20250811T194637Z
UID:10003777-1849354200-1849359600@foodinitiative.org
SUMMARY:FIGS Mobile Pantry-2nd Tuesday of the Month
DESCRIPTION:
URL:https://foodinitiative.org/event/figs-mobile-pantry-2nd-tuesday-of-the-month/2028-08-08/
LOCATION:Sierra Vista\, 906 Imperial Ave\, Modesto\, CA\, 95358\, United States
END:VEVENT
BEGIN:VEVENT
DTSTART;TZID=UTC:20280912T133000
DTEND;TZID=UTC:20280912T150000
DTSTAMP:20260424T213217
CREATED:20250811T193642Z
LAST-MODIFIED:20250811T194637Z
UID:10003778-1852378200-1852383600@foodinitiative.org
SUMMARY:FIGS Mobile Pantry-2nd Tuesday of the Month
DESCRIPTION:
URL:https://foodinitiative.org/event/figs-mobile-pantry-2nd-tuesday-of-the-month/2028-09-12/
LOCATION:Sierra Vista\, 906 Imperial Ave\, Modesto\, CA\, 95358\, United States
END:VEVENT
BEGIN:VEVENT
DTSTART;TZID=UTC:20281010T133000
DTEND;TZID=UTC:20281010T150000
DTSTAMP:20260424T213217
CREATED:20250811T193642Z
LAST-MODIFIED:20250811T194637Z
UID:10003779-1854797400-1854802800@foodinitiative.org
SUMMARY:FIGS Mobile Pantry-2nd Tuesday of the Month
DESCRIPTION:
URL:https://foodinitiative.org/event/figs-mobile-pantry-2nd-tuesday-of-the-month/2028-10-10/
LOCATION:Sierra Vista\, 906 Imperial Ave\, Modesto\, CA\, 95358\, United States
END:VEVENT
BEGIN:VEVENT
DTSTART;TZID=UTC:20281114T133000
DTEND;TZID=UTC:20281114T150000
DTSTAMP:20260424T213217
CREATED:20250811T193642Z
LAST-MODIFIED:20250811T194637Z
UID:10003780-1857821400-1857826800@foodinitiative.org
SUMMARY:FIGS Mobile Pantry-2nd Tuesday of the Month
DESCRIPTION:
URL:https://foodinitiative.org/event/figs-mobile-pantry-2nd-tuesday-of-the-month/2028-11-14/
LOCATION:Sierra Vista\, 906 Imperial Ave\, Modesto\, CA\, 95358\, United States
END:VEVENT
BEGIN:VEVENT
DTSTART;TZID=UTC:20281212T133000
DTEND;TZID=UTC:20281212T150000
DTSTAMP:20260424T213217
CREATED:20250811T193642Z
LAST-MODIFIED:20250811T194637Z
UID:10003781-1860240600-1860246000@foodinitiative.org
SUMMARY:FIGS Mobile Pantry-2nd Tuesday of the Month
DESCRIPTION:
URL:https://foodinitiative.org/event/figs-mobile-pantry-2nd-tuesday-of-the-month/2028-12-12/
LOCATION:Sierra Vista\, 906 Imperial Ave\, Modesto\, CA\, 95358\, United States
END:VEVENT
BEGIN:VEVENT
DTSTART;TZID=UTC:20290109T133000
DTEND;TZID=UTC:20290109T150000
DTSTAMP:20260424T213217
CREATED:20250811T193642Z
LAST-MODIFIED:20250811T194637Z
UID:10003782-1862659800-1862665200@foodinitiative.org
SUMMARY:FIGS Mobile Pantry-2nd Tuesday of the Month
DESCRIPTION:
URL:https://foodinitiative.org/event/figs-mobile-pantry-2nd-tuesday-of-the-month/2029-01-09/
LOCATION:Sierra Vista\, 906 Imperial Ave\, Modesto\, CA\, 95358\, United States
END:VEVENT
BEGIN:VEVENT
DTSTART;TZID=UTC:20290213T133000
DTEND;TZID=UTC:20290213T150000
DTSTAMP:20260424T213217
CREATED:20250811T193642Z
LAST-MODIFIED:20250811T194637Z
UID:10003783-1865683800-1865689200@foodinitiative.org
SUMMARY:FIGS Mobile Pantry-2nd Tuesday of the Month
DESCRIPTION:
URL:https://foodinitiative.org/event/figs-mobile-pantry-2nd-tuesday-of-the-month/2029-02-13/
LOCATION:Sierra Vista\, 906 Imperial Ave\, Modesto\, CA\, 95358\, United States
END:VEVENT
BEGIN:VEVENT
DTSTART;TZID=UTC:20290313T133000
DTEND;TZID=UTC:20290313T150000
DTSTAMP:20260424T213217
CREATED:20250811T193642Z
LAST-MODIFIED:20250811T194637Z
UID:10003784-1868103000-1868108400@foodinitiative.org
SUMMARY:FIGS Mobile Pantry-2nd Tuesday of the Month
DESCRIPTION:
URL:https://foodinitiative.org/event/figs-mobile-pantry-2nd-tuesday-of-the-month/2029-03-13/
LOCATION:Sierra Vista\, 906 Imperial Ave\, Modesto\, CA\, 95358\, United States
END:VEVENT
BEGIN:VEVENT
DTSTART;TZID=UTC:20290410T133000
DTEND;TZID=UTC:20290410T150000
DTSTAMP:20260424T213217
CREATED:20250811T193642Z
LAST-MODIFIED:20250811T194637Z
UID:10003785-1870522200-1870527600@foodinitiative.org
SUMMARY:FIGS Mobile Pantry-2nd Tuesday of the Month
DESCRIPTION:
URL:https://foodinitiative.org/event/figs-mobile-pantry-2nd-tuesday-of-the-month/2029-04-10/
LOCATION:Sierra Vista\, 906 Imperial Ave\, Modesto\, CA\, 95358\, United States
END:VEVENT
BEGIN:VEVENT
DTSTART;TZID=UTC:20290508T133000
DTEND;TZID=UTC:20290508T150000
DTSTAMP:20260424T213217
CREATED:20250811T193642Z
LAST-MODIFIED:20250811T194637Z
UID:10003786-1872941400-1872946800@foodinitiative.org
SUMMARY:FIGS Mobile Pantry-2nd Tuesday of the Month
DESCRIPTION:
URL:https://foodinitiative.org/event/figs-mobile-pantry-2nd-tuesday-of-the-month/2029-05-08/
LOCATION:Sierra Vista\, 906 Imperial Ave\, Modesto\, CA\, 95358\, United States
END:VEVENT
BEGIN:VEVENT
DTSTART;TZID=UTC:20290612T133000
DTEND;TZID=UTC:20290612T150000
DTSTAMP:20260424T213217
CREATED:20250811T193642Z
LAST-MODIFIED:20250811T194637Z
UID:10003787-1875965400-1875970800@foodinitiative.org
SUMMARY:FIGS Mobile Pantry-2nd Tuesday of the Month
DESCRIPTION:
URL:https://foodinitiative.org/event/figs-mobile-pantry-2nd-tuesday-of-the-month/2029-06-12/
LOCATION:Sierra Vista\, 906 Imperial Ave\, Modesto\, CA\, 95358\, United States
END:VEVENT
BEGIN:VEVENT
DTSTART;TZID=UTC:20290710T133000
DTEND;TZID=UTC:20290710T150000
DTSTAMP:20260424T213217
CREATED:20250811T193642Z
LAST-MODIFIED:20250811T194637Z
UID:10003788-1878384600-1878390000@foodinitiative.org
SUMMARY:FIGS Mobile Pantry-2nd Tuesday of the Month
DESCRIPTION:
URL:https://foodinitiative.org/event/figs-mobile-pantry-2nd-tuesday-of-the-month/2029-07-10/
LOCATION:Sierra Vista\, 906 Imperial Ave\, Modesto\, CA\, 95358\, United States
END:VEVENT
BEGIN:VEVENT
DTSTART;TZID=UTC:20290814T133000
DTEND;TZID=UTC:20290814T150000
DTSTAMP:20260424T213217
CREATED:20250811T193642Z
LAST-MODIFIED:20250811T194637Z
UID:10003789-1881408600-1881414000@foodinitiative.org
SUMMARY:FIGS Mobile Pantry-2nd Tuesday of the Month
DESCRIPTION:
URL:https://foodinitiative.org/event/figs-mobile-pantry-2nd-tuesday-of-the-month/2029-08-14/
LOCATION:Sierra Vista\, 906 Imperial Ave\, Modesto\, CA\, 95358\, United States
END:VEVENT
END:VCALENDAR