BEGIN:VCALENDAR
VERSION:2.0
PRODID:-//The Food Initiative - ECPv6.15.20//NONSGML v1.0//EN
CALSCALE:GREGORIAN
METHOD:PUBLISH
X-ORIGINAL-URL:https://foodinitiative.org
X-WR-CALDESC:Events for The Food Initiative
REFRESH-INTERVAL;VALUE=DURATION:PT1H
X-Robots-Tag:noindex
X-PUBLISHED-TTL:PT1H
BEGIN:VTIMEZONE
TZID:UTC
BEGIN:STANDARD
TZOFFSETFROM:+0000
TZOFFSETTO:+0000
TZNAME:UTC
DTSTART:20260101T000000
END:STANDARD
END:VTIMEZONE
BEGIN:VEVENT
DTSTART;TZID=UTC:20270211T093000
DTEND;TZID=UTC:20270211T110000
DTSTAMP:20260425T015701
CREATED:20250407T221317Z
LAST-MODIFIED:20260423T153030Z
UID:10003833-1802338200-1802343600@foodinitiative.org
SUMMARY:FIGS Mobile Pantry-2nd Thursday of the Month
DESCRIPTION:
URL:https://foodinitiative.org/event/figs-mobile-pantry-2nd-thursday-of-the-month/2027-02-11/
LOCATION:Modesto Gospel Mission\, 1400 Yosemite Blvd\, Modesto\, CA\, 95354\, United States
END:VEVENT
BEGIN:VEVENT
DTSTART;TZID=UTC:20270223T093000
DTEND;TZID=UTC:20270223T110000
DTSTAMP:20260425T015701
CREATED:20240105T231908Z
LAST-MODIFIED:20260423T153319Z
UID:10004098-1803375000-1803380400@foodinitiative.org
SUMMARY:FIGS Mobile Pantry-4th Tuesday of the Month
DESCRIPTION:
URL:https://foodinitiative.org/event/figs-mobile-pantry-5/2027-02-23/
LOCATION:Modesto Gospel Mission\, 1400 Yosemite Blvd\, Modesto\, CA\, 95354\, United States
END:VEVENT
BEGIN:VEVENT
DTSTART;TZID=UTC:20270305T093000
DTEND;TZID=UTC:20270305T110000
DTSTAMP:20260425T015701
CREATED:20240105T235104Z
LAST-MODIFIED:20260423T153221Z
UID:10003981-1804239000-1804244400@foodinitiative.org
SUMMARY:FIGS Mobile Pantry-1st Friday of the Month
DESCRIPTION:
URL:https://foodinitiative.org/event/figs-mobile-pantry-13/2027-03-05/
LOCATION:Modesto Gospel Mission\, 1400 Yosemite Blvd\, Modesto\, CA\, 95354\, United States
END:VEVENT
BEGIN:VEVENT
DTSTART;TZID=UTC:20270311T093000
DTEND;TZID=UTC:20270311T110000
DTSTAMP:20260425T015701
CREATED:20250407T221317Z
LAST-MODIFIED:20260423T153030Z
UID:10003834-1804757400-1804762800@foodinitiative.org
SUMMARY:FIGS Mobile Pantry-2nd Thursday of the Month
DESCRIPTION:
URL:https://foodinitiative.org/event/figs-mobile-pantry-2nd-thursday-of-the-month/2027-03-11/
LOCATION:Modesto Gospel Mission\, 1400 Yosemite Blvd\, Modesto\, CA\, 95354\, United States
END:VEVENT
BEGIN:VEVENT
DTSTART;TZID=UTC:20270323T093000
DTEND;TZID=UTC:20270323T110000
DTSTAMP:20260425T015701
CREATED:20240105T231908Z
LAST-MODIFIED:20260423T153319Z
UID:10004099-1805794200-1805799600@foodinitiative.org
SUMMARY:FIGS Mobile Pantry-4th Tuesday of the Month
DESCRIPTION:
URL:https://foodinitiative.org/event/figs-mobile-pantry-5/2027-03-23/
LOCATION:Modesto Gospel Mission\, 1400 Yosemite Blvd\, Modesto\, CA\, 95354\, United States
END:VEVENT
BEGIN:VEVENT
DTSTART;TZID=UTC:20270330T093000
DTEND;TZID=UTC:20270330T110000
DTSTAMP:20260425T015701
CREATED:20240105T232034Z
LAST-MODIFIED:20260423T153248Z
UID:10004044-1806399000-1806404400@foodinitiative.org
SUMMARY:FIGS Mobile Pantry-5th Tuesday of the Month
DESCRIPTION:
URL:https://foodinitiative.org/event/figs-mobile-pantry-6/2027-03-30/
LOCATION:Modesto Gospel Mission\, 1400 Yosemite Blvd\, Modesto\, CA\, 95354\, United States
END:VEVENT
BEGIN:VEVENT
DTSTART;TZID=UTC:20270402T093000
DTEND;TZID=UTC:20270402T110000
DTSTAMP:20260425T015701
CREATED:20240105T235104Z
LAST-MODIFIED:20260423T153221Z
UID:10003982-1806658200-1806663600@foodinitiative.org
SUMMARY:FIGS Mobile Pantry-1st Friday of the Month
DESCRIPTION:
URL:https://foodinitiative.org/event/figs-mobile-pantry-13/2027-04-02/
LOCATION:Modesto Gospel Mission\, 1400 Yosemite Blvd\, Modesto\, CA\, 95354\, United States
END:VEVENT
BEGIN:VEVENT
DTSTART;TZID=UTC:20270408T093000
DTEND;TZID=UTC:20270408T110000
DTSTAMP:20260425T015701
CREATED:20250407T221317Z
LAST-MODIFIED:20260423T153030Z
UID:10003835-1807176600-1807182000@foodinitiative.org
SUMMARY:FIGS Mobile Pantry-2nd Thursday of the Month
DESCRIPTION:
URL:https://foodinitiative.org/event/figs-mobile-pantry-2nd-thursday-of-the-month/2027-04-08/
LOCATION:Modesto Gospel Mission\, 1400 Yosemite Blvd\, Modesto\, CA\, 95354\, United States
END:VEVENT
BEGIN:VEVENT
DTSTART;TZID=UTC:20270427T093000
DTEND;TZID=UTC:20270427T110000
DTSTAMP:20260425T015701
CREATED:20240105T231908Z
LAST-MODIFIED:20260423T153319Z
UID:10004100-1808818200-1808823600@foodinitiative.org
SUMMARY:FIGS Mobile Pantry-4th Tuesday of the Month
DESCRIPTION:
URL:https://foodinitiative.org/event/figs-mobile-pantry-5/2027-04-27/
LOCATION:Modesto Gospel Mission\, 1400 Yosemite Blvd\, Modesto\, CA\, 95354\, United States
END:VEVENT
BEGIN:VEVENT
DTSTART;TZID=UTC:20270429T093000
DTEND;TZID=UTC:20270429T110000
DTSTAMP:20260425T015701
CREATED:20240105T234938Z
LAST-MODIFIED:20260423T153155Z
UID:10003927-1808991000-1808996400@foodinitiative.org
SUMMARY:FIGS Mobile Pantry-5th Thursday of the Month
DESCRIPTION:
URL:https://foodinitiative.org/event/figs-mobile-pantry-7/2027-04-29/
LOCATION:Modesto Gospel Mission\, 1400 Yosemite Blvd\, Modesto\, CA\, 95354\, United States
END:VEVENT
BEGIN:VEVENT
DTSTART;TZID=UTC:20270430T093000
DTEND;TZID=UTC:20270430T110000
DTSTAMP:20260425T015701
CREATED:20250407T201439Z
LAST-MODIFIED:20260423T153121Z
UID:10003897-1809077400-1809082800@foodinitiative.org
SUMMARY:FIGS Mobile Pantry-5th Friday of the Month
DESCRIPTION:
URL:https://foodinitiative.org/event/figs-mobile-pantry-5th-friday-of-the-month/2027-04-30/
LOCATION:Modesto Gospel Mission\, 1400 Yosemite Blvd\, Modesto\, CA\, 95354\, United States
END:VEVENT
BEGIN:VEVENT
DTSTART;TZID=UTC:20270507T093000
DTEND;TZID=UTC:20270507T110000
DTSTAMP:20260425T015701
CREATED:20240105T235104Z
LAST-MODIFIED:20260423T153221Z
UID:10003983-1809682200-1809687600@foodinitiative.org
SUMMARY:FIGS Mobile Pantry-1st Friday of the Month
DESCRIPTION:
URL:https://foodinitiative.org/event/figs-mobile-pantry-13/2027-05-07/
LOCATION:Modesto Gospel Mission\, 1400 Yosemite Blvd\, Modesto\, CA\, 95354\, United States
END:VEVENT
BEGIN:VEVENT
DTSTART;TZID=UTC:20270513T093000
DTEND;TZID=UTC:20270513T110000
DTSTAMP:20260425T015701
CREATED:20250407T221317Z
LAST-MODIFIED:20260423T153030Z
UID:10003836-1810200600-1810206000@foodinitiative.org
SUMMARY:FIGS Mobile Pantry-2nd Thursday of the Month
DESCRIPTION:
URL:https://foodinitiative.org/event/figs-mobile-pantry-2nd-thursday-of-the-month/2027-05-13/
LOCATION:Modesto Gospel Mission\, 1400 Yosemite Blvd\, Modesto\, CA\, 95354\, United States
END:VEVENT
BEGIN:VEVENT
DTSTART;TZID=UTC:20270525T093000
DTEND;TZID=UTC:20270525T110000
DTSTAMP:20260425T015701
CREATED:20240105T231908Z
LAST-MODIFIED:20260423T153319Z
UID:10004101-1811237400-1811242800@foodinitiative.org
SUMMARY:FIGS Mobile Pantry-4th Tuesday of the Month
DESCRIPTION:
URL:https://foodinitiative.org/event/figs-mobile-pantry-5/2027-05-25/
LOCATION:Modesto Gospel Mission\, 1400 Yosemite Blvd\, Modesto\, CA\, 95354\, United States
END:VEVENT
BEGIN:VEVENT
DTSTART;TZID=UTC:20270604T093000
DTEND;TZID=UTC:20270604T110000
DTSTAMP:20260425T015701
CREATED:20240105T235104Z
LAST-MODIFIED:20260423T153221Z
UID:10003984-1812101400-1812106800@foodinitiative.org
SUMMARY:FIGS Mobile Pantry-1st Friday of the Month
DESCRIPTION:
URL:https://foodinitiative.org/event/figs-mobile-pantry-13/2027-06-04/
LOCATION:Modesto Gospel Mission\, 1400 Yosemite Blvd\, Modesto\, CA\, 95354\, United States
END:VEVENT
BEGIN:VEVENT
DTSTART;TZID=UTC:20270610T093000
DTEND;TZID=UTC:20270610T110000
DTSTAMP:20260425T015701
CREATED:20250407T221317Z
LAST-MODIFIED:20260423T153030Z
UID:10003837-1812619800-1812625200@foodinitiative.org
SUMMARY:FIGS Mobile Pantry-2nd Thursday of the Month
DESCRIPTION:
URL:https://foodinitiative.org/event/figs-mobile-pantry-2nd-thursday-of-the-month/2027-06-10/
LOCATION:Modesto Gospel Mission\, 1400 Yosemite Blvd\, Modesto\, CA\, 95354\, United States
END:VEVENT
BEGIN:VEVENT
DTSTART;TZID=UTC:20270622T093000
DTEND;TZID=UTC:20270622T110000
DTSTAMP:20260425T015701
CREATED:20240105T231908Z
LAST-MODIFIED:20260423T153319Z
UID:10004102-1813656600-1813662000@foodinitiative.org
SUMMARY:FIGS Mobile Pantry-4th Tuesday of the Month
DESCRIPTION:
URL:https://foodinitiative.org/event/figs-mobile-pantry-5/2027-06-22/
LOCATION:Modesto Gospel Mission\, 1400 Yosemite Blvd\, Modesto\, CA\, 95354\, United States
END:VEVENT
BEGIN:VEVENT
DTSTART;TZID=UTC:20270629T093000
DTEND;TZID=UTC:20270629T110000
DTSTAMP:20260425T015701
CREATED:20240105T232034Z
LAST-MODIFIED:20260423T153248Z
UID:10004045-1814261400-1814266800@foodinitiative.org
SUMMARY:FIGS Mobile Pantry-5th Tuesday of the Month
DESCRIPTION:
URL:https://foodinitiative.org/event/figs-mobile-pantry-6/2027-06-29/
LOCATION:Modesto Gospel Mission\, 1400 Yosemite Blvd\, Modesto\, CA\, 95354\, United States
END:VEVENT
BEGIN:VEVENT
DTSTART;TZID=UTC:20270702T093000
DTEND;TZID=UTC:20270702T110000
DTSTAMP:20260425T015701
CREATED:20240105T235104Z
LAST-MODIFIED:20260423T153221Z
UID:10003985-1814520600-1814526000@foodinitiative.org
SUMMARY:FIGS Mobile Pantry-1st Friday of the Month
DESCRIPTION:
URL:https://foodinitiative.org/event/figs-mobile-pantry-13/2027-07-02/
LOCATION:Modesto Gospel Mission\, 1400 Yosemite Blvd\, Modesto\, CA\, 95354\, United States
END:VEVENT
BEGIN:VEVENT
DTSTART;TZID=UTC:20270708T093000
DTEND;TZID=UTC:20270708T110000
DTSTAMP:20260425T015701
CREATED:20250407T221317Z
LAST-MODIFIED:20260423T153030Z
UID:10003838-1815039000-1815044400@foodinitiative.org
SUMMARY:FIGS Mobile Pantry-2nd Thursday of the Month
DESCRIPTION:
URL:https://foodinitiative.org/event/figs-mobile-pantry-2nd-thursday-of-the-month/2027-07-08/
LOCATION:Modesto Gospel Mission\, 1400 Yosemite Blvd\, Modesto\, CA\, 95354\, United States
END:VEVENT
BEGIN:VEVENT
DTSTART;TZID=UTC:20270727T093000
DTEND;TZID=UTC:20270727T110000
DTSTAMP:20260425T015701
CREATED:20240105T231908Z
LAST-MODIFIED:20260423T153319Z
UID:10004103-1816680600-1816686000@foodinitiative.org
SUMMARY:FIGS Mobile Pantry-4th Tuesday of the Month
DESCRIPTION:
URL:https://foodinitiative.org/event/figs-mobile-pantry-5/2027-07-27/
LOCATION:Modesto Gospel Mission\, 1400 Yosemite Blvd\, Modesto\, CA\, 95354\, United States
END:VEVENT
BEGIN:VEVENT
DTSTART;TZID=UTC:20270729T093000
DTEND;TZID=UTC:20270729T110000
DTSTAMP:20260425T015701
CREATED:20240105T234938Z
LAST-MODIFIED:20260423T153155Z
UID:10003928-1816853400-1816858800@foodinitiative.org
SUMMARY:FIGS Mobile Pantry-5th Thursday of the Month
DESCRIPTION:
URL:https://foodinitiative.org/event/figs-mobile-pantry-7/2027-07-29/
LOCATION:Modesto Gospel Mission\, 1400 Yosemite Blvd\, Modesto\, CA\, 95354\, United States
END:VEVENT
BEGIN:VEVENT
DTSTART;TZID=UTC:20270730T093000
DTEND;TZID=UTC:20270730T110000
DTSTAMP:20260425T015701
CREATED:20250407T201439Z
LAST-MODIFIED:20260423T153121Z
UID:10003898-1816939800-1816945200@foodinitiative.org
SUMMARY:FIGS Mobile Pantry-5th Friday of the Month
DESCRIPTION:
URL:https://foodinitiative.org/event/figs-mobile-pantry-5th-friday-of-the-month/2027-07-30/
LOCATION:Modesto Gospel Mission\, 1400 Yosemite Blvd\, Modesto\, CA\, 95354\, United States
END:VEVENT
BEGIN:VEVENT
DTSTART;TZID=UTC:20270806T093000
DTEND;TZID=UTC:20270806T110000
DTSTAMP:20260425T015701
CREATED:20240105T235104Z
LAST-MODIFIED:20260423T153221Z
UID:10003986-1817544600-1817550000@foodinitiative.org
SUMMARY:FIGS Mobile Pantry-1st Friday of the Month
DESCRIPTION:
URL:https://foodinitiative.org/event/figs-mobile-pantry-13/2027-08-06/
LOCATION:Modesto Gospel Mission\, 1400 Yosemite Blvd\, Modesto\, CA\, 95354\, United States
END:VEVENT
BEGIN:VEVENT
DTSTART;TZID=UTC:20270812T093000
DTEND;TZID=UTC:20270812T110000
DTSTAMP:20260425T015701
CREATED:20250407T221317Z
LAST-MODIFIED:20260423T153030Z
UID:10003839-1818063000-1818068400@foodinitiative.org
SUMMARY:FIGS Mobile Pantry-2nd Thursday of the Month
DESCRIPTION:
URL:https://foodinitiative.org/event/figs-mobile-pantry-2nd-thursday-of-the-month/2027-08-12/
LOCATION:Modesto Gospel Mission\, 1400 Yosemite Blvd\, Modesto\, CA\, 95354\, United States
END:VEVENT
BEGIN:VEVENT
DTSTART;TZID=UTC:20270824T093000
DTEND;TZID=UTC:20270824T110000
DTSTAMP:20260425T015701
CREATED:20240105T231908Z
LAST-MODIFIED:20260423T153319Z
UID:10004104-1819099800-1819105200@foodinitiative.org
SUMMARY:FIGS Mobile Pantry-4th Tuesday of the Month
DESCRIPTION:
URL:https://foodinitiative.org/event/figs-mobile-pantry-5/2027-08-24/
LOCATION:Modesto Gospel Mission\, 1400 Yosemite Blvd\, Modesto\, CA\, 95354\, United States
END:VEVENT
BEGIN:VEVENT
DTSTART;TZID=UTC:20270831T093000
DTEND;TZID=UTC:20270831T110000
DTSTAMP:20260425T015701
CREATED:20240105T232034Z
LAST-MODIFIED:20260423T153248Z
UID:10004046-1819704600-1819710000@foodinitiative.org
SUMMARY:FIGS Mobile Pantry-5th Tuesday of the Month
DESCRIPTION:
URL:https://foodinitiative.org/event/figs-mobile-pantry-6/2027-08-31/
LOCATION:Modesto Gospel Mission\, 1400 Yosemite Blvd\, Modesto\, CA\, 95354\, United States
END:VEVENT
BEGIN:VEVENT
DTSTART;TZID=UTC:20270903T093000
DTEND;TZID=UTC:20270903T110000
DTSTAMP:20260425T015701
CREATED:20240105T235104Z
LAST-MODIFIED:20260423T153221Z
UID:10003987-1819963800-1819969200@foodinitiative.org
SUMMARY:FIGS Mobile Pantry-1st Friday of the Month
DESCRIPTION:
URL:https://foodinitiative.org/event/figs-mobile-pantry-13/2027-09-03/
LOCATION:Modesto Gospel Mission\, 1400 Yosemite Blvd\, Modesto\, CA\, 95354\, United States
END:VEVENT
BEGIN:VEVENT
DTSTART;TZID=UTC:20270909T093000
DTEND;TZID=UTC:20270909T110000
DTSTAMP:20260425T015701
CREATED:20250407T221317Z
LAST-MODIFIED:20260423T153030Z
UID:10003840-1820482200-1820487600@foodinitiative.org
SUMMARY:FIGS Mobile Pantry-2nd Thursday of the Month
DESCRIPTION:
URL:https://foodinitiative.org/event/figs-mobile-pantry-2nd-thursday-of-the-month/2027-09-09/
LOCATION:Modesto Gospel Mission\, 1400 Yosemite Blvd\, Modesto\, CA\, 95354\, United States
END:VEVENT
BEGIN:VEVENT
DTSTART;TZID=UTC:20270928T093000
DTEND;TZID=UTC:20270928T110000
DTSTAMP:20260425T015701
CREATED:20240105T231908Z
LAST-MODIFIED:20260423T153319Z
UID:10004105-1822123800-1822129200@foodinitiative.org
SUMMARY:FIGS Mobile Pantry-4th Tuesday of the Month
DESCRIPTION:
URL:https://foodinitiative.org/event/figs-mobile-pantry-5/2027-09-28/
LOCATION:Modesto Gospel Mission\, 1400 Yosemite Blvd\, Modesto\, CA\, 95354\, United States
END:VEVENT
END:VCALENDAR