BEGIN:VCALENDAR
VERSION:2.0
PRODID:-//The Food Initiative - ECPv6.15.20//NONSGML v1.0//EN
CALSCALE:GREGORIAN
METHOD:PUBLISH
X-WR-CALNAME:The Food Initiative
X-ORIGINAL-URL:https://foodinitiative.org
X-WR-CALDESC:Events for The Food Initiative
REFRESH-INTERVAL;VALUE=DURATION:PT1H
X-Robots-Tag:noindex
X-PUBLISHED-TTL:PT1H
BEGIN:VTIMEZONE
TZID:UTC
BEGIN:STANDARD
TZOFFSETFROM:+0000
TZOFFSETTO:+0000
TZNAME:UTC
DTSTART:20240101T000000
END:STANDARD
END:VTIMEZONE
BEGIN:VEVENT
DTSTART;TZID=UTC:20260402T093000
DTEND;TZID=UTC:20260402T110000
DTSTAMP:20260424T235756
CREATED:20250407T195914Z
LAST-MODIFIED:20250407T195914Z
UID:10002486-1775122200-1775127600@foodinitiative.org
SUMMARY:FIGS Mobile Pantry-1st Thursday of the Month
DESCRIPTION:
URL:https://foodinitiative.org/event/figs-mobile-pantry-22-2-2/2026-04-02/
LOCATION:Harriette Kirschen Elementary\, 1900 Kirschen Dr\, Modesto\, California\, 95351
END:VEVENT
BEGIN:VEVENT
DTSTART;TZID=UTC:20260305T093000
DTEND;TZID=UTC:20260305T110000
DTSTAMP:20260424T235756
CREATED:20250407T195914Z
LAST-MODIFIED:20250407T195914Z
UID:10003248-1772703000-1772708400@foodinitiative.org
SUMMARY:FIGS Mobile Pantry-1st Thursday of the Month
DESCRIPTION:
URL:https://foodinitiative.org/event/figs-mobile-pantry-22-2-2/2026-03-05/
LOCATION:Harriette Kirschen Elementary\, 1900 Kirschen Dr\, Modesto\, California\, 95351
END:VEVENT
BEGIN:VEVENT
DTSTART;TZID=UTC:20260205T093000
DTEND;TZID=UTC:20260205T110000
DTSTAMP:20260424T235756
CREATED:20250407T195914Z
LAST-MODIFIED:20250407T195914Z
UID:10002484-1770283800-1770289200@foodinitiative.org
SUMMARY:FIGS Mobile Pantry-1st Thursday of the Month
DESCRIPTION:
URL:https://foodinitiative.org/event/figs-mobile-pantry-22-2-2/2026-02-05/
LOCATION:Harriette Kirschen Elementary\, 1900 Kirschen Dr\, Modesto\, California\, 95351
END:VEVENT
BEGIN:VEVENT
DTSTART;TZID=UTC:20260101T093000
DTEND;TZID=UTC:20260101T110000
DTSTAMP:20260424T235756
CREATED:20250407T195914Z
LAST-MODIFIED:20250407T195914Z
UID:10003247-1767259800-1767265200@foodinitiative.org
SUMMARY:FIGS Mobile Pantry-1st Thursday of the Month
DESCRIPTION:
URL:https://foodinitiative.org/event/figs-mobile-pantry-22-2-2/2026-01-01/
LOCATION:Harriette Kirschen Elementary\, 1900 Kirschen Dr\, Modesto\, California\, 95351
END:VEVENT
BEGIN:VEVENT
DTSTART;TZID=UTC:20251204T093000
DTEND;TZID=UTC:20251204T110000
DTSTAMP:20260424T235756
CREATED:20250407T195914Z
LAST-MODIFIED:20250407T195914Z
UID:10002482-1764840600-1764846000@foodinitiative.org
SUMMARY:FIGS Mobile Pantry-1st Thursday of the Month
DESCRIPTION:
URL:https://foodinitiative.org/event/figs-mobile-pantry-22-2-2/2025-12-04/
LOCATION:Harriette Kirschen Elementary\, 1900 Kirschen Dr\, Modesto\, California\, 95351
END:VEVENT
BEGIN:VEVENT
DTSTART;TZID=UTC:20251106T093000
DTEND;TZID=UTC:20251106T110000
DTSTAMP:20260424T235756
CREATED:20250407T195914Z
LAST-MODIFIED:20250407T195914Z
UID:10003246-1762421400-1762426800@foodinitiative.org
SUMMARY:FIGS Mobile Pantry-1st Thursday of the Month
DESCRIPTION:
URL:https://foodinitiative.org/event/figs-mobile-pantry-22-2-2/2025-11-06/
LOCATION:Harriette Kirschen Elementary\, 1900 Kirschen Dr\, Modesto\, California\, 95351
END:VEVENT
BEGIN:VEVENT
DTSTART;TZID=UTC:20251002T093000
DTEND;TZID=UTC:20251002T110000
DTSTAMP:20260424T235756
CREATED:20250407T195914Z
LAST-MODIFIED:20250407T195914Z
UID:10002480-1759397400-1759402800@foodinitiative.org
SUMMARY:FIGS Mobile Pantry-1st Thursday of the Month
DESCRIPTION:
URL:https://foodinitiative.org/event/figs-mobile-pantry-22-2-2/2025-10-02/
LOCATION:Harriette Kirschen Elementary\, 1900 Kirschen Dr\, Modesto\, California\, 95351
END:VEVENT
BEGIN:VEVENT
DTSTART;TZID=UTC:20250904T093000
DTEND;TZID=UTC:20250904T110000
DTSTAMP:20260424T235756
CREATED:20250407T195914Z
LAST-MODIFIED:20250407T195914Z
UID:10003245-1756978200-1756983600@foodinitiative.org
SUMMARY:FIGS Mobile Pantry-1st Thursday of the Month
DESCRIPTION:
URL:https://foodinitiative.org/event/figs-mobile-pantry-22-2-2/2025-09-04/
LOCATION:Harriette Kirschen Elementary\, 1900 Kirschen Dr\, Modesto\, California\, 95351
END:VEVENT
BEGIN:VEVENT
DTSTART;TZID=UTC:20250807T093000
DTEND;TZID=UTC:20250807T110000
DTSTAMP:20260424T235756
CREATED:20250407T195914Z
LAST-MODIFIED:20250407T195914Z
UID:10002478-1754559000-1754564400@foodinitiative.org
SUMMARY:FIGS Mobile Pantry-1st Thursday of the Month
DESCRIPTION:
URL:https://foodinitiative.org/event/figs-mobile-pantry-22-2-2/2025-08-07/
LOCATION:Harriette Kirschen Elementary\, 1900 Kirschen Dr\, Modesto\, California\, 95351
END:VEVENT
BEGIN:VEVENT
DTSTART;TZID=UTC:20250703T093000
DTEND;TZID=UTC:20250703T110000
DTSTAMP:20260424T235756
CREATED:20250407T195914Z
LAST-MODIFIED:20250407T195914Z
UID:10003244-1751535000-1751540400@foodinitiative.org
SUMMARY:FIGS Mobile Pantry-1st Thursday of the Month
DESCRIPTION:
URL:https://foodinitiative.org/event/figs-mobile-pantry-22-2-2/2025-07-03/
LOCATION:Harriette Kirschen Elementary\, 1900 Kirschen Dr\, Modesto\, California\, 95351
END:VEVENT
BEGIN:VEVENT
DTSTART;TZID=UTC:20250605T093000
DTEND;TZID=UTC:20250605T110000
DTSTAMP:20260424T235756
CREATED:20250407T195914Z
LAST-MODIFIED:20250407T195914Z
UID:10002476-1749115800-1749121200@foodinitiative.org
SUMMARY:FIGS Mobile Pantry-1st Thursday of the Month
DESCRIPTION:
URL:https://foodinitiative.org/event/figs-mobile-pantry-22-2-2/2025-06-05/
LOCATION:Harriette Kirschen Elementary\, 1900 Kirschen Dr\, Modesto\, California\, 95351
END:VEVENT
BEGIN:VEVENT
DTSTART;TZID=UTC:20250501T093000
DTEND;TZID=UTC:20250501T110000
DTSTAMP:20260424T235756
CREATED:20250407T195914Z
LAST-MODIFIED:20250407T195914Z
UID:10003243-1746091800-1746097200@foodinitiative.org
SUMMARY:FIGS Mobile Pantry-1st Thursday of the Month
DESCRIPTION:
URL:https://foodinitiative.org/event/figs-mobile-pantry-22-2-2/2025-05-01/
LOCATION:Harriette Kirschen Elementary\, 1900 Kirschen Dr\, Modesto\, California\, 95351
END:VEVENT
END:VCALENDAR