BEGIN:VCALENDAR
VERSION:2.0
PRODID:-//The Food Initiative - ECPv6.15.20//NONSGML v1.0//EN
CALSCALE:GREGORIAN
METHOD:PUBLISH
X-WR-CALNAME:The Food Initiative
X-ORIGINAL-URL:https://foodinitiative.org
X-WR-CALDESC:Events for The Food Initiative
REFRESH-INTERVAL;VALUE=DURATION:PT1H
X-Robots-Tag:noindex
X-PUBLISHED-TTL:PT1H
BEGIN:VTIMEZONE
TZID:UTC
BEGIN:STANDARD
TZOFFSETFROM:+0000
TZOFFSETTO:+0000
TZNAME:UTC
DTSTART:20230101T000000
END:STANDARD
END:VTIMEZONE
BEGIN:VEVENT
DTSTART;TZID=UTC:20260416T093000
DTEND;TZID=UTC:20260416T110000
DTSTAMP:20260424T221036
CREATED:20240520T213643Z
LAST-MODIFIED:20250407T193446Z
UID:10002854-1776331800-1776337200@foodinitiative.org
SUMMARY:FIGS Mobile Pantry-3rd Thursday of the Month
DESCRIPTION:
URL:https://foodinitiative.org/event/figs-mobile-pantry-25/2026-04-16/
LOCATION:Everett Elementary School\, 1530 Mt. Vernon Dr\, Modesto\, 95350\, United States
END:VEVENT
BEGIN:VEVENT
DTSTART;TZID=UTC:20260319T093000
DTEND;TZID=UTC:20260319T110000
DTSTAMP:20260424T221036
CREATED:20240520T213643Z
LAST-MODIFIED:20250407T193446Z
UID:10002853-1773912600-1773918000@foodinitiative.org
SUMMARY:FIGS Mobile Pantry-3rd Thursday of the Month
DESCRIPTION:
URL:https://foodinitiative.org/event/figs-mobile-pantry-25/2026-03-19/
LOCATION:Everett Elementary School\, 1530 Mt. Vernon Dr\, Modesto\, 95350\, United States
END:VEVENT
BEGIN:VEVENT
DTSTART;TZID=UTC:20260219T093000
DTEND;TZID=UTC:20260219T110000
DTSTAMP:20260424T221036
CREATED:20240520T213643Z
LAST-MODIFIED:20250407T193446Z
UID:10002852-1771493400-1771498800@foodinitiative.org
SUMMARY:FIGS Mobile Pantry-3rd Thursday of the Month
DESCRIPTION:
URL:https://foodinitiative.org/event/figs-mobile-pantry-25/2026-02-19/
LOCATION:Everett Elementary School\, 1530 Mt. Vernon Dr\, Modesto\, 95350\, United States
END:VEVENT
BEGIN:VEVENT
DTSTART;TZID=UTC:20260115T093000
DTEND;TZID=UTC:20260115T110000
DTSTAMP:20260424T221036
CREATED:20240520T213643Z
LAST-MODIFIED:20250407T193446Z
UID:10002851-1768469400-1768474800@foodinitiative.org
SUMMARY:FIGS Mobile Pantry-3rd Thursday of the Month
DESCRIPTION:
URL:https://foodinitiative.org/event/figs-mobile-pantry-25/2026-01-15/
LOCATION:Everett Elementary School\, 1530 Mt. Vernon Dr\, Modesto\, 95350\, United States
END:VEVENT
BEGIN:VEVENT
DTSTART;TZID=UTC:20251218T093000
DTEND;TZID=UTC:20251218T110000
DTSTAMP:20260424T221036
CREATED:20240520T213643Z
LAST-MODIFIED:20250407T193446Z
UID:10002850-1766050200-1766055600@foodinitiative.org
SUMMARY:FIGS Mobile Pantry-3rd Thursday of the Month
DESCRIPTION:
URL:https://foodinitiative.org/event/figs-mobile-pantry-25/2025-12-18/
LOCATION:Everett Elementary School\, 1530 Mt. Vernon Dr\, Modesto\, 95350\, United States
END:VEVENT
BEGIN:VEVENT
DTSTART;TZID=UTC:20251120T093000
DTEND;TZID=UTC:20251120T110000
DTSTAMP:20260424T221036
CREATED:20240520T213643Z
LAST-MODIFIED:20250407T193446Z
UID:10002849-1763631000-1763636400@foodinitiative.org
SUMMARY:FIGS Mobile Pantry-3rd Thursday of the Month
DESCRIPTION:
URL:https://foodinitiative.org/event/figs-mobile-pantry-25/2025-11-20/
LOCATION:Everett Elementary School\, 1530 Mt. Vernon Dr\, Modesto\, 95350\, United States
END:VEVENT
BEGIN:VEVENT
DTSTART;TZID=UTC:20251016T093000
DTEND;TZID=UTC:20251016T110000
DTSTAMP:20260424T221036
CREATED:20240520T213643Z
LAST-MODIFIED:20250407T193446Z
UID:10002848-1760607000-1760612400@foodinitiative.org
SUMMARY:FIGS Mobile Pantry-3rd Thursday of the Month
DESCRIPTION:
URL:https://foodinitiative.org/event/figs-mobile-pantry-25/2025-10-16/
LOCATION:Everett Elementary School\, 1530 Mt. Vernon Dr\, Modesto\, 95350\, United States
END:VEVENT
BEGIN:VEVENT
DTSTART;TZID=UTC:20250918T093000
DTEND;TZID=UTC:20250918T110000
DTSTAMP:20260424T221036
CREATED:20240520T213643Z
LAST-MODIFIED:20250407T193446Z
UID:10002847-1758187800-1758193200@foodinitiative.org
SUMMARY:FIGS Mobile Pantry-3rd Thursday of the Month
DESCRIPTION:
URL:https://foodinitiative.org/event/figs-mobile-pantry-25/2025-09-18/
LOCATION:Everett Elementary School\, 1530 Mt. Vernon Dr\, Modesto\, 95350\, United States
END:VEVENT
BEGIN:VEVENT
DTSTART;TZID=UTC:20250821T093000
DTEND;TZID=UTC:20250821T110000
DTSTAMP:20260424T221036
CREATED:20240520T213643Z
LAST-MODIFIED:20250407T193446Z
UID:10002846-1755768600-1755774000@foodinitiative.org
SUMMARY:FIGS Mobile Pantry-3rd Thursday of the Month
DESCRIPTION:
URL:https://foodinitiative.org/event/figs-mobile-pantry-25/2025-08-21/
LOCATION:Everett Elementary School\, 1530 Mt. Vernon Dr\, Modesto\, 95350\, United States
END:VEVENT
BEGIN:VEVENT
DTSTART;TZID=UTC:20250717T093000
DTEND;TZID=UTC:20250717T110000
DTSTAMP:20260424T221036
CREATED:20240520T213643Z
LAST-MODIFIED:20250407T193446Z
UID:10002845-1752744600-1752750000@foodinitiative.org
SUMMARY:FIGS Mobile Pantry-3rd Thursday of the Month
DESCRIPTION:
URL:https://foodinitiative.org/event/figs-mobile-pantry-25/2025-07-17/
LOCATION:Everett Elementary School\, 1530 Mt. Vernon Dr\, Modesto\, 95350\, United States
END:VEVENT
BEGIN:VEVENT
DTSTART;TZID=UTC:20250619T093000
DTEND;TZID=UTC:20250619T110000
DTSTAMP:20260424T221036
CREATED:20240520T213643Z
LAST-MODIFIED:20250407T193446Z
UID:10002844-1750325400-1750330800@foodinitiative.org
SUMMARY:FIGS Mobile Pantry-3rd Thursday of the Month
DESCRIPTION:
URL:https://foodinitiative.org/event/figs-mobile-pantry-25/2025-06-19/
LOCATION:Everett Elementary School\, 1530 Mt. Vernon Dr\, Modesto\, 95350\, United States
END:VEVENT
BEGIN:VEVENT
DTSTART;TZID=UTC:20250515T093000
DTEND;TZID=UTC:20250515T110000
DTSTAMP:20260424T221036
CREATED:20240520T213643Z
LAST-MODIFIED:20250407T193446Z
UID:10002843-1747301400-1747306800@foodinitiative.org
SUMMARY:FIGS Mobile Pantry-3rd Thursday of the Month
DESCRIPTION:
URL:https://foodinitiative.org/event/figs-mobile-pantry-25/2025-05-15/
LOCATION:Everett Elementary School\, 1530 Mt. Vernon Dr\, Modesto\, 95350\, United States
END:VEVENT
BEGIN:VEVENT
DTSTART;TZID=UTC:20250417T093000
DTEND;TZID=UTC:20250417T110000
DTSTAMP:20260424T221036
CREATED:20240520T213643Z
LAST-MODIFIED:20250407T193446Z
UID:10002842-1744882200-1744887600@foodinitiative.org
SUMMARY:FIGS Mobile Pantry-3rd Thursday of the Month
DESCRIPTION:
URL:https://foodinitiative.org/event/figs-mobile-pantry-25/2025-04-17/
LOCATION:Everett Elementary School\, 1530 Mt. Vernon Dr\, Modesto\, 95350\, United States
END:VEVENT
BEGIN:VEVENT
DTSTART;TZID=UTC:20250320T093000
DTEND;TZID=UTC:20250320T110000
DTSTAMP:20260424T221036
CREATED:20240520T213643Z
LAST-MODIFIED:20250407T193446Z
UID:10002841-1742463000-1742468400@foodinitiative.org
SUMMARY:FIGS Mobile Pantry-3rd Thursday of the Month
DESCRIPTION:
URL:https://foodinitiative.org/event/figs-mobile-pantry-25/2025-03-20/
LOCATION:Everett Elementary School\, 1530 Mt. Vernon Dr\, Modesto\, 95350\, United States
END:VEVENT
BEGIN:VEVENT
DTSTART;TZID=UTC:20250220T093000
DTEND;TZID=UTC:20250220T110000
DTSTAMP:20260424T221036
CREATED:20240520T213643Z
LAST-MODIFIED:20250407T193446Z
UID:10002840-1740043800-1740049200@foodinitiative.org
SUMMARY:FIGS Mobile Pantry-3rd Thursday of the Month
DESCRIPTION:
URL:https://foodinitiative.org/event/figs-mobile-pantry-25/2025-02-20/
LOCATION:Everett Elementary School\, 1530 Mt. Vernon Dr\, Modesto\, 95350\, United States
END:VEVENT
BEGIN:VEVENT
DTSTART;TZID=UTC:20250116T093000
DTEND;TZID=UTC:20250116T110000
DTSTAMP:20260424T221036
CREATED:20240520T213643Z
LAST-MODIFIED:20250407T193446Z
UID:10002839-1737019800-1737025200@foodinitiative.org
SUMMARY:FIGS Mobile Pantry-3rd Thursday of the Month
DESCRIPTION:
URL:https://foodinitiative.org/event/figs-mobile-pantry-25/2025-01-16/
LOCATION:Everett Elementary School\, 1530 Mt. Vernon Dr\, Modesto\, 95350\, United States
END:VEVENT
BEGIN:VEVENT
DTSTART;TZID=UTC:20241219T093000
DTEND;TZID=UTC:20241219T110000
DTSTAMP:20260424T221036
CREATED:20240520T213643Z
LAST-MODIFIED:20250407T193446Z
UID:10002838-1734600600-1734606000@foodinitiative.org
SUMMARY:FIGS Mobile Pantry-3rd Thursday of the Month
DESCRIPTION:
URL:https://foodinitiative.org/event/figs-mobile-pantry-25/2024-12-19/
LOCATION:Everett Elementary School\, 1530 Mt. Vernon Dr\, Modesto\, 95350\, United States
END:VEVENT
BEGIN:VEVENT
DTSTART;TZID=UTC:20241121T093000
DTEND;TZID=UTC:20241121T110000
DTSTAMP:20260424T221036
CREATED:20240520T213643Z
LAST-MODIFIED:20250407T193446Z
UID:10002837-1732181400-1732186800@foodinitiative.org
SUMMARY:FIGS Mobile Pantry-3rd Thursday of the Month
DESCRIPTION:
URL:https://foodinitiative.org/event/figs-mobile-pantry-25/2024-11-21/
LOCATION:Everett Elementary School\, 1530 Mt. Vernon Dr\, Modesto\, 95350\, United States
END:VEVENT
BEGIN:VEVENT
DTSTART;TZID=UTC:20241017T093000
DTEND;TZID=UTC:20241017T110000
DTSTAMP:20260424T221036
CREATED:20240520T213643Z
LAST-MODIFIED:20250407T193446Z
UID:10002836-1729157400-1729162800@foodinitiative.org
SUMMARY:FIGS Mobile Pantry-3rd Thursday of the Month
DESCRIPTION:
URL:https://foodinitiative.org/event/figs-mobile-pantry-25/2024-10-17/
LOCATION:Everett Elementary School\, 1530 Mt. Vernon Dr\, Modesto\, 95350\, United States
END:VEVENT
BEGIN:VEVENT
DTSTART;TZID=UTC:20240919T093000
DTEND;TZID=UTC:20240919T110000
DTSTAMP:20260424T221036
CREATED:20240520T213643Z
LAST-MODIFIED:20250407T193446Z
UID:10002835-1726738200-1726743600@foodinitiative.org
SUMMARY:FIGS Mobile Pantry-3rd Thursday of the Month
DESCRIPTION:
URL:https://foodinitiative.org/event/figs-mobile-pantry-25/2024-09-19/
LOCATION:Everett Elementary School\, 1530 Mt. Vernon Dr\, Modesto\, 95350\, United States
END:VEVENT
BEGIN:VEVENT
DTSTART;TZID=UTC:20240815T093000
DTEND;TZID=UTC:20240815T110000
DTSTAMP:20260424T221036
CREATED:20240520T213643Z
LAST-MODIFIED:20250407T193446Z
UID:10002834-1723714200-1723719600@foodinitiative.org
SUMMARY:FIGS Mobile Pantry-3rd Thursday of the Month
DESCRIPTION:
URL:https://foodinitiative.org/event/figs-mobile-pantry-25/2024-08-15/
LOCATION:Everett Elementary School\, 1530 Mt. Vernon Dr\, Modesto\, 95350\, United States
END:VEVENT
BEGIN:VEVENT
DTSTART;TZID=UTC:20240718T093000
DTEND;TZID=UTC:20240718T110000
DTSTAMP:20260424T221036
CREATED:20240520T213643Z
LAST-MODIFIED:20250407T193446Z
UID:10002833-1721295000-1721300400@foodinitiative.org
SUMMARY:FIGS Mobile Pantry-3rd Thursday of the Month
DESCRIPTION:
URL:https://foodinitiative.org/event/figs-mobile-pantry-25/2024-07-18/
LOCATION:Everett Elementary School\, 1530 Mt. Vernon Dr\, Modesto\, 95350\, United States
END:VEVENT
BEGIN:VEVENT
DTSTART;TZID=UTC:20240620T093000
DTEND;TZID=UTC:20240620T110000
DTSTAMP:20260424T221036
CREATED:20240520T213643Z
LAST-MODIFIED:20250407T193446Z
UID:10002832-1718875800-1718881200@foodinitiative.org
SUMMARY:FIGS Mobile Pantry-3rd Thursday of the Month
DESCRIPTION:
URL:https://foodinitiative.org/event/figs-mobile-pantry-25/2024-06-20/
LOCATION:Everett Elementary School\, 1530 Mt. Vernon Dr\, Modesto\, 95350\, United States
END:VEVENT
BEGIN:VEVENT
DTSTART;TZID=UTC:20240516T093000
DTEND;TZID=UTC:20240516T110000
DTSTAMP:20260424T221036
CREATED:20240520T213643Z
LAST-MODIFIED:20250407T193446Z
UID:10002831-1715851800-1715857200@foodinitiative.org
SUMMARY:FIGS Mobile Pantry-3rd Thursday of the Month
DESCRIPTION:
URL:https://foodinitiative.org/event/figs-mobile-pantry-25/2024-05-16/
LOCATION:Everett Elementary School\, 1530 Mt. Vernon Dr\, Modesto\, 95350\, United States
END:VEVENT
END:VCALENDAR