BEGIN:VCALENDAR
VERSION:2.0
PRODID:-//The Food Initiative - ECPv6.15.20//NONSGML v1.0//EN
CALSCALE:GREGORIAN
METHOD:PUBLISH
X-WR-CALNAME:The Food Initiative
X-ORIGINAL-URL:https://foodinitiative.org
X-WR-CALDESC:Events for The Food Initiative
REFRESH-INTERVAL;VALUE=DURATION:PT1H
X-Robots-Tag:noindex
X-PUBLISHED-TTL:PT1H
BEGIN:VTIMEZONE
TZID:UTC
BEGIN:STANDARD
TZOFFSETFROM:+0000
TZOFFSETTO:+0000
TZNAME:UTC
DTSTART:20270101T000000
END:STANDARD
END:VTIMEZONE
BEGIN:VEVENT
DTSTART;TZID=UTC:20281122T100000
DTEND;TZID=UTC:20281122T110000
DTSTAMP:20260425T020609
CREATED:20240105T234550Z
LAST-MODIFIED:20250407T205856Z
UID:10001313-1858500000-1858503600@foodinitiative.org
SUMMARY:FIGS Mobile Pantry-4th Wednesday of the Month
DESCRIPTION:
URL:https://foodinitiative.org/event/figs-mobile-pantry-2/2028-11-22/
LOCATION:Empire Church of Christ\, 434 Church Street\, Empire\, CA\, United States
END:VEVENT
BEGIN:VEVENT
DTSTART;TZID=UTC:20281227T100000
DTEND;TZID=UTC:20281227T110000
DTSTAMP:20260425T020609
CREATED:20240105T234550Z
LAST-MODIFIED:20250407T205856Z
UID:10001314-1861524000-1861527600@foodinitiative.org
SUMMARY:FIGS Mobile Pantry-4th Wednesday of the Month
DESCRIPTION:
URL:https://foodinitiative.org/event/figs-mobile-pantry-2/2028-12-27/
LOCATION:Empire Church of Christ\, 434 Church Street\, Empire\, CA\, United States
END:VEVENT
BEGIN:VEVENT
DTSTART;TZID=UTC:20290124T100000
DTEND;TZID=UTC:20290124T110000
DTSTAMP:20260425T020609
CREATED:20240105T234550Z
LAST-MODIFIED:20250407T205856Z
UID:10003538-1863943200-1863946800@foodinitiative.org
SUMMARY:FIGS Mobile Pantry-4th Wednesday of the Month
DESCRIPTION:
URL:https://foodinitiative.org/event/figs-mobile-pantry-2/2029-01-24/
LOCATION:Empire Church of Christ\, 434 Church Street\, Empire\, CA\, United States
END:VEVENT
BEGIN:VEVENT
DTSTART;TZID=UTC:20290228T100000
DTEND;TZID=UTC:20290228T110000
DTSTAMP:20260425T020609
CREATED:20240105T234550Z
LAST-MODIFIED:20250407T205856Z
UID:10003539-1866967200-1866970800@foodinitiative.org
SUMMARY:FIGS Mobile Pantry-4th Wednesday of the Month
DESCRIPTION:
URL:https://foodinitiative.org/event/figs-mobile-pantry-2/2029-02-28/
LOCATION:Empire Church of Christ\, 434 Church Street\, Empire\, CA\, United States
END:VEVENT
BEGIN:VEVENT
DTSTART;TZID=UTC:20290328T100000
DTEND;TZID=UTC:20290328T110000
DTSTAMP:20260425T020609
CREATED:20240105T234550Z
LAST-MODIFIED:20250407T205856Z
UID:10003540-1869386400-1869390000@foodinitiative.org
SUMMARY:FIGS Mobile Pantry-4th Wednesday of the Month
DESCRIPTION:
URL:https://foodinitiative.org/event/figs-mobile-pantry-2/2029-03-28/
LOCATION:Empire Church of Christ\, 434 Church Street\, Empire\, CA\, United States
END:VEVENT
BEGIN:VEVENT
DTSTART;TZID=UTC:20290425T100000
DTEND;TZID=UTC:20290425T110000
DTSTAMP:20260425T020609
CREATED:20240105T234550Z
LAST-MODIFIED:20250407T205856Z
UID:10003541-1871805600-1871809200@foodinitiative.org
SUMMARY:FIGS Mobile Pantry-4th Wednesday of the Month
DESCRIPTION:
URL:https://foodinitiative.org/event/figs-mobile-pantry-2/2029-04-25/
LOCATION:Empire Church of Christ\, 434 Church Street\, Empire\, CA\, United States
END:VEVENT
BEGIN:VEVENT
DTSTART;TZID=UTC:20290523T100000
DTEND;TZID=UTC:20290523T110000
DTSTAMP:20260425T020609
CREATED:20240105T234550Z
LAST-MODIFIED:20250407T205856Z
UID:10003542-1874224800-1874228400@foodinitiative.org
SUMMARY:FIGS Mobile Pantry-4th Wednesday of the Month
DESCRIPTION:
URL:https://foodinitiative.org/event/figs-mobile-pantry-2/2029-05-23/
LOCATION:Empire Church of Christ\, 434 Church Street\, Empire\, CA\, United States
END:VEVENT
BEGIN:VEVENT
DTSTART;TZID=UTC:20290627T100000
DTEND;TZID=UTC:20290627T110000
DTSTAMP:20260425T020609
CREATED:20240105T234550Z
LAST-MODIFIED:20250407T205856Z
UID:10003543-1877248800-1877252400@foodinitiative.org
SUMMARY:FIGS Mobile Pantry-4th Wednesday of the Month
DESCRIPTION:
URL:https://foodinitiative.org/event/figs-mobile-pantry-2/2029-06-27/
LOCATION:Empire Church of Christ\, 434 Church Street\, Empire\, CA\, United States
END:VEVENT
BEGIN:VEVENT
DTSTART;TZID=UTC:20290725T100000
DTEND;TZID=UTC:20290725T110000
DTSTAMP:20260425T020609
CREATED:20240105T234550Z
LAST-MODIFIED:20250407T205856Z
UID:10003544-1879668000-1879671600@foodinitiative.org
SUMMARY:FIGS Mobile Pantry-4th Wednesday of the Month
DESCRIPTION:
URL:https://foodinitiative.org/event/figs-mobile-pantry-2/2029-07-25/
LOCATION:Empire Church of Christ\, 434 Church Street\, Empire\, CA\, United States
END:VEVENT
BEGIN:VEVENT
DTSTART;TZID=UTC:20290822T100000
DTEND;TZID=UTC:20290822T110000
DTSTAMP:20260425T020609
CREATED:20240105T234550Z
LAST-MODIFIED:20250407T205856Z
UID:10003545-1882087200-1882090800@foodinitiative.org
SUMMARY:FIGS Mobile Pantry-4th Wednesday of the Month
DESCRIPTION:
URL:https://foodinitiative.org/event/figs-mobile-pantry-2/2029-08-22/
LOCATION:Empire Church of Christ\, 434 Church Street\, Empire\, CA\, United States
END:VEVENT
BEGIN:VEVENT
DTSTART;TZID=UTC:20290926T100000
DTEND;TZID=UTC:20290926T110000
DTSTAMP:20260425T020609
CREATED:20240105T234550Z
LAST-MODIFIED:20250407T205856Z
UID:10003546-1885111200-1885114800@foodinitiative.org
SUMMARY:FIGS Mobile Pantry-4th Wednesday of the Month
DESCRIPTION:
URL:https://foodinitiative.org/event/figs-mobile-pantry-2/2029-09-26/
LOCATION:Empire Church of Christ\, 434 Church Street\, Empire\, CA\, United States
END:VEVENT
BEGIN:VEVENT
DTSTART;TZID=UTC:20291024T100000
DTEND;TZID=UTC:20291024T110000
DTSTAMP:20260425T020609
CREATED:20240105T234550Z
LAST-MODIFIED:20250407T205856Z
UID:10003547-1887530400-1887534000@foodinitiative.org
SUMMARY:FIGS Mobile Pantry-4th Wednesday of the Month
DESCRIPTION:
URL:https://foodinitiative.org/event/figs-mobile-pantry-2/2029-10-24/
LOCATION:Empire Church of Christ\, 434 Church Street\, Empire\, CA\, United States
END:VEVENT
BEGIN:VEVENT
DTSTART;TZID=UTC:20291128T100000
DTEND;TZID=UTC:20291128T110000
DTSTAMP:20260425T020609
CREATED:20240105T234550Z
LAST-MODIFIED:20250407T205856Z
UID:10003548-1890554400-1890558000@foodinitiative.org
SUMMARY:FIGS Mobile Pantry-4th Wednesday of the Month
DESCRIPTION:
URL:https://foodinitiative.org/event/figs-mobile-pantry-2/2029-11-28/
LOCATION:Empire Church of Christ\, 434 Church Street\, Empire\, CA\, United States
END:VEVENT
BEGIN:VEVENT
DTSTART;TZID=UTC:20291226T100000
DTEND;TZID=UTC:20291226T110000
DTSTAMP:20260425T020609
CREATED:20240105T234550Z
LAST-MODIFIED:20250407T205856Z
UID:10003549-1892973600-1892977200@foodinitiative.org
SUMMARY:FIGS Mobile Pantry-4th Wednesday of the Month
DESCRIPTION:
URL:https://foodinitiative.org/event/figs-mobile-pantry-2/2029-12-26/
LOCATION:Empire Church of Christ\, 434 Church Street\, Empire\, CA\, United States
END:VEVENT
BEGIN:VEVENT
DTSTART;TZID=UTC:20300123T100000
DTEND;TZID=UTC:20300123T110000
DTSTAMP:20260425T020609
CREATED:20240105T234550Z
LAST-MODIFIED:20250407T205856Z
UID:10003550-1895392800-1895396400@foodinitiative.org
SUMMARY:FIGS Mobile Pantry-4th Wednesday of the Month
DESCRIPTION:
URL:https://foodinitiative.org/event/figs-mobile-pantry-2/2030-01-23/
LOCATION:Empire Church of Christ\, 434 Church Street\, Empire\, CA\, United States
END:VEVENT
BEGIN:VEVENT
DTSTART;TZID=UTC:20300227T100000
DTEND;TZID=UTC:20300227T110000
DTSTAMP:20260425T020609
CREATED:20240105T234550Z
LAST-MODIFIED:20250407T205856Z
UID:10003551-1898416800-1898420400@foodinitiative.org
SUMMARY:FIGS Mobile Pantry-4th Wednesday of the Month
DESCRIPTION:
URL:https://foodinitiative.org/event/figs-mobile-pantry-2/2030-02-27/
LOCATION:Empire Church of Christ\, 434 Church Street\, Empire\, CA\, United States
END:VEVENT
BEGIN:VEVENT
DTSTART;TZID=UTC:20300327T100000
DTEND;TZID=UTC:20300327T110000
DTSTAMP:20260425T020609
CREATED:20240105T234550Z
LAST-MODIFIED:20250407T205856Z
UID:10003552-1900836000-1900839600@foodinitiative.org
SUMMARY:FIGS Mobile Pantry-4th Wednesday of the Month
DESCRIPTION:
URL:https://foodinitiative.org/event/figs-mobile-pantry-2/2030-03-27/
LOCATION:Empire Church of Christ\, 434 Church Street\, Empire\, CA\, United States
END:VEVENT
END:VCALENDAR