BEGIN:VCALENDAR
VERSION:2.0
PRODID:-//The Food Initiative - ECPv6.15.20//NONSGML v1.0//EN
CALSCALE:GREGORIAN
METHOD:PUBLISH
X-ORIGINAL-URL:https://foodinitiative.org
X-WR-CALDESC:Events for The Food Initiative
REFRESH-INTERVAL;VALUE=DURATION:PT1H
X-Robots-Tag:noindex
X-PUBLISHED-TTL:PT1H
BEGIN:VTIMEZONE
TZID:UTC
BEGIN:STANDARD
TZOFFSETFROM:+0000
TZOFFSETTO:+0000
TZNAME:UTC
DTSTART:20230101T000000
END:STANDARD
END:VTIMEZONE
BEGIN:VEVENT
DTSTART;TZID=UTC:20240828T100000
DTEND;TZID=UTC:20240828T110000
DTSTAMP:20260425T015202
CREATED:20240105T234550Z
LAST-MODIFIED:20250407T205856Z
UID:10000073-1724839200-1724842800@foodinitiative.org
SUMMARY:FIGS Mobile Pantry-4th Wednesday of the Month
DESCRIPTION:
URL:https://foodinitiative.org/event/figs-mobile-pantry-2/2024-08-28/
LOCATION:Empire Church of Christ\, 434 Church Street\, Empire\, CA\, United States
END:VEVENT
BEGIN:VEVENT
DTSTART;TZID=UTC:20240724T100000
DTEND;TZID=UTC:20240724T110000
DTSTAMP:20260425T015202
CREATED:20240105T234550Z
LAST-MODIFIED:20250407T205856Z
UID:10000072-1721815200-1721818800@foodinitiative.org
SUMMARY:FIGS Mobile Pantry-4th Wednesday of the Month
DESCRIPTION:
URL:https://foodinitiative.org/event/figs-mobile-pantry-2/2024-07-24/
LOCATION:Empire Church of Christ\, 434 Church Street\, Empire\, CA\, United States
END:VEVENT
BEGIN:VEVENT
DTSTART;TZID=UTC:20240626T100000
DTEND;TZID=UTC:20240626T110000
DTSTAMP:20260425T015202
CREATED:20240105T234550Z
LAST-MODIFIED:20250407T205856Z
UID:10000071-1719396000-1719399600@foodinitiative.org
SUMMARY:FIGS Mobile Pantry-4th Wednesday of the Month
DESCRIPTION:
URL:https://foodinitiative.org/event/figs-mobile-pantry-2/2024-06-26/
LOCATION:Empire Church of Christ\, 434 Church Street\, Empire\, CA\, United States
END:VEVENT
BEGIN:VEVENT
DTSTART;TZID=UTC:20240522T100000
DTEND;TZID=UTC:20240522T110000
DTSTAMP:20260425T015202
CREATED:20240105T234550Z
LAST-MODIFIED:20250407T205856Z
UID:10000070-1716372000-1716375600@foodinitiative.org
SUMMARY:FIGS Mobile Pantry-4th Wednesday of the Month
DESCRIPTION:
URL:https://foodinitiative.org/event/figs-mobile-pantry-2/2024-05-22/
LOCATION:Empire Church of Christ\, 434 Church Street\, Empire\, CA\, United States
END:VEVENT
BEGIN:VEVENT
DTSTART;TZID=UTC:20240424T100000
DTEND;TZID=UTC:20240424T110000
DTSTAMP:20260425T015202
CREATED:20240105T234550Z
LAST-MODIFIED:20250407T205856Z
UID:10000069-1713952800-1713956400@foodinitiative.org
SUMMARY:FIGS Mobile Pantry-4th Wednesday of the Month
DESCRIPTION:
URL:https://foodinitiative.org/event/figs-mobile-pantry-2/2024-04-24/
LOCATION:Empire Church of Christ\, 434 Church Street\, Empire\, CA\, United States
END:VEVENT
BEGIN:VEVENT
DTSTART;TZID=UTC:20240327T100000
DTEND;TZID=UTC:20240327T110000
DTSTAMP:20260425T015202
CREATED:20240105T234550Z
LAST-MODIFIED:20250407T205856Z
UID:10000068-1711533600-1711537200@foodinitiative.org
SUMMARY:FIGS Mobile Pantry-4th Wednesday of the Month
DESCRIPTION:
URL:https://foodinitiative.org/event/figs-mobile-pantry-2/2024-03-27/
LOCATION:Empire Church of Christ\, 434 Church Street\, Empire\, CA\, United States
END:VEVENT
BEGIN:VEVENT
DTSTART;TZID=UTC:20240228T100000
DTEND;TZID=UTC:20240228T110000
DTSTAMP:20260425T015202
CREATED:20240105T234550Z
LAST-MODIFIED:20250407T205856Z
UID:10000067-1709114400-1709118000@foodinitiative.org
SUMMARY:FIGS Mobile Pantry-4th Wednesday of the Month
DESCRIPTION:
URL:https://foodinitiative.org/event/figs-mobile-pantry-2/2024-02-28/
LOCATION:Empire Church of Christ\, 434 Church Street\, Empire\, CA\, United States
END:VEVENT
BEGIN:VEVENT
DTSTART;TZID=UTC:20240124T100000
DTEND;TZID=UTC:20240124T110000
DTSTAMP:20260425T015202
CREATED:20240105T234550Z
LAST-MODIFIED:20250407T205856Z
UID:10000066-1706090400-1706094000@foodinitiative.org
SUMMARY:FIGS Mobile Pantry-4th Wednesday of the Month
DESCRIPTION:
URL:https://foodinitiative.org/event/figs-mobile-pantry-2/2024-01-24/
LOCATION:Empire Church of Christ\, 434 Church Street\, Empire\, CA\, United States
END:VEVENT
END:VCALENDAR