BEGIN:VCALENDAR
VERSION:2.0
PRODID:-//The Food Initiative - ECPv6.15.20//NONSGML v1.0//EN
CALSCALE:GREGORIAN
METHOD:PUBLISH
X-ORIGINAL-URL:https://foodinitiative.org
X-WR-CALDESC:Events for The Food Initiative
REFRESH-INTERVAL;VALUE=DURATION:PT1H
X-Robots-Tag:noindex
X-PUBLISHED-TTL:PT1H
BEGIN:VTIMEZONE
TZID:UTC
BEGIN:STANDARD
TZOFFSETFROM:+0000
TZOFFSETTO:+0000
TZNAME:UTC
DTSTART:20280101T000000
END:STANDARD
END:VTIMEZONE
BEGIN:VEVENT
DTSTART;TZID=UTC:20290904T093000
DTEND;TZID=UTC:20290904T110000
DTSTAMP:20260425T020403
CREATED:20250407T204228Z
LAST-MODIFIED:20250407T204645Z
UID:10003430-1883208600-1883214000@foodinitiative.org
SUMMARY:FIGS Mobile Pantry-1st Tuesday of the Month
DESCRIPTION:
URL:https://foodinitiative.org/event/figs-mobile-pantry-1st-tuesday-of-the-month/2029-09-04/
LOCATION:Elliot Alternative High School\, 1440 Sunrise Ave.\, Modesto\, CA\, 95350\, United States
END:VEVENT
BEGIN:VEVENT
DTSTART;TZID=UTC:20291002T093000
DTEND;TZID=UTC:20291002T110000
DTSTAMP:20260425T020403
CREATED:20250407T204228Z
LAST-MODIFIED:20250407T204645Z
UID:10003431-1885627800-1885633200@foodinitiative.org
SUMMARY:FIGS Mobile Pantry-1st Tuesday of the Month
DESCRIPTION:
URL:https://foodinitiative.org/event/figs-mobile-pantry-1st-tuesday-of-the-month/2029-10-02/
LOCATION:Elliot Alternative High School\, 1440 Sunrise Ave.\, Modesto\, CA\, 95350\, United States
END:VEVENT
BEGIN:VEVENT
DTSTART;TZID=UTC:20291106T093000
DTEND;TZID=UTC:20291106T110000
DTSTAMP:20260425T020403
CREATED:20250407T204228Z
LAST-MODIFIED:20250407T204645Z
UID:10003432-1888651800-1888657200@foodinitiative.org
SUMMARY:FIGS Mobile Pantry-1st Tuesday of the Month
DESCRIPTION:
URL:https://foodinitiative.org/event/figs-mobile-pantry-1st-tuesday-of-the-month/2029-11-06/
LOCATION:Elliot Alternative High School\, 1440 Sunrise Ave.\, Modesto\, CA\, 95350\, United States
END:VEVENT
BEGIN:VEVENT
DTSTART;TZID=UTC:20291204T093000
DTEND;TZID=UTC:20291204T110000
DTSTAMP:20260425T020403
CREATED:20250407T204228Z
LAST-MODIFIED:20250407T204645Z
UID:10003433-1891071000-1891076400@foodinitiative.org
SUMMARY:FIGS Mobile Pantry-1st Tuesday of the Month
DESCRIPTION:
URL:https://foodinitiative.org/event/figs-mobile-pantry-1st-tuesday-of-the-month/2029-12-04/
LOCATION:Elliot Alternative High School\, 1440 Sunrise Ave.\, Modesto\, CA\, 95350\, United States
END:VEVENT
BEGIN:VEVENT
DTSTART;TZID=UTC:20300101T093000
DTEND;TZID=UTC:20300101T110000
DTSTAMP:20260425T020403
CREATED:20250407T204228Z
LAST-MODIFIED:20250407T204645Z
UID:10003434-1893490200-1893495600@foodinitiative.org
SUMMARY:FIGS Mobile Pantry-1st Tuesday of the Month
DESCRIPTION:
URL:https://foodinitiative.org/event/figs-mobile-pantry-1st-tuesday-of-the-month/2030-01-01/
LOCATION:Elliot Alternative High School\, 1440 Sunrise Ave.\, Modesto\, CA\, 95350\, United States
END:VEVENT
BEGIN:VEVENT
DTSTART;TZID=UTC:20300205T093000
DTEND;TZID=UTC:20300205T110000
DTSTAMP:20260425T020403
CREATED:20250407T204228Z
LAST-MODIFIED:20250407T204645Z
UID:10003435-1896514200-1896519600@foodinitiative.org
SUMMARY:FIGS Mobile Pantry-1st Tuesday of the Month
DESCRIPTION:
URL:https://foodinitiative.org/event/figs-mobile-pantry-1st-tuesday-of-the-month/2030-02-05/
LOCATION:Elliot Alternative High School\, 1440 Sunrise Ave.\, Modesto\, CA\, 95350\, United States
END:VEVENT
BEGIN:VEVENT
DTSTART;TZID=UTC:20300305T093000
DTEND;TZID=UTC:20300305T110000
DTSTAMP:20260425T020403
CREATED:20250407T204228Z
LAST-MODIFIED:20250407T204645Z
UID:10003436-1898933400-1898938800@foodinitiative.org
SUMMARY:FIGS Mobile Pantry-1st Tuesday of the Month
DESCRIPTION:
URL:https://foodinitiative.org/event/figs-mobile-pantry-1st-tuesday-of-the-month/2030-03-05/
LOCATION:Elliot Alternative High School\, 1440 Sunrise Ave.\, Modesto\, CA\, 95350\, United States
END:VEVENT
BEGIN:VEVENT
DTSTART;TZID=UTC:20300402T093000
DTEND;TZID=UTC:20300402T110000
DTSTAMP:20260425T020403
CREATED:20250407T204228Z
LAST-MODIFIED:20250407T204645Z
UID:10003437-1901352600-1901358000@foodinitiative.org
SUMMARY:FIGS Mobile Pantry-1st Tuesday of the Month
DESCRIPTION:
URL:https://foodinitiative.org/event/figs-mobile-pantry-1st-tuesday-of-the-month/2030-04-02/
LOCATION:Elliot Alternative High School\, 1440 Sunrise Ave.\, Modesto\, CA\, 95350\, United States
END:VEVENT
END:VCALENDAR