BEGIN:VCALENDAR
VERSION:2.0
PRODID:-//The Food Initiative - ECPv6.15.20//NONSGML v1.0//EN
CALSCALE:GREGORIAN
METHOD:PUBLISH
X-WR-CALNAME:The Food Initiative
X-ORIGINAL-URL:https://foodinitiative.org
X-WR-CALDESC:Events for The Food Initiative
REFRESH-INTERVAL;VALUE=DURATION:PT1H
X-Robots-Tag:noindex
X-PUBLISHED-TTL:PT1H
BEGIN:VTIMEZONE
TZID:UTC
BEGIN:STANDARD
TZOFFSETFROM:+0000
TZOFFSETTO:+0000
TZNAME:UTC
DTSTART:20260101T000000
END:STANDARD
END:VTIMEZONE
BEGIN:VEVENT
DTSTART;TZID=UTC:20270320T090000
DTEND;TZID=UTC:20270320T103000
DTSTAMP:20260424T220326
CREATED:20250501T180111Z
LAST-MODIFIED:20250923T162551Z
UID:10000773-1805533200-1805538600@foodinitiative.org
SUMMARY:FIGS Mobile Pantry-3rd Saturday of the Month
DESCRIPTION:
URL:https://foodinitiative.org/event/figs-mobile-pantry-4-2/2027-03-20/
LOCATION:Children’s Garden\, 3525 Pelandale Ave\, Modesto\, CA\, 95356\, United States
END:VEVENT
BEGIN:VEVENT
DTSTART;TZID=UTC:20270417T090000
DTEND;TZID=UTC:20270417T103000
DTSTAMP:20260424T220326
CREATED:20250501T180111Z
LAST-MODIFIED:20250923T162551Z
UID:10000774-1807952400-1807957800@foodinitiative.org
SUMMARY:FIGS Mobile Pantry-3rd Saturday of the Month
DESCRIPTION:
URL:https://foodinitiative.org/event/figs-mobile-pantry-4-2/2027-04-17/
LOCATION:Children’s Garden\, 3525 Pelandale Ave\, Modesto\, CA\, 95356\, United States
END:VEVENT
BEGIN:VEVENT
DTSTART;TZID=UTC:20270515T090000
DTEND;TZID=UTC:20270515T103000
DTSTAMP:20260424T220326
CREATED:20250501T180111Z
LAST-MODIFIED:20250923T162551Z
UID:10000775-1810371600-1810377000@foodinitiative.org
SUMMARY:FIGS Mobile Pantry-3rd Saturday of the Month
DESCRIPTION:
URL:https://foodinitiative.org/event/figs-mobile-pantry-4-2/2027-05-15/
LOCATION:Children’s Garden\, 3525 Pelandale Ave\, Modesto\, CA\, 95356\, United States
END:VEVENT
BEGIN:VEVENT
DTSTART;TZID=UTC:20270619T090000
DTEND;TZID=UTC:20270619T103000
DTSTAMP:20260424T220326
CREATED:20250501T180111Z
LAST-MODIFIED:20250923T162551Z
UID:10000776-1813395600-1813401000@foodinitiative.org
SUMMARY:FIGS Mobile Pantry-3rd Saturday of the Month
DESCRIPTION:
URL:https://foodinitiative.org/event/figs-mobile-pantry-4-2/2027-06-19/
LOCATION:Children’s Garden\, 3525 Pelandale Ave\, Modesto\, CA\, 95356\, United States
END:VEVENT
BEGIN:VEVENT
DTSTART;TZID=UTC:20270717T090000
DTEND;TZID=UTC:20270717T103000
DTSTAMP:20260424T220326
CREATED:20250501T180111Z
LAST-MODIFIED:20250923T162551Z
UID:10000777-1815814800-1815820200@foodinitiative.org
SUMMARY:FIGS Mobile Pantry-3rd Saturday of the Month
DESCRIPTION:
URL:https://foodinitiative.org/event/figs-mobile-pantry-4-2/2027-07-17/
LOCATION:Children’s Garden\, 3525 Pelandale Ave\, Modesto\, CA\, 95356\, United States
END:VEVENT
BEGIN:VEVENT
DTSTART;TZID=UTC:20270821T090000
DTEND;TZID=UTC:20270821T103000
DTSTAMP:20260424T220326
CREATED:20250501T180111Z
LAST-MODIFIED:20250923T162551Z
UID:10000778-1818838800-1818844200@foodinitiative.org
SUMMARY:FIGS Mobile Pantry-3rd Saturday of the Month
DESCRIPTION:
URL:https://foodinitiative.org/event/figs-mobile-pantry-4-2/2027-08-21/
LOCATION:Children’s Garden\, 3525 Pelandale Ave\, Modesto\, CA\, 95356\, United States
END:VEVENT
BEGIN:VEVENT
DTSTART;TZID=UTC:20270918T090000
DTEND;TZID=UTC:20270918T103000
DTSTAMP:20260424T220326
CREATED:20250501T180111Z
LAST-MODIFIED:20250923T162551Z
UID:10000779-1821258000-1821263400@foodinitiative.org
SUMMARY:FIGS Mobile Pantry-3rd Saturday of the Month
DESCRIPTION:
URL:https://foodinitiative.org/event/figs-mobile-pantry-4-2/2027-09-18/
LOCATION:Children’s Garden\, 3525 Pelandale Ave\, Modesto\, CA\, 95356\, United States
END:VEVENT
BEGIN:VEVENT
DTSTART;TZID=UTC:20271016T090000
DTEND;TZID=UTC:20271016T103000
DTSTAMP:20260424T220326
CREATED:20250501T180111Z
LAST-MODIFIED:20250923T162551Z
UID:10000780-1823677200-1823682600@foodinitiative.org
SUMMARY:FIGS Mobile Pantry-3rd Saturday of the Month
DESCRIPTION:
URL:https://foodinitiative.org/event/figs-mobile-pantry-4-2/2027-10-16/
LOCATION:Children’s Garden\, 3525 Pelandale Ave\, Modesto\, CA\, 95356\, United States
END:VEVENT
BEGIN:VEVENT
DTSTART;TZID=UTC:20271120T090000
DTEND;TZID=UTC:20271120T103000
DTSTAMP:20260424T220326
CREATED:20250501T180111Z
LAST-MODIFIED:20250923T162551Z
UID:10000781-1826701200-1826706600@foodinitiative.org
SUMMARY:FIGS Mobile Pantry-3rd Saturday of the Month
DESCRIPTION:
URL:https://foodinitiative.org/event/figs-mobile-pantry-4-2/2027-11-20/
LOCATION:Children’s Garden\, 3525 Pelandale Ave\, Modesto\, CA\, 95356\, United States
END:VEVENT
BEGIN:VEVENT
DTSTART;TZID=UTC:20271218T090000
DTEND;TZID=UTC:20271218T103000
DTSTAMP:20260424T220326
CREATED:20250501T180111Z
LAST-MODIFIED:20250923T162551Z
UID:10000782-1829120400-1829125800@foodinitiative.org
SUMMARY:FIGS Mobile Pantry-3rd Saturday of the Month
DESCRIPTION:
URL:https://foodinitiative.org/event/figs-mobile-pantry-4-2/2027-12-18/
LOCATION:Children’s Garden\, 3525 Pelandale Ave\, Modesto\, CA\, 95356\, United States
END:VEVENT
BEGIN:VEVENT
DTSTART;TZID=UTC:20280115T090000
DTEND;TZID=UTC:20280115T103000
DTSTAMP:20260424T220326
CREATED:20250501T180111Z
LAST-MODIFIED:20250923T162551Z
UID:10000783-1831539600-1831545000@foodinitiative.org
SUMMARY:FIGS Mobile Pantry-3rd Saturday of the Month
DESCRIPTION:
URL:https://foodinitiative.org/event/figs-mobile-pantry-4-2/2028-01-15/
LOCATION:Children’s Garden\, 3525 Pelandale Ave\, Modesto\, CA\, 95356\, United States
END:VEVENT
BEGIN:VEVENT
DTSTART;TZID=UTC:20280219T090000
DTEND;TZID=UTC:20280219T103000
DTSTAMP:20260424T220326
CREATED:20250501T180111Z
LAST-MODIFIED:20250923T162551Z
UID:10000784-1834563600-1834569000@foodinitiative.org
SUMMARY:FIGS Mobile Pantry-3rd Saturday of the Month
DESCRIPTION:
URL:https://foodinitiative.org/event/figs-mobile-pantry-4-2/2028-02-19/
LOCATION:Children’s Garden\, 3525 Pelandale Ave\, Modesto\, CA\, 95356\, United States
END:VEVENT
BEGIN:VEVENT
DTSTART;TZID=UTC:20280318T090000
DTEND;TZID=UTC:20280318T103000
DTSTAMP:20260424T220326
CREATED:20250501T180111Z
LAST-MODIFIED:20250923T162551Z
UID:10000785-1836982800-1836988200@foodinitiative.org
SUMMARY:FIGS Mobile Pantry-3rd Saturday of the Month
DESCRIPTION:
URL:https://foodinitiative.org/event/figs-mobile-pantry-4-2/2028-03-18/
LOCATION:Children’s Garden\, 3525 Pelandale Ave\, Modesto\, CA\, 95356\, United States
END:VEVENT
BEGIN:VEVENT
DTSTART;TZID=UTC:20280415T090000
DTEND;TZID=UTC:20280415T103000
DTSTAMP:20260424T220326
CREATED:20250501T180111Z
LAST-MODIFIED:20250923T162551Z
UID:10000786-1839402000-1839407400@foodinitiative.org
SUMMARY:FIGS Mobile Pantry-3rd Saturday of the Month
DESCRIPTION:
URL:https://foodinitiative.org/event/figs-mobile-pantry-4-2/2028-04-15/
LOCATION:Children’s Garden\, 3525 Pelandale Ave\, Modesto\, CA\, 95356\, United States
END:VEVENT
BEGIN:VEVENT
DTSTART;TZID=UTC:20280520T090000
DTEND;TZID=UTC:20280520T103000
DTSTAMP:20260424T220326
CREATED:20250501T180111Z
LAST-MODIFIED:20250923T162551Z
UID:10000787-1842426000-1842431400@foodinitiative.org
SUMMARY:FIGS Mobile Pantry-3rd Saturday of the Month
DESCRIPTION:
URL:https://foodinitiative.org/event/figs-mobile-pantry-4-2/2028-05-20/
LOCATION:Children’s Garden\, 3525 Pelandale Ave\, Modesto\, CA\, 95356\, United States
END:VEVENT
BEGIN:VEVENT
DTSTART;TZID=UTC:20280617T090000
DTEND;TZID=UTC:20280617T103000
DTSTAMP:20260424T220326
CREATED:20250501T180111Z
LAST-MODIFIED:20250923T162551Z
UID:10000788-1844845200-1844850600@foodinitiative.org
SUMMARY:FIGS Mobile Pantry-3rd Saturday of the Month
DESCRIPTION:
URL:https://foodinitiative.org/event/figs-mobile-pantry-4-2/2028-06-17/
LOCATION:Children’s Garden\, 3525 Pelandale Ave\, Modesto\, CA\, 95356\, United States
END:VEVENT
BEGIN:VEVENT
DTSTART;TZID=UTC:20280715T090000
DTEND;TZID=UTC:20280715T103000
DTSTAMP:20260424T220326
CREATED:20250501T180111Z
LAST-MODIFIED:20250923T162551Z
UID:10000789-1847264400-1847269800@foodinitiative.org
SUMMARY:FIGS Mobile Pantry-3rd Saturday of the Month
DESCRIPTION:
URL:https://foodinitiative.org/event/figs-mobile-pantry-4-2/2028-07-15/
LOCATION:Children’s Garden\, 3525 Pelandale Ave\, Modesto\, CA\, 95356\, United States
END:VEVENT
BEGIN:VEVENT
DTSTART;TZID=UTC:20280819T090000
DTEND;TZID=UTC:20280819T103000
DTSTAMP:20260424T220326
CREATED:20250501T180111Z
LAST-MODIFIED:20250923T162551Z
UID:10000790-1850288400-1850293800@foodinitiative.org
SUMMARY:FIGS Mobile Pantry-3rd Saturday of the Month
DESCRIPTION:
URL:https://foodinitiative.org/event/figs-mobile-pantry-4-2/2028-08-19/
LOCATION:Children’s Garden\, 3525 Pelandale Ave\, Modesto\, CA\, 95356\, United States
END:VEVENT
BEGIN:VEVENT
DTSTART;TZID=UTC:20280916T090000
DTEND;TZID=UTC:20280916T103000
DTSTAMP:20260424T220326
CREATED:20250501T180111Z
LAST-MODIFIED:20250923T162551Z
UID:10000791-1852707600-1852713000@foodinitiative.org
SUMMARY:FIGS Mobile Pantry-3rd Saturday of the Month
DESCRIPTION:
URL:https://foodinitiative.org/event/figs-mobile-pantry-4-2/2028-09-16/
LOCATION:Children’s Garden\, 3525 Pelandale Ave\, Modesto\, CA\, 95356\, United States
END:VEVENT
BEGIN:VEVENT
DTSTART;TZID=UTC:20281021T090000
DTEND;TZID=UTC:20281021T103000
DTSTAMP:20260424T220326
CREATED:20250501T180111Z
LAST-MODIFIED:20250923T162551Z
UID:10001315-1855731600-1855737000@foodinitiative.org
SUMMARY:FIGS Mobile Pantry-3rd Saturday of the Month
DESCRIPTION:
URL:https://foodinitiative.org/event/figs-mobile-pantry-4-2/2028-10-21/
LOCATION:Children’s Garden\, 3525 Pelandale Ave\, Modesto\, CA\, 95356\, United States
END:VEVENT
BEGIN:VEVENT
DTSTART;TZID=UTC:20281118T090000
DTEND;TZID=UTC:20281118T103000
DTSTAMP:20260424T220326
CREATED:20250501T180111Z
LAST-MODIFIED:20250923T162551Z
UID:10001316-1858150800-1858156200@foodinitiative.org
SUMMARY:FIGS Mobile Pantry-3rd Saturday of the Month
DESCRIPTION:
URL:https://foodinitiative.org/event/figs-mobile-pantry-4-2/2028-11-18/
LOCATION:Children’s Garden\, 3525 Pelandale Ave\, Modesto\, CA\, 95356\, United States
END:VEVENT
BEGIN:VEVENT
DTSTART;TZID=UTC:20281216T090000
DTEND;TZID=UTC:20281216T103000
DTSTAMP:20260424T220326
CREATED:20250501T180111Z
LAST-MODIFIED:20250923T162551Z
UID:10001317-1860570000-1860575400@foodinitiative.org
SUMMARY:FIGS Mobile Pantry-3rd Saturday of the Month
DESCRIPTION:
URL:https://foodinitiative.org/event/figs-mobile-pantry-4-2/2028-12-16/
LOCATION:Children’s Garden\, 3525 Pelandale Ave\, Modesto\, CA\, 95356\, United States
END:VEVENT
BEGIN:VEVENT
DTSTART;TZID=UTC:20290120T090000
DTEND;TZID=UTC:20290120T103000
DTSTAMP:20260424T220326
CREATED:20250501T180111Z
LAST-MODIFIED:20250923T162551Z
UID:10002893-1863594000-1863599400@foodinitiative.org
SUMMARY:FIGS Mobile Pantry-3rd Saturday of the Month
DESCRIPTION:
URL:https://foodinitiative.org/event/figs-mobile-pantry-4-2/2029-01-20/
LOCATION:Children’s Garden\, 3525 Pelandale Ave\, Modesto\, CA\, 95356\, United States
END:VEVENT
BEGIN:VEVENT
DTSTART;TZID=UTC:20290217T090000
DTEND;TZID=UTC:20290217T103000
DTSTAMP:20260424T220326
CREATED:20250501T180111Z
LAST-MODIFIED:20250923T162551Z
UID:10002894-1866013200-1866018600@foodinitiative.org
SUMMARY:FIGS Mobile Pantry-3rd Saturday of the Month
DESCRIPTION:
URL:https://foodinitiative.org/event/figs-mobile-pantry-4-2/2029-02-17/
LOCATION:Children’s Garden\, 3525 Pelandale Ave\, Modesto\, CA\, 95356\, United States
END:VEVENT
BEGIN:VEVENT
DTSTART;TZID=UTC:20290317T090000
DTEND;TZID=UTC:20290317T103000
DTSTAMP:20260424T220326
CREATED:20250501T180111Z
LAST-MODIFIED:20250923T162551Z
UID:10002895-1868432400-1868437800@foodinitiative.org
SUMMARY:FIGS Mobile Pantry-3rd Saturday of the Month
DESCRIPTION:
URL:https://foodinitiative.org/event/figs-mobile-pantry-4-2/2029-03-17/
LOCATION:Children’s Garden\, 3525 Pelandale Ave\, Modesto\, CA\, 95356\, United States
END:VEVENT
BEGIN:VEVENT
DTSTART;TZID=UTC:20290421T090000
DTEND;TZID=UTC:20290421T103000
DTSTAMP:20260424T220326
CREATED:20250501T180111Z
LAST-MODIFIED:20250923T162551Z
UID:10002896-1871456400-1871461800@foodinitiative.org
SUMMARY:FIGS Mobile Pantry-3rd Saturday of the Month
DESCRIPTION:
URL:https://foodinitiative.org/event/figs-mobile-pantry-4-2/2029-04-21/
LOCATION:Children’s Garden\, 3525 Pelandale Ave\, Modesto\, CA\, 95356\, United States
END:VEVENT
BEGIN:VEVENT
DTSTART;TZID=UTC:20290519T090000
DTEND;TZID=UTC:20290519T103000
DTSTAMP:20260424T220326
CREATED:20250501T180111Z
LAST-MODIFIED:20250923T162551Z
UID:10002897-1873875600-1873881000@foodinitiative.org
SUMMARY:FIGS Mobile Pantry-3rd Saturday of the Month
DESCRIPTION:
URL:https://foodinitiative.org/event/figs-mobile-pantry-4-2/2029-05-19/
LOCATION:Children’s Garden\, 3525 Pelandale Ave\, Modesto\, CA\, 95356\, United States
END:VEVENT
BEGIN:VEVENT
DTSTART;TZID=UTC:20290616T090000
DTEND;TZID=UTC:20290616T103000
DTSTAMP:20260424T220326
CREATED:20250501T180111Z
LAST-MODIFIED:20250923T162551Z
UID:10002898-1876294800-1876300200@foodinitiative.org
SUMMARY:FIGS Mobile Pantry-3rd Saturday of the Month
DESCRIPTION:
URL:https://foodinitiative.org/event/figs-mobile-pantry-4-2/2029-06-16/
LOCATION:Children’s Garden\, 3525 Pelandale Ave\, Modesto\, CA\, 95356\, United States
END:VEVENT
BEGIN:VEVENT
DTSTART;TZID=UTC:20290721T090000
DTEND;TZID=UTC:20290721T103000
DTSTAMP:20260424T220326
CREATED:20250501T180111Z
LAST-MODIFIED:20250923T162551Z
UID:10003612-1879318800-1879324200@foodinitiative.org
SUMMARY:FIGS Mobile Pantry-3rd Saturday of the Month
DESCRIPTION:
URL:https://foodinitiative.org/event/figs-mobile-pantry-4-2/2029-07-21/
LOCATION:Children’s Garden\, 3525 Pelandale Ave\, Modesto\, CA\, 95356\, United States
END:VEVENT
BEGIN:VEVENT
DTSTART;TZID=UTC:20290818T090000
DTEND;TZID=UTC:20290818T103000
DTSTAMP:20260424T220326
CREATED:20250501T180111Z
LAST-MODIFIED:20250923T162551Z
UID:10003613-1881738000-1881743400@foodinitiative.org
SUMMARY:FIGS Mobile Pantry-3rd Saturday of the Month
DESCRIPTION:
URL:https://foodinitiative.org/event/figs-mobile-pantry-4-2/2029-08-18/
LOCATION:Children’s Garden\, 3525 Pelandale Ave\, Modesto\, CA\, 95356\, United States
END:VEVENT
END:VCALENDAR