BEGIN:VCALENDAR
VERSION:2.0
PRODID:-//The Food Initiative - ECPv6.15.20//NONSGML v1.0//EN
CALSCALE:GREGORIAN
METHOD:PUBLISH
X-ORIGINAL-URL:https://foodinitiative.org
X-WR-CALDESC:Events for The Food Initiative
REFRESH-INTERVAL;VALUE=DURATION:PT1H
X-Robots-Tag:noindex
X-PUBLISHED-TTL:PT1H
BEGIN:VTIMEZONE
TZID:UTC
BEGIN:STANDARD
TZOFFSETFROM:+0000
TZOFFSETTO:+0000
TZNAME:UTC
DTSTART:20230101T000000
END:STANDARD
END:VTIMEZONE
BEGIN:VEVENT
DTSTART;TZID=UTC:20260415T093000
DTEND;TZID=UTC:20260415T110000
DTSTAMP:20260424T221300
CREATED:20240131T004740Z
LAST-MODIFIED:20250407T202118Z
UID:10002426-1776245400-1776250800@foodinitiative.org
SUMMARY:FIGS Mobile Pantry-3rd Wednesday of the Month
DESCRIPTION:
URL:https://foodinitiative.org/event/figs-mobile-pantry-19/2026-04-15/
LOCATION:International Rescue Committee (IRC)\, 3446 N. Golden State Blvd.\, Turlock\, 95380\, United States
END:VEVENT
BEGIN:VEVENT
DTSTART;TZID=UTC:20260318T093000
DTEND;TZID=UTC:20260318T110000
DTSTAMP:20260424T221300
CREATED:20240131T004740Z
LAST-MODIFIED:20250407T202118Z
UID:10002425-1773826200-1773831600@foodinitiative.org
SUMMARY:FIGS Mobile Pantry-3rd Wednesday of the Month
DESCRIPTION:
URL:https://foodinitiative.org/event/figs-mobile-pantry-19/2026-03-18/
LOCATION:International Rescue Committee (IRC)\, 3446 N. Golden State Blvd.\, Turlock\, 95380\, United States
END:VEVENT
BEGIN:VEVENT
DTSTART;TZID=UTC:20260218T093000
DTEND;TZID=UTC:20260218T110000
DTSTAMP:20260424T221300
CREATED:20240131T004740Z
LAST-MODIFIED:20250407T202118Z
UID:10002424-1771407000-1771412400@foodinitiative.org
SUMMARY:FIGS Mobile Pantry-3rd Wednesday of the Month
DESCRIPTION:
URL:https://foodinitiative.org/event/figs-mobile-pantry-19/2026-02-18/
LOCATION:International Rescue Committee (IRC)\, 3446 N. Golden State Blvd.\, Turlock\, 95380\, United States
END:VEVENT
BEGIN:VEVENT
DTSTART;TZID=UTC:20260121T093000
DTEND;TZID=UTC:20260121T110000
DTSTAMP:20260424T221300
CREATED:20240131T004740Z
LAST-MODIFIED:20250407T202118Z
UID:10002423-1768987800-1768993200@foodinitiative.org
SUMMARY:FIGS Mobile Pantry-3rd Wednesday of the Month
DESCRIPTION:
URL:https://foodinitiative.org/event/figs-mobile-pantry-19/2026-01-21/
LOCATION:International Rescue Committee (IRC)\, 3446 N. Golden State Blvd.\, Turlock\, 95380\, United States
END:VEVENT
BEGIN:VEVENT
DTSTART;TZID=UTC:20251217T093000
DTEND;TZID=UTC:20251217T110000
DTSTAMP:20260424T221300
CREATED:20240131T004740Z
LAST-MODIFIED:20250407T202118Z
UID:10002422-1765963800-1765969200@foodinitiative.org
SUMMARY:FIGS Mobile Pantry-3rd Wednesday of the Month
DESCRIPTION:
URL:https://foodinitiative.org/event/figs-mobile-pantry-19/2025-12-17/
LOCATION:International Rescue Committee (IRC)\, 3446 N. Golden State Blvd.\, Turlock\, 95380\, United States
END:VEVENT
BEGIN:VEVENT
DTSTART;TZID=UTC:20251119T093000
DTEND;TZID=UTC:20251119T110000
DTSTAMP:20260424T221300
CREATED:20240131T004740Z
LAST-MODIFIED:20250407T202118Z
UID:10002421-1763544600-1763550000@foodinitiative.org
SUMMARY:FIGS Mobile Pantry-3rd Wednesday of the Month
DESCRIPTION:
URL:https://foodinitiative.org/event/figs-mobile-pantry-19/2025-11-19/
LOCATION:International Rescue Committee (IRC)\, 3446 N. Golden State Blvd.\, Turlock\, 95380\, United States
END:VEVENT
BEGIN:VEVENT
DTSTART;TZID=UTC:20251015T093000
DTEND;TZID=UTC:20251015T110000
DTSTAMP:20260424T221300
CREATED:20240131T004740Z
LAST-MODIFIED:20250407T202118Z
UID:10002420-1760520600-1760526000@foodinitiative.org
SUMMARY:FIGS Mobile Pantry-3rd Wednesday of the Month
DESCRIPTION:
URL:https://foodinitiative.org/event/figs-mobile-pantry-19/2025-10-15/
LOCATION:International Rescue Committee (IRC)\, 3446 N. Golden State Blvd.\, Turlock\, 95380\, United States
END:VEVENT
BEGIN:VEVENT
DTSTART;TZID=UTC:20250917T093000
DTEND;TZID=UTC:20250917T110000
DTSTAMP:20260424T221300
CREATED:20240131T004740Z
LAST-MODIFIED:20250407T202118Z
UID:10002419-1758101400-1758106800@foodinitiative.org
SUMMARY:FIGS Mobile Pantry-3rd Wednesday of the Month
DESCRIPTION:
URL:https://foodinitiative.org/event/figs-mobile-pantry-19/2025-09-17/
LOCATION:International Rescue Committee (IRC)\, 3446 N. Golden State Blvd.\, Turlock\, 95380\, United States
END:VEVENT
BEGIN:VEVENT
DTSTART;TZID=UTC:20250820T093000
DTEND;TZID=UTC:20250820T110000
DTSTAMP:20260424T221300
CREATED:20240131T004740Z
LAST-MODIFIED:20250407T202118Z
UID:10002418-1755682200-1755687600@foodinitiative.org
SUMMARY:FIGS Mobile Pantry-3rd Wednesday of the Month
DESCRIPTION:
URL:https://foodinitiative.org/event/figs-mobile-pantry-19/2025-08-20/
LOCATION:International Rescue Committee (IRC)\, 3446 N. Golden State Blvd.\, Turlock\, 95380\, United States
END:VEVENT
BEGIN:VEVENT
DTSTART;TZID=UTC:20250716T093000
DTEND;TZID=UTC:20250716T110000
DTSTAMP:20260424T221300
CREATED:20240131T004740Z
LAST-MODIFIED:20250407T202118Z
UID:10002417-1752658200-1752663600@foodinitiative.org
SUMMARY:FIGS Mobile Pantry-3rd Wednesday of the Month
DESCRIPTION:
URL:https://foodinitiative.org/event/figs-mobile-pantry-19/2025-07-16/
LOCATION:International Rescue Committee (IRC)\, 3446 N. Golden State Blvd.\, Turlock\, 95380\, United States
END:VEVENT
BEGIN:VEVENT
DTSTART;TZID=UTC:20250618T093000
DTEND;TZID=UTC:20250618T110000
DTSTAMP:20260424T221300
CREATED:20240131T004740Z
LAST-MODIFIED:20250407T202118Z
UID:10002416-1750239000-1750244400@foodinitiative.org
SUMMARY:FIGS Mobile Pantry-3rd Wednesday of the Month
DESCRIPTION:
URL:https://foodinitiative.org/event/figs-mobile-pantry-19/2025-06-18/
LOCATION:International Rescue Committee (IRC)\, 3446 N. Golden State Blvd.\, Turlock\, 95380\, United States
END:VEVENT
BEGIN:VEVENT
DTSTART;TZID=UTC:20250521T093000
DTEND;TZID=UTC:20250521T110000
DTSTAMP:20260424T221300
CREATED:20240131T004740Z
LAST-MODIFIED:20250407T202118Z
UID:10002415-1747819800-1747825200@foodinitiative.org
SUMMARY:FIGS Mobile Pantry-3rd Wednesday of the Month
DESCRIPTION:
URL:https://foodinitiative.org/event/figs-mobile-pantry-19/2025-05-21/
LOCATION:International Rescue Committee (IRC)\, 3446 N. Golden State Blvd.\, Turlock\, 95380\, United States
END:VEVENT
BEGIN:VEVENT
DTSTART;TZID=UTC:20250416T093000
DTEND;TZID=UTC:20250416T110000
DTSTAMP:20260424T221300
CREATED:20240131T004740Z
LAST-MODIFIED:20250407T202118Z
UID:10002414-1744795800-1744801200@foodinitiative.org
SUMMARY:FIGS Mobile Pantry-3rd Wednesday of the Month
DESCRIPTION:
URL:https://foodinitiative.org/event/figs-mobile-pantry-19/2025-04-16/
LOCATION:International Rescue Committee (IRC)\, 3446 N. Golden State Blvd.\, Turlock\, 95380\, United States
END:VEVENT
BEGIN:VEVENT
DTSTART;TZID=UTC:20250319T093000
DTEND;TZID=UTC:20250319T110000
DTSTAMP:20260424T221300
CREATED:20240131T004740Z
LAST-MODIFIED:20250407T202118Z
UID:10002413-1742376600-1742382000@foodinitiative.org
SUMMARY:FIGS Mobile Pantry-3rd Wednesday of the Month
DESCRIPTION:
URL:https://foodinitiative.org/event/figs-mobile-pantry-19/2025-03-19/
LOCATION:International Rescue Committee (IRC)\, 3446 N. Golden State Blvd.\, Turlock\, 95380\, United States
END:VEVENT
BEGIN:VEVENT
DTSTART;TZID=UTC:20250219T093000
DTEND;TZID=UTC:20250219T110000
DTSTAMP:20260424T221300
CREATED:20240131T004740Z
LAST-MODIFIED:20250407T202118Z
UID:10002412-1739957400-1739962800@foodinitiative.org
SUMMARY:FIGS Mobile Pantry-3rd Wednesday of the Month
DESCRIPTION:
URL:https://foodinitiative.org/event/figs-mobile-pantry-19/2025-02-19/
LOCATION:International Rescue Committee (IRC)\, 3446 N. Golden State Blvd.\, Turlock\, 95380\, United States
END:VEVENT
BEGIN:VEVENT
DTSTART;TZID=UTC:20250115T093000
DTEND;TZID=UTC:20250115T110000
DTSTAMP:20260424T221300
CREATED:20240131T004740Z
LAST-MODIFIED:20250407T202118Z
UID:10002411-1736933400-1736938800@foodinitiative.org
SUMMARY:FIGS Mobile Pantry-3rd Wednesday of the Month
DESCRIPTION:
URL:https://foodinitiative.org/event/figs-mobile-pantry-19/2025-01-15/
LOCATION:International Rescue Committee (IRC)\, 3446 N. Golden State Blvd.\, Turlock\, 95380\, United States
END:VEVENT
BEGIN:VEVENT
DTSTART;TZID=UTC:20241218T093000
DTEND;TZID=UTC:20241218T110000
DTSTAMP:20260424T221300
CREATED:20240131T004740Z
LAST-MODIFIED:20250407T202118Z
UID:10002410-1734514200-1734519600@foodinitiative.org
SUMMARY:FIGS Mobile Pantry-3rd Wednesday of the Month
DESCRIPTION:
URL:https://foodinitiative.org/event/figs-mobile-pantry-19/2024-12-18/
LOCATION:International Rescue Committee (IRC)\, 3446 N. Golden State Blvd.\, Turlock\, 95380\, United States
END:VEVENT
BEGIN:VEVENT
DTSTART;TZID=UTC:20241120T093000
DTEND;TZID=UTC:20241120T110000
DTSTAMP:20260424T221300
CREATED:20240131T004740Z
LAST-MODIFIED:20250407T202118Z
UID:10002409-1732095000-1732100400@foodinitiative.org
SUMMARY:FIGS Mobile Pantry-3rd Wednesday of the Month
DESCRIPTION:
URL:https://foodinitiative.org/event/figs-mobile-pantry-19/2024-11-20/
LOCATION:International Rescue Committee (IRC)\, 3446 N. Golden State Blvd.\, Turlock\, 95380\, United States
END:VEVENT
BEGIN:VEVENT
DTSTART;TZID=UTC:20241016T093000
DTEND;TZID=UTC:20241016T110000
DTSTAMP:20260424T221300
CREATED:20240131T004740Z
LAST-MODIFIED:20250407T202118Z
UID:10002408-1729071000-1729076400@foodinitiative.org
SUMMARY:FIGS Mobile Pantry-3rd Wednesday of the Month
DESCRIPTION:
URL:https://foodinitiative.org/event/figs-mobile-pantry-19/2024-10-16/
LOCATION:International Rescue Committee (IRC)\, 3446 N. Golden State Blvd.\, Turlock\, 95380\, United States
END:VEVENT
BEGIN:VEVENT
DTSTART;TZID=UTC:20240918T093000
DTEND;TZID=UTC:20240918T110000
DTSTAMP:20260424T221300
CREATED:20240131T004740Z
LAST-MODIFIED:20250407T202118Z
UID:10002407-1726651800-1726657200@foodinitiative.org
SUMMARY:FIGS Mobile Pantry-3rd Wednesday of the Month
DESCRIPTION:
URL:https://foodinitiative.org/event/figs-mobile-pantry-19/2024-09-18/
LOCATION:International Rescue Committee (IRC)\, 3446 N. Golden State Blvd.\, Turlock\, 95380\, United States
END:VEVENT
BEGIN:VEVENT
DTSTART;TZID=UTC:20240821T093000
DTEND;TZID=UTC:20240821T110000
DTSTAMP:20260424T221300
CREATED:20240131T004740Z
LAST-MODIFIED:20250407T202118Z
UID:10002406-1724232600-1724238000@foodinitiative.org
SUMMARY:FIGS Mobile Pantry-3rd Wednesday of the Month
DESCRIPTION:
URL:https://foodinitiative.org/event/figs-mobile-pantry-19/2024-08-21/
LOCATION:International Rescue Committee (IRC)\, 3446 N. Golden State Blvd.\, Turlock\, 95380\, United States
END:VEVENT
BEGIN:VEVENT
DTSTART;TZID=UTC:20240717T093000
DTEND;TZID=UTC:20240717T110000
DTSTAMP:20260424T221300
CREATED:20240131T004740Z
LAST-MODIFIED:20250407T202118Z
UID:10002405-1721208600-1721214000@foodinitiative.org
SUMMARY:FIGS Mobile Pantry-3rd Wednesday of the Month
DESCRIPTION:
URL:https://foodinitiative.org/event/figs-mobile-pantry-19/2024-07-17/
LOCATION:International Rescue Committee (IRC)\, 3446 N. Golden State Blvd.\, Turlock\, 95380\, United States
END:VEVENT
BEGIN:VEVENT
DTSTART;TZID=UTC:20240619T093000
DTEND;TZID=UTC:20240619T110000
DTSTAMP:20260424T221300
CREATED:20240131T004740Z
LAST-MODIFIED:20250407T202118Z
UID:10002404-1718789400-1718794800@foodinitiative.org
SUMMARY:FIGS Mobile Pantry-3rd Wednesday of the Month
DESCRIPTION:
URL:https://foodinitiative.org/event/figs-mobile-pantry-19/2024-06-19/
LOCATION:International Rescue Committee (IRC)\, 3446 N. Golden State Blvd.\, Turlock\, 95380\, United States
END:VEVENT
BEGIN:VEVENT
DTSTART;TZID=UTC:20240515T093000
DTEND;TZID=UTC:20240515T110000
DTSTAMP:20260424T221300
CREATED:20240131T004740Z
LAST-MODIFIED:20250407T202118Z
UID:10002403-1715765400-1715770800@foodinitiative.org
SUMMARY:FIGS Mobile Pantry-3rd Wednesday of the Month
DESCRIPTION:
URL:https://foodinitiative.org/event/figs-mobile-pantry-19/2024-05-15/
LOCATION:International Rescue Committee (IRC)\, 3446 N. Golden State Blvd.\, Turlock\, 95380\, United States
END:VEVENT
BEGIN:VEVENT
DTSTART;TZID=UTC:20240417T093000
DTEND;TZID=UTC:20240417T110000
DTSTAMP:20260424T221300
CREATED:20240131T004740Z
LAST-MODIFIED:20250407T202118Z
UID:10002402-1713346200-1713351600@foodinitiative.org
SUMMARY:FIGS Mobile Pantry-3rd Wednesday of the Month
DESCRIPTION:
URL:https://foodinitiative.org/event/figs-mobile-pantry-19/2024-04-17/
LOCATION:International Rescue Committee (IRC)\, 3446 N. Golden State Blvd.\, Turlock\, 95380\, United States
END:VEVENT
BEGIN:VEVENT
DTSTART;TZID=UTC:20240320T093000
DTEND;TZID=UTC:20240320T110000
DTSTAMP:20260424T221300
CREATED:20240131T004740Z
LAST-MODIFIED:20250407T202118Z
UID:10002401-1710927000-1710932400@foodinitiative.org
SUMMARY:FIGS Mobile Pantry-3rd Wednesday of the Month
DESCRIPTION:
URL:https://foodinitiative.org/event/figs-mobile-pantry-19/2024-03-20/
LOCATION:International Rescue Committee (IRC)\, 3446 N. Golden State Blvd.\, Turlock\, 95380\, United States
END:VEVENT
END:VCALENDAR