BEGIN:VCALENDAR
VERSION:2.0
PRODID:-//The Food Initiative - ECPv6.15.20//NONSGML v1.0//EN
CALSCALE:GREGORIAN
METHOD:PUBLISH
X-ORIGINAL-URL:https://foodinitiative.org
X-WR-CALDESC:Events for The Food Initiative
REFRESH-INTERVAL;VALUE=DURATION:PT1H
X-Robots-Tag:noindex
X-PUBLISHED-TTL:PT1H
BEGIN:VTIMEZONE
TZID:UTC
BEGIN:STANDARD
TZOFFSETFROM:+0000
TZOFFSETTO:+0000
TZNAME:UTC
DTSTART:20260101T000000
END:STANDARD
END:VTIMEZONE
BEGIN:VEVENT
DTSTART;TZID=UTC:20270325T100000
DTEND;TZID=UTC:20270325T110000
DTSTAMP:20260424T222415
CREATED:20241216T195748Z
LAST-MODIFIED:20250407T193343Z
UID:10000163-1805968800-1805972400@foodinitiative.org
SUMMARY:FIGS Mobile Pantry-4th Thursday of the Month
DESCRIPTION:
URL:https://foodinitiative.org/event/figs-mobile-pantry-2-2-2/2027-03-25/
LOCATION:Orville Wright Elementary Child Develpment\, 805 Empire Ave\, Modesto\, California\, 95354
END:VEVENT
BEGIN:VEVENT
DTSTART;TZID=UTC:20270422T100000
DTEND;TZID=UTC:20270422T110000
DTSTAMP:20260424T222415
CREATED:20241216T195748Z
LAST-MODIFIED:20250407T193343Z
UID:10000164-1808388000-1808391600@foodinitiative.org
SUMMARY:FIGS Mobile Pantry-4th Thursday of the Month
DESCRIPTION:
URL:https://foodinitiative.org/event/figs-mobile-pantry-2-2-2/2027-04-22/
LOCATION:Orville Wright Elementary Child Develpment\, 805 Empire Ave\, Modesto\, California\, 95354
END:VEVENT
BEGIN:VEVENT
DTSTART;TZID=UTC:20270527T100000
DTEND;TZID=UTC:20270527T110000
DTSTAMP:20260424T222415
CREATED:20241216T195748Z
LAST-MODIFIED:20250407T193343Z
UID:10000165-1811412000-1811415600@foodinitiative.org
SUMMARY:FIGS Mobile Pantry-4th Thursday of the Month
DESCRIPTION:
URL:https://foodinitiative.org/event/figs-mobile-pantry-2-2-2/2027-05-27/
LOCATION:Orville Wright Elementary Child Develpment\, 805 Empire Ave\, Modesto\, California\, 95354
END:VEVENT
BEGIN:VEVENT
DTSTART;TZID=UTC:20270624T100000
DTEND;TZID=UTC:20270624T110000
DTSTAMP:20260424T222415
CREATED:20241216T195748Z
LAST-MODIFIED:20250407T193343Z
UID:10000166-1813831200-1813834800@foodinitiative.org
SUMMARY:FIGS Mobile Pantry-4th Thursday of the Month
DESCRIPTION:
URL:https://foodinitiative.org/event/figs-mobile-pantry-2-2-2/2027-06-24/
LOCATION:Orville Wright Elementary Child Develpment\, 805 Empire Ave\, Modesto\, California\, 95354
END:VEVENT
BEGIN:VEVENT
DTSTART;TZID=UTC:20270722T100000
DTEND;TZID=UTC:20270722T110000
DTSTAMP:20260424T222415
CREATED:20241216T195748Z
LAST-MODIFIED:20250407T193343Z
UID:10000167-1816250400-1816254000@foodinitiative.org
SUMMARY:FIGS Mobile Pantry-4th Thursday of the Month
DESCRIPTION:
URL:https://foodinitiative.org/event/figs-mobile-pantry-2-2-2/2027-07-22/
LOCATION:Orville Wright Elementary Child Develpment\, 805 Empire Ave\, Modesto\, California\, 95354
END:VEVENT
BEGIN:VEVENT
DTSTART;TZID=UTC:20270826T100000
DTEND;TZID=UTC:20270826T110000
DTSTAMP:20260424T222415
CREATED:20241216T195748Z
LAST-MODIFIED:20250407T193343Z
UID:10000168-1819274400-1819278000@foodinitiative.org
SUMMARY:FIGS Mobile Pantry-4th Thursday of the Month
DESCRIPTION:
URL:https://foodinitiative.org/event/figs-mobile-pantry-2-2-2/2027-08-26/
LOCATION:Orville Wright Elementary Child Develpment\, 805 Empire Ave\, Modesto\, California\, 95354
END:VEVENT
BEGIN:VEVENT
DTSTART;TZID=UTC:20270923T100000
DTEND;TZID=UTC:20270923T110000
DTSTAMP:20260424T222415
CREATED:20241216T195748Z
LAST-MODIFIED:20250407T193343Z
UID:10000169-1821693600-1821697200@foodinitiative.org
SUMMARY:FIGS Mobile Pantry-4th Thursday of the Month
DESCRIPTION:
URL:https://foodinitiative.org/event/figs-mobile-pantry-2-2-2/2027-09-23/
LOCATION:Orville Wright Elementary Child Develpment\, 805 Empire Ave\, Modesto\, California\, 95354
END:VEVENT
BEGIN:VEVENT
DTSTART;TZID=UTC:20271028T100000
DTEND;TZID=UTC:20271028T110000
DTSTAMP:20260424T222415
CREATED:20241216T195748Z
LAST-MODIFIED:20250407T193343Z
UID:10000170-1824717600-1824721200@foodinitiative.org
SUMMARY:FIGS Mobile Pantry-4th Thursday of the Month
DESCRIPTION:
URL:https://foodinitiative.org/event/figs-mobile-pantry-2-2-2/2027-10-28/
LOCATION:Orville Wright Elementary Child Develpment\, 805 Empire Ave\, Modesto\, California\, 95354
END:VEVENT
BEGIN:VEVENT
DTSTART;TZID=UTC:20271125T100000
DTEND;TZID=UTC:20271125T110000
DTSTAMP:20260424T222415
CREATED:20241216T195748Z
LAST-MODIFIED:20250407T193343Z
UID:10000171-1827136800-1827140400@foodinitiative.org
SUMMARY:FIGS Mobile Pantry-4th Thursday of the Month
DESCRIPTION:
URL:https://foodinitiative.org/event/figs-mobile-pantry-2-2-2/2027-11-25/
LOCATION:Orville Wright Elementary Child Develpment\, 805 Empire Ave\, Modesto\, California\, 95354
END:VEVENT
BEGIN:VEVENT
DTSTART;TZID=UTC:20271223T100000
DTEND;TZID=UTC:20271223T110000
DTSTAMP:20260424T222415
CREATED:20241216T195748Z
LAST-MODIFIED:20250407T193343Z
UID:10000172-1829556000-1829559600@foodinitiative.org
SUMMARY:FIGS Mobile Pantry-4th Thursday of the Month
DESCRIPTION:
URL:https://foodinitiative.org/event/figs-mobile-pantry-2-2-2/2027-12-23/
LOCATION:Orville Wright Elementary Child Develpment\, 805 Empire Ave\, Modesto\, California\, 95354
END:VEVENT
BEGIN:VEVENT
DTSTART;TZID=UTC:20280127T100000
DTEND;TZID=UTC:20280127T110000
DTSTAMP:20260424T222415
CREATED:20241216T195748Z
LAST-MODIFIED:20250407T193343Z
UID:10000173-1832580000-1832583600@foodinitiative.org
SUMMARY:FIGS Mobile Pantry-4th Thursday of the Month
DESCRIPTION:
URL:https://foodinitiative.org/event/figs-mobile-pantry-2-2-2/2028-01-27/
LOCATION:Orville Wright Elementary Child Develpment\, 805 Empire Ave\, Modesto\, California\, 95354
END:VEVENT
BEGIN:VEVENT
DTSTART;TZID=UTC:20280224T100000
DTEND;TZID=UTC:20280224T110000
DTSTAMP:20260424T222415
CREATED:20241216T195748Z
LAST-MODIFIED:20250407T193343Z
UID:10000174-1834999200-1835002800@foodinitiative.org
SUMMARY:FIGS Mobile Pantry-4th Thursday of the Month
DESCRIPTION:
URL:https://foodinitiative.org/event/figs-mobile-pantry-2-2-2/2028-02-24/
LOCATION:Orville Wright Elementary Child Develpment\, 805 Empire Ave\, Modesto\, California\, 95354
END:VEVENT
BEGIN:VEVENT
DTSTART;TZID=UTC:20280323T100000
DTEND;TZID=UTC:20280323T110000
DTSTAMP:20260424T222415
CREATED:20241216T195748Z
LAST-MODIFIED:20250407T193343Z
UID:10000175-1837418400-1837422000@foodinitiative.org
SUMMARY:FIGS Mobile Pantry-4th Thursday of the Month
DESCRIPTION:
URL:https://foodinitiative.org/event/figs-mobile-pantry-2-2-2/2028-03-23/
LOCATION:Orville Wright Elementary Child Develpment\, 805 Empire Ave\, Modesto\, California\, 95354
END:VEVENT
BEGIN:VEVENT
DTSTART;TZID=UTC:20280427T100000
DTEND;TZID=UTC:20280427T110000
DTSTAMP:20260424T222415
CREATED:20241216T195748Z
LAST-MODIFIED:20250407T193343Z
UID:10000176-1840442400-1840446000@foodinitiative.org
SUMMARY:FIGS Mobile Pantry-4th Thursday of the Month
DESCRIPTION:
URL:https://foodinitiative.org/event/figs-mobile-pantry-2-2-2/2028-04-27/
LOCATION:Orville Wright Elementary Child Develpment\, 805 Empire Ave\, Modesto\, California\, 95354
END:VEVENT
BEGIN:VEVENT
DTSTART;TZID=UTC:20280525T100000
DTEND;TZID=UTC:20280525T110000
DTSTAMP:20260424T222415
CREATED:20241216T195748Z
LAST-MODIFIED:20250407T193343Z
UID:10000177-1842861600-1842865200@foodinitiative.org
SUMMARY:FIGS Mobile Pantry-4th Thursday of the Month
DESCRIPTION:
URL:https://foodinitiative.org/event/figs-mobile-pantry-2-2-2/2028-05-25/
LOCATION:Orville Wright Elementary Child Develpment\, 805 Empire Ave\, Modesto\, California\, 95354
END:VEVENT
BEGIN:VEVENT
DTSTART;TZID=UTC:20280622T100000
DTEND;TZID=UTC:20280622T110000
DTSTAMP:20260424T222415
CREATED:20241216T195748Z
LAST-MODIFIED:20250407T193343Z
UID:10000178-1845280800-1845284400@foodinitiative.org
SUMMARY:FIGS Mobile Pantry-4th Thursday of the Month
DESCRIPTION:
URL:https://foodinitiative.org/event/figs-mobile-pantry-2-2-2/2028-06-22/
LOCATION:Orville Wright Elementary Child Develpment\, 805 Empire Ave\, Modesto\, California\, 95354
END:VEVENT
BEGIN:VEVENT
DTSTART;TZID=UTC:20280727T100000
DTEND;TZID=UTC:20280727T110000
DTSTAMP:20260424T222415
CREATED:20241216T195748Z
LAST-MODIFIED:20250407T193343Z
UID:10000179-1848304800-1848308400@foodinitiative.org
SUMMARY:FIGS Mobile Pantry-4th Thursday of the Month
DESCRIPTION:
URL:https://foodinitiative.org/event/figs-mobile-pantry-2-2-2/2028-07-27/
LOCATION:Orville Wright Elementary Child Develpment\, 805 Empire Ave\, Modesto\, California\, 95354
END:VEVENT
BEGIN:VEVENT
DTSTART;TZID=UTC:20280824T100000
DTEND;TZID=UTC:20280824T110000
DTSTAMP:20260424T222415
CREATED:20241216T195748Z
LAST-MODIFIED:20250407T193343Z
UID:10000180-1850724000-1850727600@foodinitiative.org
SUMMARY:FIGS Mobile Pantry-4th Thursday of the Month
DESCRIPTION:
URL:https://foodinitiative.org/event/figs-mobile-pantry-2-2-2/2028-08-24/
LOCATION:Orville Wright Elementary Child Develpment\, 805 Empire Ave\, Modesto\, California\, 95354
END:VEVENT
BEGIN:VEVENT
DTSTART;TZID=UTC:20280928T100000
DTEND;TZID=UTC:20280928T110000
DTSTAMP:20260424T222415
CREATED:20241216T195748Z
LAST-MODIFIED:20250407T193343Z
UID:10000181-1853748000-1853751600@foodinitiative.org
SUMMARY:FIGS Mobile Pantry-4th Thursday of the Month
DESCRIPTION:
URL:https://foodinitiative.org/event/figs-mobile-pantry-2-2-2/2028-09-28/
LOCATION:Orville Wright Elementary Child Develpment\, 805 Empire Ave\, Modesto\, California\, 95354
END:VEVENT
BEGIN:VEVENT
DTSTART;TZID=UTC:20281026T100000
DTEND;TZID=UTC:20281026T110000
DTSTAMP:20260424T222415
CREATED:20241216T195748Z
LAST-MODIFIED:20250407T193343Z
UID:10000794-1856167200-1856170800@foodinitiative.org
SUMMARY:FIGS Mobile Pantry-4th Thursday of the Month
DESCRIPTION:
URL:https://foodinitiative.org/event/figs-mobile-pantry-2-2-2/2028-10-26/
LOCATION:Orville Wright Elementary Child Develpment\, 805 Empire Ave\, Modesto\, California\, 95354
END:VEVENT
BEGIN:VEVENT
DTSTART;TZID=UTC:20281123T100000
DTEND;TZID=UTC:20281123T110000
DTSTAMP:20260424T222415
CREATED:20241216T195748Z
LAST-MODIFIED:20250407T193343Z
UID:10000999-1858586400-1858590000@foodinitiative.org
SUMMARY:FIGS Mobile Pantry-4th Thursday of the Month
DESCRIPTION:
URL:https://foodinitiative.org/event/figs-mobile-pantry-2-2-2/2028-11-23/
LOCATION:Orville Wright Elementary Child Develpment\, 805 Empire Ave\, Modesto\, California\, 95354
END:VEVENT
BEGIN:VEVENT
DTSTART;TZID=UTC:20281228T100000
DTEND;TZID=UTC:20281228T110000
DTSTAMP:20260424T222415
CREATED:20241216T195748Z
LAST-MODIFIED:20250407T193343Z
UID:10001000-1861610400-1861614000@foodinitiative.org
SUMMARY:FIGS Mobile Pantry-4th Thursday of the Month
DESCRIPTION:
URL:https://foodinitiative.org/event/figs-mobile-pantry-2-2-2/2028-12-28/
LOCATION:Orville Wright Elementary Child Develpment\, 805 Empire Ave\, Modesto\, California\, 95354
END:VEVENT
BEGIN:VEVENT
DTSTART;TZID=UTC:20290125T100000
DTEND;TZID=UTC:20290125T110000
DTSTAMP:20260424T222415
CREATED:20241216T195748Z
LAST-MODIFIED:20250407T193343Z
UID:10002704-1864029600-1864033200@foodinitiative.org
SUMMARY:FIGS Mobile Pantry-4th Thursday of the Month
DESCRIPTION:
URL:https://foodinitiative.org/event/figs-mobile-pantry-2-2-2/2029-01-25/
LOCATION:Orville Wright Elementary Child Develpment\, 805 Empire Ave\, Modesto\, California\, 95354
END:VEVENT
BEGIN:VEVENT
DTSTART;TZID=UTC:20290222T100000
DTEND;TZID=UTC:20290222T110000
DTSTAMP:20260424T222415
CREATED:20241216T195748Z
LAST-MODIFIED:20250407T193343Z
UID:10002705-1866448800-1866452400@foodinitiative.org
SUMMARY:FIGS Mobile Pantry-4th Thursday of the Month
DESCRIPTION:
URL:https://foodinitiative.org/event/figs-mobile-pantry-2-2-2/2029-02-22/
LOCATION:Orville Wright Elementary Child Develpment\, 805 Empire Ave\, Modesto\, California\, 95354
END:VEVENT
BEGIN:VEVENT
DTSTART;TZID=UTC:20290322T100000
DTEND;TZID=UTC:20290322T110000
DTSTAMP:20260424T222415
CREATED:20241216T195748Z
LAST-MODIFIED:20250407T193343Z
UID:10002706-1868868000-1868871600@foodinitiative.org
SUMMARY:FIGS Mobile Pantry-4th Thursday of the Month
DESCRIPTION:
URL:https://foodinitiative.org/event/figs-mobile-pantry-2-2-2/2029-03-22/
LOCATION:Orville Wright Elementary Child Develpment\, 805 Empire Ave\, Modesto\, California\, 95354
END:VEVENT
BEGIN:VEVENT
DTSTART;TZID=UTC:20290426T100000
DTEND;TZID=UTC:20290426T110000
DTSTAMP:20260424T222415
CREATED:20241216T195748Z
LAST-MODIFIED:20250407T193343Z
UID:10002707-1871892000-1871895600@foodinitiative.org
SUMMARY:FIGS Mobile Pantry-4th Thursday of the Month
DESCRIPTION:
URL:https://foodinitiative.org/event/figs-mobile-pantry-2-2-2/2029-04-26/
LOCATION:Orville Wright Elementary Child Develpment\, 805 Empire Ave\, Modesto\, California\, 95354
END:VEVENT
BEGIN:VEVENT
DTSTART;TZID=UTC:20290524T100000
DTEND;TZID=UTC:20290524T110000
DTSTAMP:20260424T222415
CREATED:20241216T195748Z
LAST-MODIFIED:20250407T193343Z
UID:10002952-1874311200-1874314800@foodinitiative.org
SUMMARY:FIGS Mobile Pantry-4th Thursday of the Month
DESCRIPTION:
URL:https://foodinitiative.org/event/figs-mobile-pantry-2-2-2/2029-05-24/
LOCATION:Orville Wright Elementary Child Develpment\, 805 Empire Ave\, Modesto\, California\, 95354
END:VEVENT
BEGIN:VEVENT
DTSTART;TZID=UTC:20290628T100000
DTEND;TZID=UTC:20290628T110000
DTSTAMP:20260424T222415
CREATED:20241216T195748Z
LAST-MODIFIED:20250407T193343Z
UID:10002953-1877335200-1877338800@foodinitiative.org
SUMMARY:FIGS Mobile Pantry-4th Thursday of the Month
DESCRIPTION:
URL:https://foodinitiative.org/event/figs-mobile-pantry-2-2-2/2029-06-28/
LOCATION:Orville Wright Elementary Child Develpment\, 805 Empire Ave\, Modesto\, California\, 95354
END:VEVENT
BEGIN:VEVENT
DTSTART;TZID=UTC:20290726T100000
DTEND;TZID=UTC:20290726T110000
DTSTAMP:20260424T222415
CREATED:20241216T195748Z
LAST-MODIFIED:20250407T193343Z
UID:10002954-1879754400-1879758000@foodinitiative.org
SUMMARY:FIGS Mobile Pantry-4th Thursday of the Month
DESCRIPTION:
URL:https://foodinitiative.org/event/figs-mobile-pantry-2-2-2/2029-07-26/
LOCATION:Orville Wright Elementary Child Develpment\, 805 Empire Ave\, Modesto\, California\, 95354
END:VEVENT
BEGIN:VEVENT
DTSTART;TZID=UTC:20290823T100000
DTEND;TZID=UTC:20290823T110000
DTSTAMP:20260424T222415
CREATED:20241216T195748Z
LAST-MODIFIED:20250407T193343Z
UID:10002955-1882173600-1882177200@foodinitiative.org
SUMMARY:FIGS Mobile Pantry-4th Thursday of the Month
DESCRIPTION:
URL:https://foodinitiative.org/event/figs-mobile-pantry-2-2-2/2029-08-23/
LOCATION:Orville Wright Elementary Child Develpment\, 805 Empire Ave\, Modesto\, California\, 95354
END:VEVENT
END:VCALENDAR