BEGIN:VCALENDAR
VERSION:2.0
PRODID:-//The Food Initiative - ECPv6.15.20//NONSGML v1.0//EN
CALSCALE:GREGORIAN
METHOD:PUBLISH
X-ORIGINAL-URL:https://foodinitiative.org
X-WR-CALDESC:Events for The Food Initiative
REFRESH-INTERVAL;VALUE=DURATION:PT1H
X-Robots-Tag:noindex
X-PUBLISHED-TTL:PT1H
BEGIN:VTIMEZONE
TZID:UTC
BEGIN:STANDARD
TZOFFSETFROM:+0000
TZOFFSETTO:+0000
TZNAME:UTC
DTSTART:20260101T000000
END:STANDARD
END:VTIMEZONE
BEGIN:VEVENT
DTSTART;TZID=UTC:20270227T090000
DTEND;TZID=UTC:20270227T103000
DTSTAMP:20260424T202704
CREATED:20241216T200349Z
LAST-MODIFIED:20250324T190638Z
UID:10002985-1803718800-1803724200@foodinitiative.org
SUMMARY:Figs Mobile Pantry- 4th Saturday of the Month
DESCRIPTION:
URL:https://foodinitiative.org/event/figs-mobile-pantry-4th-saturday-of-the-month/2027-02-27/
LOCATION:Church of the Brethren\, 2301 Woodland Ave\, Modesto\, CA\, 95358\, United States
END:VEVENT
BEGIN:VEVENT
DTSTART;TZID=UTC:20270327T090000
DTEND;TZID=UTC:20270327T103000
DTSTAMP:20260424T202704
CREATED:20241216T200349Z
LAST-MODIFIED:20250324T190638Z
UID:10002986-1806138000-1806143400@foodinitiative.org
SUMMARY:Figs Mobile Pantry- 4th Saturday of the Month
DESCRIPTION:
URL:https://foodinitiative.org/event/figs-mobile-pantry-4th-saturday-of-the-month/2027-03-27/
LOCATION:Church of the Brethren\, 2301 Woodland Ave\, Modesto\, CA\, 95358\, United States
END:VEVENT
BEGIN:VEVENT
DTSTART;TZID=UTC:20270424T090000
DTEND;TZID=UTC:20270424T103000
DTSTAMP:20260424T202704
CREATED:20241216T200349Z
LAST-MODIFIED:20250324T190638Z
UID:10002987-1808557200-1808562600@foodinitiative.org
SUMMARY:Figs Mobile Pantry- 4th Saturday of the Month
DESCRIPTION:
URL:https://foodinitiative.org/event/figs-mobile-pantry-4th-saturday-of-the-month/2027-04-24/
LOCATION:Church of the Brethren\, 2301 Woodland Ave\, Modesto\, CA\, 95358\, United States
END:VEVENT
BEGIN:VEVENT
DTSTART;TZID=UTC:20270522T090000
DTEND;TZID=UTC:20270522T103000
DTSTAMP:20260424T202704
CREATED:20241216T200349Z
LAST-MODIFIED:20250324T190638Z
UID:10002988-1810976400-1810981800@foodinitiative.org
SUMMARY:Figs Mobile Pantry- 4th Saturday of the Month
DESCRIPTION:
URL:https://foodinitiative.org/event/figs-mobile-pantry-4th-saturday-of-the-month/2027-05-22/
LOCATION:Church of the Brethren\, 2301 Woodland Ave\, Modesto\, CA\, 95358\, United States
END:VEVENT
BEGIN:VEVENT
DTSTART;TZID=UTC:20270626T090000
DTEND;TZID=UTC:20270626T103000
DTSTAMP:20260424T202704
CREATED:20241216T200349Z
LAST-MODIFIED:20250324T190638Z
UID:10002989-1814000400-1814005800@foodinitiative.org
SUMMARY:Figs Mobile Pantry- 4th Saturday of the Month
DESCRIPTION:
URL:https://foodinitiative.org/event/figs-mobile-pantry-4th-saturday-of-the-month/2027-06-26/
LOCATION:Church of the Brethren\, 2301 Woodland Ave\, Modesto\, CA\, 95358\, United States
END:VEVENT
BEGIN:VEVENT
DTSTART;TZID=UTC:20270724T090000
DTEND;TZID=UTC:20270724T103000
DTSTAMP:20260424T202704
CREATED:20241216T200349Z
LAST-MODIFIED:20250324T190638Z
UID:10002990-1816419600-1816425000@foodinitiative.org
SUMMARY:Figs Mobile Pantry- 4th Saturday of the Month
DESCRIPTION:
URL:https://foodinitiative.org/event/figs-mobile-pantry-4th-saturday-of-the-month/2027-07-24/
LOCATION:Church of the Brethren\, 2301 Woodland Ave\, Modesto\, CA\, 95358\, United States
END:VEVENT
BEGIN:VEVENT
DTSTART;TZID=UTC:20270828T090000
DTEND;TZID=UTC:20270828T103000
DTSTAMP:20260424T202704
CREATED:20241216T200349Z
LAST-MODIFIED:20250324T190638Z
UID:10002991-1819443600-1819449000@foodinitiative.org
SUMMARY:Figs Mobile Pantry- 4th Saturday of the Month
DESCRIPTION:
URL:https://foodinitiative.org/event/figs-mobile-pantry-4th-saturday-of-the-month/2027-08-28/
LOCATION:Church of the Brethren\, 2301 Woodland Ave\, Modesto\, CA\, 95358\, United States
END:VEVENT
BEGIN:VEVENT
DTSTART;TZID=UTC:20270925T090000
DTEND;TZID=UTC:20270925T103000
DTSTAMP:20260424T202704
CREATED:20241216T200349Z
LAST-MODIFIED:20250324T190638Z
UID:10002992-1821862800-1821868200@foodinitiative.org
SUMMARY:Figs Mobile Pantry- 4th Saturday of the Month
DESCRIPTION:
URL:https://foodinitiative.org/event/figs-mobile-pantry-4th-saturday-of-the-month/2027-09-25/
LOCATION:Church of the Brethren\, 2301 Woodland Ave\, Modesto\, CA\, 95358\, United States
END:VEVENT
BEGIN:VEVENT
DTSTART;TZID=UTC:20271023T090000
DTEND;TZID=UTC:20271023T103000
DTSTAMP:20260424T202704
CREATED:20241216T200349Z
LAST-MODIFIED:20250324T190638Z
UID:10002993-1824282000-1824287400@foodinitiative.org
SUMMARY:Figs Mobile Pantry- 4th Saturday of the Month
DESCRIPTION:
URL:https://foodinitiative.org/event/figs-mobile-pantry-4th-saturday-of-the-month/2027-10-23/
LOCATION:Church of the Brethren\, 2301 Woodland Ave\, Modesto\, CA\, 95358\, United States
END:VEVENT
BEGIN:VEVENT
DTSTART;TZID=UTC:20271127T090000
DTEND;TZID=UTC:20271127T103000
DTSTAMP:20260424T202704
CREATED:20241216T200349Z
LAST-MODIFIED:20250324T190638Z
UID:10002994-1827306000-1827311400@foodinitiative.org
SUMMARY:Figs Mobile Pantry- 4th Saturday of the Month
DESCRIPTION:
URL:https://foodinitiative.org/event/figs-mobile-pantry-4th-saturday-of-the-month/2027-11-27/
LOCATION:Church of the Brethren\, 2301 Woodland Ave\, Modesto\, CA\, 95358\, United States
END:VEVENT
BEGIN:VEVENT
DTSTART;TZID=UTC:20271225T090000
DTEND;TZID=UTC:20271225T103000
DTSTAMP:20260424T202704
CREATED:20241216T200349Z
LAST-MODIFIED:20250324T190638Z
UID:10002995-1829725200-1829730600@foodinitiative.org
SUMMARY:Figs Mobile Pantry- 4th Saturday of the Month
DESCRIPTION:
URL:https://foodinitiative.org/event/figs-mobile-pantry-4th-saturday-of-the-month/2027-12-25/
LOCATION:Church of the Brethren\, 2301 Woodland Ave\, Modesto\, CA\, 95358\, United States
END:VEVENT
BEGIN:VEVENT
DTSTART;TZID=UTC:20280122T090000
DTEND;TZID=UTC:20280122T103000
DTSTAMP:20260424T202704
CREATED:20241216T200349Z
LAST-MODIFIED:20250324T190638Z
UID:10002996-1832144400-1832149800@foodinitiative.org
SUMMARY:Figs Mobile Pantry- 4th Saturday of the Month
DESCRIPTION:
URL:https://foodinitiative.org/event/figs-mobile-pantry-4th-saturday-of-the-month/2028-01-22/
LOCATION:Church of the Brethren\, 2301 Woodland Ave\, Modesto\, CA\, 95358\, United States
END:VEVENT
BEGIN:VEVENT
DTSTART;TZID=UTC:20280226T090000
DTEND;TZID=UTC:20280226T103000
DTSTAMP:20260424T202704
CREATED:20241216T200349Z
LAST-MODIFIED:20250324T190638Z
UID:10002997-1835168400-1835173800@foodinitiative.org
SUMMARY:Figs Mobile Pantry- 4th Saturday of the Month
DESCRIPTION:
URL:https://foodinitiative.org/event/figs-mobile-pantry-4th-saturday-of-the-month/2028-02-26/
LOCATION:Church of the Brethren\, 2301 Woodland Ave\, Modesto\, CA\, 95358\, United States
END:VEVENT
BEGIN:VEVENT
DTSTART;TZID=UTC:20280325T090000
DTEND;TZID=UTC:20280325T103000
DTSTAMP:20260424T202704
CREATED:20241216T200349Z
LAST-MODIFIED:20250324T190638Z
UID:10002998-1837587600-1837593000@foodinitiative.org
SUMMARY:Figs Mobile Pantry- 4th Saturday of the Month
DESCRIPTION:
URL:https://foodinitiative.org/event/figs-mobile-pantry-4th-saturday-of-the-month/2028-03-25/
LOCATION:Church of the Brethren\, 2301 Woodland Ave\, Modesto\, CA\, 95358\, United States
END:VEVENT
BEGIN:VEVENT
DTSTART;TZID=UTC:20280422T090000
DTEND;TZID=UTC:20280422T103000
DTSTAMP:20260424T202704
CREATED:20241216T200349Z
LAST-MODIFIED:20250324T190638Z
UID:10002999-1840006800-1840012200@foodinitiative.org
SUMMARY:Figs Mobile Pantry- 4th Saturday of the Month
DESCRIPTION:
URL:https://foodinitiative.org/event/figs-mobile-pantry-4th-saturday-of-the-month/2028-04-22/
LOCATION:Church of the Brethren\, 2301 Woodland Ave\, Modesto\, CA\, 95358\, United States
END:VEVENT
BEGIN:VEVENT
DTSTART;TZID=UTC:20280527T090000
DTEND;TZID=UTC:20280527T103000
DTSTAMP:20260424T202704
CREATED:20241216T200349Z
LAST-MODIFIED:20250324T190638Z
UID:10003000-1843030800-1843036200@foodinitiative.org
SUMMARY:Figs Mobile Pantry- 4th Saturday of the Month
DESCRIPTION:
URL:https://foodinitiative.org/event/figs-mobile-pantry-4th-saturday-of-the-month/2028-05-27/
LOCATION:Church of the Brethren\, 2301 Woodland Ave\, Modesto\, CA\, 95358\, United States
END:VEVENT
BEGIN:VEVENT
DTSTART;TZID=UTC:20280624T090000
DTEND;TZID=UTC:20280624T103000
DTSTAMP:20260424T202704
CREATED:20241216T200349Z
LAST-MODIFIED:20250324T190638Z
UID:10003001-1845450000-1845455400@foodinitiative.org
SUMMARY:Figs Mobile Pantry- 4th Saturday of the Month
DESCRIPTION:
URL:https://foodinitiative.org/event/figs-mobile-pantry-4th-saturday-of-the-month/2028-06-24/
LOCATION:Church of the Brethren\, 2301 Woodland Ave\, Modesto\, CA\, 95358\, United States
END:VEVENT
BEGIN:VEVENT
DTSTART;TZID=UTC:20280722T090000
DTEND;TZID=UTC:20280722T103000
DTSTAMP:20260424T202704
CREATED:20241216T200349Z
LAST-MODIFIED:20250324T190638Z
UID:10003002-1847869200-1847874600@foodinitiative.org
SUMMARY:Figs Mobile Pantry- 4th Saturday of the Month
DESCRIPTION:
URL:https://foodinitiative.org/event/figs-mobile-pantry-4th-saturday-of-the-month/2028-07-22/
LOCATION:Church of the Brethren\, 2301 Woodland Ave\, Modesto\, CA\, 95358\, United States
END:VEVENT
BEGIN:VEVENT
DTSTART;TZID=UTC:20280826T090000
DTEND;TZID=UTC:20280826T103000
DTSTAMP:20260424T202704
CREATED:20241216T200349Z
LAST-MODIFIED:20250324T190638Z
UID:10003003-1850893200-1850898600@foodinitiative.org
SUMMARY:Figs Mobile Pantry- 4th Saturday of the Month
DESCRIPTION:
URL:https://foodinitiative.org/event/figs-mobile-pantry-4th-saturday-of-the-month/2028-08-26/
LOCATION:Church of the Brethren\, 2301 Woodland Ave\, Modesto\, CA\, 95358\, United States
END:VEVENT
BEGIN:VEVENT
DTSTART;TZID=UTC:20280923T090000
DTEND;TZID=UTC:20280923T103000
DTSTAMP:20260424T202704
CREATED:20241216T200349Z
LAST-MODIFIED:20250324T190638Z
UID:10003004-1853312400-1853317800@foodinitiative.org
SUMMARY:Figs Mobile Pantry- 4th Saturday of the Month
DESCRIPTION:
URL:https://foodinitiative.org/event/figs-mobile-pantry-4th-saturday-of-the-month/2028-09-23/
LOCATION:Church of the Brethren\, 2301 Woodland Ave\, Modesto\, CA\, 95358\, United States
END:VEVENT
BEGIN:VEVENT
DTSTART;TZID=UTC:20281028T090000
DTEND;TZID=UTC:20281028T103000
DTSTAMP:20260424T202704
CREATED:20241216T200349Z
LAST-MODIFIED:20250324T190638Z
UID:10003005-1856336400-1856341800@foodinitiative.org
SUMMARY:Figs Mobile Pantry- 4th Saturday of the Month
DESCRIPTION:
URL:https://foodinitiative.org/event/figs-mobile-pantry-4th-saturday-of-the-month/2028-10-28/
LOCATION:Church of the Brethren\, 2301 Woodland Ave\, Modesto\, CA\, 95358\, United States
END:VEVENT
BEGIN:VEVENT
DTSTART;TZID=UTC:20281125T090000
DTEND;TZID=UTC:20281125T103000
DTSTAMP:20260424T202704
CREATED:20241216T200349Z
LAST-MODIFIED:20250324T190638Z
UID:10003006-1858755600-1858761000@foodinitiative.org
SUMMARY:Figs Mobile Pantry- 4th Saturday of the Month
DESCRIPTION:
URL:https://foodinitiative.org/event/figs-mobile-pantry-4th-saturday-of-the-month/2028-11-25/
LOCATION:Church of the Brethren\, 2301 Woodland Ave\, Modesto\, CA\, 95358\, United States
END:VEVENT
BEGIN:VEVENT
DTSTART;TZID=UTC:20281223T090000
DTEND;TZID=UTC:20281223T103000
DTSTAMP:20260424T202704
CREATED:20241216T200349Z
LAST-MODIFIED:20250324T190638Z
UID:10003007-1861174800-1861180200@foodinitiative.org
SUMMARY:Figs Mobile Pantry- 4th Saturday of the Month
DESCRIPTION:
URL:https://foodinitiative.org/event/figs-mobile-pantry-4th-saturday-of-the-month/2028-12-23/
LOCATION:Church of the Brethren\, 2301 Woodland Ave\, Modesto\, CA\, 95358\, United States
END:VEVENT
BEGIN:VEVENT
DTSTART;TZID=UTC:20290127T090000
DTEND;TZID=UTC:20290127T103000
DTSTAMP:20260424T202704
CREATED:20241216T200349Z
LAST-MODIFIED:20250324T190638Z
UID:10003008-1864198800-1864204200@foodinitiative.org
SUMMARY:Figs Mobile Pantry- 4th Saturday of the Month
DESCRIPTION:
URL:https://foodinitiative.org/event/figs-mobile-pantry-4th-saturday-of-the-month/2029-01-27/
LOCATION:Church of the Brethren\, 2301 Woodland Ave\, Modesto\, CA\, 95358\, United States
END:VEVENT
BEGIN:VEVENT
DTSTART;TZID=UTC:20290224T090000
DTEND;TZID=UTC:20290224T103000
DTSTAMP:20260424T202704
CREATED:20241216T200349Z
LAST-MODIFIED:20250324T190638Z
UID:10003009-1866618000-1866623400@foodinitiative.org
SUMMARY:Figs Mobile Pantry- 4th Saturday of the Month
DESCRIPTION:
URL:https://foodinitiative.org/event/figs-mobile-pantry-4th-saturday-of-the-month/2029-02-24/
LOCATION:Church of the Brethren\, 2301 Woodland Ave\, Modesto\, CA\, 95358\, United States
END:VEVENT
BEGIN:VEVENT
DTSTART;TZID=UTC:20290324T090000
DTEND;TZID=UTC:20290324T103000
DTSTAMP:20260424T202704
CREATED:20241216T200349Z
LAST-MODIFIED:20250324T190638Z
UID:10003010-1869037200-1869042600@foodinitiative.org
SUMMARY:Figs Mobile Pantry- 4th Saturday of the Month
DESCRIPTION:
URL:https://foodinitiative.org/event/figs-mobile-pantry-4th-saturday-of-the-month/2029-03-24/
LOCATION:Church of the Brethren\, 2301 Woodland Ave\, Modesto\, CA\, 95358\, United States
END:VEVENT
BEGIN:VEVENT
DTSTART;TZID=UTC:20290428T090000
DTEND;TZID=UTC:20290428T103000
DTSTAMP:20260424T202704
CREATED:20241216T200349Z
LAST-MODIFIED:20250324T190638Z
UID:10003011-1872061200-1872066600@foodinitiative.org
SUMMARY:Figs Mobile Pantry- 4th Saturday of the Month
DESCRIPTION:
URL:https://foodinitiative.org/event/figs-mobile-pantry-4th-saturday-of-the-month/2029-04-28/
LOCATION:Church of the Brethren\, 2301 Woodland Ave\, Modesto\, CA\, 95358\, United States
END:VEVENT
BEGIN:VEVENT
DTSTART;TZID=UTC:20290526T090000
DTEND;TZID=UTC:20290526T103000
DTSTAMP:20260424T202704
CREATED:20241216T200349Z
LAST-MODIFIED:20250324T190638Z
UID:10003012-1874480400-1874485800@foodinitiative.org
SUMMARY:Figs Mobile Pantry- 4th Saturday of the Month
DESCRIPTION:
URL:https://foodinitiative.org/event/figs-mobile-pantry-4th-saturday-of-the-month/2029-05-26/
LOCATION:Church of the Brethren\, 2301 Woodland Ave\, Modesto\, CA\, 95358\, United States
END:VEVENT
BEGIN:VEVENT
DTSTART;TZID=UTC:20290623T090000
DTEND;TZID=UTC:20290623T103000
DTSTAMP:20260424T202704
CREATED:20241216T200349Z
LAST-MODIFIED:20250324T190638Z
UID:10003013-1876899600-1876905000@foodinitiative.org
SUMMARY:Figs Mobile Pantry- 4th Saturday of the Month
DESCRIPTION:
URL:https://foodinitiative.org/event/figs-mobile-pantry-4th-saturday-of-the-month/2029-06-23/
LOCATION:Church of the Brethren\, 2301 Woodland Ave\, Modesto\, CA\, 95358\, United States
END:VEVENT
BEGIN:VEVENT
DTSTART;TZID=UTC:20290728T090000
DTEND;TZID=UTC:20290728T103000
DTSTAMP:20260424T202704
CREATED:20241216T200349Z
LAST-MODIFIED:20250324T190638Z
UID:10003014-1879923600-1879929000@foodinitiative.org
SUMMARY:Figs Mobile Pantry- 4th Saturday of the Month
DESCRIPTION:
URL:https://foodinitiative.org/event/figs-mobile-pantry-4th-saturday-of-the-month/2029-07-28/
LOCATION:Church of the Brethren\, 2301 Woodland Ave\, Modesto\, CA\, 95358\, United States
END:VEVENT
END:VCALENDAR