BEGIN:VCALENDAR
VERSION:2.0
PRODID:-//The Food Initiative - ECPv6.15.20//NONSGML v1.0//EN
CALSCALE:GREGORIAN
METHOD:PUBLISH
X-WR-CALNAME:The Food Initiative
X-ORIGINAL-URL:https://foodinitiative.org
X-WR-CALDESC:Events for The Food Initiative
REFRESH-INTERVAL;VALUE=DURATION:PT1H
X-Robots-Tag:noindex
X-PUBLISHED-TTL:PT1H
BEGIN:VTIMEZONE
TZID:UTC
BEGIN:STANDARD
TZOFFSETFROM:+0000
TZOFFSETTO:+0000
TZNAME:UTC
DTSTART:20230101T000000
END:STANDARD
END:VTIMEZONE
BEGIN:VEVENT
DTSTART;TZID=UTC:20260328T090000
DTEND;TZID=UTC:20260328T103000
DTSTAMP:20260424T202657
CREATED:20241216T200349Z
LAST-MODIFIED:20250324T190638Z
UID:10002974-1774688400-1774693800@foodinitiative.org
SUMMARY:Figs Mobile Pantry- 4th Saturday of the Month
DESCRIPTION:
URL:https://foodinitiative.org/event/figs-mobile-pantry-4th-saturday-of-the-month/2026-03-28/
LOCATION:Church of the Brethren\, 2301 Woodland Ave\, Modesto\, CA\, 95358\, United States
END:VEVENT
BEGIN:VEVENT
DTSTART;TZID=UTC:20260228T090000
DTEND;TZID=UTC:20260228T103000
DTSTAMP:20260424T202657
CREATED:20241216T200349Z
LAST-MODIFIED:20250324T190638Z
UID:10002973-1772269200-1772274600@foodinitiative.org
SUMMARY:Figs Mobile Pantry- 4th Saturday of the Month
DESCRIPTION:
URL:https://foodinitiative.org/event/figs-mobile-pantry-4th-saturday-of-the-month/2026-02-28/
LOCATION:Church of the Brethren\, 2301 Woodland Ave\, Modesto\, CA\, 95358\, United States
END:VEVENT
BEGIN:VEVENT
DTSTART;TZID=UTC:20260124T090000
DTEND;TZID=UTC:20260124T103000
DTSTAMP:20260424T202657
CREATED:20241216T200349Z
LAST-MODIFIED:20250324T190638Z
UID:10002972-1769245200-1769250600@foodinitiative.org
SUMMARY:Figs Mobile Pantry- 4th Saturday of the Month
DESCRIPTION:
URL:https://foodinitiative.org/event/figs-mobile-pantry-4th-saturday-of-the-month/2026-01-24/
LOCATION:Church of the Brethren\, 2301 Woodland Ave\, Modesto\, CA\, 95358\, United States
END:VEVENT
BEGIN:VEVENT
DTSTART;TZID=UTC:20251227T090000
DTEND;TZID=UTC:20251227T103000
DTSTAMP:20260424T202657
CREATED:20241216T200349Z
LAST-MODIFIED:20250324T190638Z
UID:10002971-1766826000-1766831400@foodinitiative.org
SUMMARY:Figs Mobile Pantry- 4th Saturday of the Month
DESCRIPTION:
URL:https://foodinitiative.org/event/figs-mobile-pantry-4th-saturday-of-the-month/2025-12-27/
LOCATION:Church of the Brethren\, 2301 Woodland Ave\, Modesto\, CA\, 95358\, United States
END:VEVENT
BEGIN:VEVENT
DTSTART;TZID=UTC:20251122T090000
DTEND;TZID=UTC:20251122T103000
DTSTAMP:20260424T202657
CREATED:20241216T200349Z
LAST-MODIFIED:20250324T190638Z
UID:10002970-1763802000-1763807400@foodinitiative.org
SUMMARY:Figs Mobile Pantry- 4th Saturday of the Month
DESCRIPTION:
URL:https://foodinitiative.org/event/figs-mobile-pantry-4th-saturday-of-the-month/2025-11-22/
LOCATION:Church of the Brethren\, 2301 Woodland Ave\, Modesto\, CA\, 95358\, United States
END:VEVENT
BEGIN:VEVENT
DTSTART;TZID=UTC:20251025T090000
DTEND;TZID=UTC:20251025T103000
DTSTAMP:20260424T202657
CREATED:20241216T200349Z
LAST-MODIFIED:20250324T190638Z
UID:10002969-1761382800-1761388200@foodinitiative.org
SUMMARY:Figs Mobile Pantry- 4th Saturday of the Month
DESCRIPTION:
URL:https://foodinitiative.org/event/figs-mobile-pantry-4th-saturday-of-the-month/2025-10-25/
LOCATION:Church of the Brethren\, 2301 Woodland Ave\, Modesto\, CA\, 95358\, United States
END:VEVENT
BEGIN:VEVENT
DTSTART;TZID=UTC:20250927T090000
DTEND;TZID=UTC:20250927T103000
DTSTAMP:20260424T202657
CREATED:20241216T200349Z
LAST-MODIFIED:20250324T190638Z
UID:10002968-1758963600-1758969000@foodinitiative.org
SUMMARY:Figs Mobile Pantry- 4th Saturday of the Month
DESCRIPTION:
URL:https://foodinitiative.org/event/figs-mobile-pantry-4th-saturday-of-the-month/2025-09-27/
LOCATION:Church of the Brethren\, 2301 Woodland Ave\, Modesto\, CA\, 95358\, United States
END:VEVENT
BEGIN:VEVENT
DTSTART;TZID=UTC:20250823T090000
DTEND;TZID=UTC:20250823T103000
DTSTAMP:20260424T202657
CREATED:20241216T200349Z
LAST-MODIFIED:20250324T190638Z
UID:10002967-1755939600-1755945000@foodinitiative.org
SUMMARY:Figs Mobile Pantry- 4th Saturday of the Month
DESCRIPTION:
URL:https://foodinitiative.org/event/figs-mobile-pantry-4th-saturday-of-the-month/2025-08-23/
LOCATION:Church of the Brethren\, 2301 Woodland Ave\, Modesto\, CA\, 95358\, United States
END:VEVENT
BEGIN:VEVENT
DTSTART;TZID=UTC:20250726T090000
DTEND;TZID=UTC:20250726T103000
DTSTAMP:20260424T202657
CREATED:20241216T200349Z
LAST-MODIFIED:20250324T190638Z
UID:10002966-1753520400-1753525800@foodinitiative.org
SUMMARY:Figs Mobile Pantry- 4th Saturday of the Month
DESCRIPTION:
URL:https://foodinitiative.org/event/figs-mobile-pantry-4th-saturday-of-the-month/2025-07-26/
LOCATION:Church of the Brethren\, 2301 Woodland Ave\, Modesto\, CA\, 95358\, United States
END:VEVENT
BEGIN:VEVENT
DTSTART;TZID=UTC:20250628T090000
DTEND;TZID=UTC:20250628T103000
DTSTAMP:20260424T202657
CREATED:20241216T200349Z
LAST-MODIFIED:20250324T190638Z
UID:10002965-1751101200-1751106600@foodinitiative.org
SUMMARY:Figs Mobile Pantry- 4th Saturday of the Month
DESCRIPTION:
URL:https://foodinitiative.org/event/figs-mobile-pantry-4th-saturday-of-the-month/2025-06-28/
LOCATION:Church of the Brethren\, 2301 Woodland Ave\, Modesto\, CA\, 95358\, United States
END:VEVENT
BEGIN:VEVENT
DTSTART;TZID=UTC:20250524T090000
DTEND;TZID=UTC:20250524T103000
DTSTAMP:20260424T202657
CREATED:20241216T200349Z
LAST-MODIFIED:20250324T190638Z
UID:10002964-1748077200-1748082600@foodinitiative.org
SUMMARY:Figs Mobile Pantry- 4th Saturday of the Month
DESCRIPTION:
URL:https://foodinitiative.org/event/figs-mobile-pantry-4th-saturday-of-the-month/2025-05-24/
LOCATION:Church of the Brethren\, 2301 Woodland Ave\, Modesto\, CA\, 95358\, United States
END:VEVENT
BEGIN:VEVENT
DTSTART;TZID=UTC:20250426T090000
DTEND;TZID=UTC:20250426T103000
DTSTAMP:20260424T202657
CREATED:20241216T200349Z
LAST-MODIFIED:20250324T190638Z
UID:10002963-1745658000-1745663400@foodinitiative.org
SUMMARY:Figs Mobile Pantry- 4th Saturday of the Month
DESCRIPTION:
URL:https://foodinitiative.org/event/figs-mobile-pantry-4th-saturday-of-the-month/2025-04-26/
LOCATION:Church of the Brethren\, 2301 Woodland Ave\, Modesto\, CA\, 95358\, United States
END:VEVENT
BEGIN:VEVENT
DTSTART;TZID=UTC:20250322T090000
DTEND;TZID=UTC:20250322T103000
DTSTAMP:20260424T202657
CREATED:20241216T200349Z
LAST-MODIFIED:20250324T190638Z
UID:10002962-1742634000-1742639400@foodinitiative.org
SUMMARY:Figs Mobile Pantry- 4th Saturday of the Month
DESCRIPTION:
URL:https://foodinitiative.org/event/figs-mobile-pantry-4th-saturday-of-the-month/2025-03-22/
LOCATION:Church of the Brethren\, 2301 Woodland Ave\, Modesto\, CA\, 95358\, United States
END:VEVENT
BEGIN:VEVENT
DTSTART;TZID=UTC:20250222T090000
DTEND;TZID=UTC:20250222T103000
DTSTAMP:20260424T202657
CREATED:20241216T200349Z
LAST-MODIFIED:20250324T190638Z
UID:10002961-1740214800-1740220200@foodinitiative.org
SUMMARY:Figs Mobile Pantry- 4th Saturday of the Month
DESCRIPTION:
URL:https://foodinitiative.org/event/figs-mobile-pantry-4th-saturday-of-the-month/2025-02-22/
LOCATION:Church of the Brethren\, 2301 Woodland Ave\, Modesto\, CA\, 95358\, United States
END:VEVENT
BEGIN:VEVENT
DTSTART;TZID=UTC:20250125T090000
DTEND;TZID=UTC:20250125T103000
DTSTAMP:20260424T202657
CREATED:20241216T200349Z
LAST-MODIFIED:20250324T190638Z
UID:10002960-1737795600-1737801000@foodinitiative.org
SUMMARY:Figs Mobile Pantry- 4th Saturday of the Month
DESCRIPTION:
URL:https://foodinitiative.org/event/figs-mobile-pantry-4th-saturday-of-the-month/2025-01-25/
LOCATION:Church of the Brethren\, 2301 Woodland Ave\, Modesto\, CA\, 95358\, United States
END:VEVENT
BEGIN:VEVENT
DTSTART;TZID=UTC:20241228T090000
DTEND;TZID=UTC:20241228T103000
DTSTAMP:20260424T202657
CREATED:20241216T200349Z
LAST-MODIFIED:20250324T190638Z
UID:10002959-1735376400-1735381800@foodinitiative.org
SUMMARY:Figs Mobile Pantry- 4th Saturday of the Month
DESCRIPTION:
URL:https://foodinitiative.org/event/figs-mobile-pantry-4th-saturday-of-the-month/2024-12-28/
LOCATION:Church of the Brethren\, 2301 Woodland Ave\, Modesto\, CA\, 95358\, United States
END:VEVENT
END:VCALENDAR