BEGIN:VCALENDAR
VERSION:2.0
PRODID:-//The Food Initiative - ECPv6.15.20//NONSGML v1.0//EN
CALSCALE:GREGORIAN
METHOD:PUBLISH
X-WR-CALNAME:The Food Initiative
X-ORIGINAL-URL:https://foodinitiative.org
X-WR-CALDESC:Events for The Food Initiative
REFRESH-INTERVAL;VALUE=DURATION:PT1H
X-Robots-Tag:noindex
X-PUBLISHED-TTL:PT1H
BEGIN:VTIMEZONE
TZID:UTC
BEGIN:STANDARD
TZOFFSETFROM:+0000
TZOFFSETTO:+0000
TZNAME:UTC
DTSTART:20240101T000000
END:STANDARD
END:VTIMEZONE
BEGIN:VEVENT
DTSTART;TZID=UTC:20260410T093000
DTEND;TZID=UTC:20260410T110000
DTSTAMP:20260425T115808
CREATED:20250407T190230Z
LAST-MODIFIED:20250407T204721Z
UID:10003164-1775813400-1775818800@foodinitiative.org
SUMMARY:FIGS Mobile Food Pantry-2nd Friday of the Month
DESCRIPTION:
URL:https://foodinitiative.org/event/figs-mobile-food-pantry/2026-04-10/
LOCATION:Hanshaw Middle School\, 1724 Las Vegas St\, Modesto\, CA\, 95358\, United States
END:VEVENT
BEGIN:VEVENT
DTSTART;TZID=UTC:20260313T093000
DTEND;TZID=UTC:20260313T110000
DTSTAMP:20260425T115808
CREATED:20250407T190230Z
LAST-MODIFIED:20250407T204721Z
UID:10003163-1773394200-1773399600@foodinitiative.org
SUMMARY:FIGS Mobile Food Pantry-2nd Friday of the Month
DESCRIPTION:
URL:https://foodinitiative.org/event/figs-mobile-food-pantry/2026-03-13/
LOCATION:Hanshaw Middle School\, 1724 Las Vegas St\, Modesto\, CA\, 95358\, United States
END:VEVENT
BEGIN:VEVENT
DTSTART;TZID=UTC:20260213T093000
DTEND;TZID=UTC:20260213T110000
DTSTAMP:20260425T115808
CREATED:20250407T190230Z
LAST-MODIFIED:20250407T204721Z
UID:10003162-1770975000-1770980400@foodinitiative.org
SUMMARY:FIGS Mobile Food Pantry-2nd Friday of the Month
DESCRIPTION:
URL:https://foodinitiative.org/event/figs-mobile-food-pantry/2026-02-13/
LOCATION:Hanshaw Middle School\, 1724 Las Vegas St\, Modesto\, CA\, 95358\, United States
END:VEVENT
BEGIN:VEVENT
DTSTART;TZID=UTC:20260109T093000
DTEND;TZID=UTC:20260109T110000
DTSTAMP:20260425T115808
CREATED:20250407T190230Z
LAST-MODIFIED:20250407T204721Z
UID:10003161-1767951000-1767956400@foodinitiative.org
SUMMARY:FIGS Mobile Food Pantry-2nd Friday of the Month
DESCRIPTION:
URL:https://foodinitiative.org/event/figs-mobile-food-pantry/2026-01-09/
LOCATION:Hanshaw Middle School\, 1724 Las Vegas St\, Modesto\, CA\, 95358\, United States
END:VEVENT
BEGIN:VEVENT
DTSTART;TZID=UTC:20251212T093000
DTEND;TZID=UTC:20251212T110000
DTSTAMP:20260425T115808
CREATED:20250407T190230Z
LAST-MODIFIED:20250407T204721Z
UID:10003160-1765531800-1765537200@foodinitiative.org
SUMMARY:FIGS Mobile Food Pantry-2nd Friday of the Month
DESCRIPTION:
URL:https://foodinitiative.org/event/figs-mobile-food-pantry/2025-12-12/
LOCATION:Hanshaw Middle School\, 1724 Las Vegas St\, Modesto\, CA\, 95358\, United States
END:VEVENT
BEGIN:VEVENT
DTSTART;TZID=UTC:20251114T093000
DTEND;TZID=UTC:20251114T110000
DTSTAMP:20260425T115808
CREATED:20250407T190230Z
LAST-MODIFIED:20250407T204721Z
UID:10003159-1763112600-1763118000@foodinitiative.org
SUMMARY:FIGS Mobile Food Pantry-2nd Friday of the Month
DESCRIPTION:
URL:https://foodinitiative.org/event/figs-mobile-food-pantry/2025-11-14/
LOCATION:Hanshaw Middle School\, 1724 Las Vegas St\, Modesto\, CA\, 95358\, United States
END:VEVENT
BEGIN:VEVENT
DTSTART;TZID=UTC:20251010T093000
DTEND;TZID=UTC:20251010T110000
DTSTAMP:20260425T115808
CREATED:20250407T190230Z
LAST-MODIFIED:20250407T204721Z
UID:10003158-1760088600-1760094000@foodinitiative.org
SUMMARY:FIGS Mobile Food Pantry-2nd Friday of the Month
DESCRIPTION:
URL:https://foodinitiative.org/event/figs-mobile-food-pantry/2025-10-10/
LOCATION:Hanshaw Middle School\, 1724 Las Vegas St\, Modesto\, CA\, 95358\, United States
END:VEVENT
BEGIN:VEVENT
DTSTART;TZID=UTC:20250912T093000
DTEND;TZID=UTC:20250912T110000
DTSTAMP:20260425T115808
CREATED:20250407T190230Z
LAST-MODIFIED:20250407T204721Z
UID:10003157-1757669400-1757674800@foodinitiative.org
SUMMARY:FIGS Mobile Food Pantry-2nd Friday of the Month
DESCRIPTION:
URL:https://foodinitiative.org/event/figs-mobile-food-pantry/2025-09-12/
LOCATION:Hanshaw Middle School\, 1724 Las Vegas St\, Modesto\, CA\, 95358\, United States
END:VEVENT
BEGIN:VEVENT
DTSTART;TZID=UTC:20250808T093000
DTEND;TZID=UTC:20250808T110000
DTSTAMP:20260425T115808
CREATED:20250407T190230Z
LAST-MODIFIED:20250407T204721Z
UID:10003156-1754645400-1754650800@foodinitiative.org
SUMMARY:FIGS Mobile Food Pantry-2nd Friday of the Month
DESCRIPTION:
URL:https://foodinitiative.org/event/figs-mobile-food-pantry/2025-08-08/
LOCATION:Hanshaw Middle School\, 1724 Las Vegas St\, Modesto\, CA\, 95358\, United States
END:VEVENT
BEGIN:VEVENT
DTSTART;TZID=UTC:20250711T093000
DTEND;TZID=UTC:20250711T110000
DTSTAMP:20260425T115808
CREATED:20250407T190230Z
LAST-MODIFIED:20250407T204721Z
UID:10003155-1752226200-1752231600@foodinitiative.org
SUMMARY:FIGS Mobile Food Pantry-2nd Friday of the Month
DESCRIPTION:
URL:https://foodinitiative.org/event/figs-mobile-food-pantry/2025-07-11/
LOCATION:Hanshaw Middle School\, 1724 Las Vegas St\, Modesto\, CA\, 95358\, United States
END:VEVENT
BEGIN:VEVENT
DTSTART;TZID=UTC:20250613T093000
DTEND;TZID=UTC:20250613T110000
DTSTAMP:20260425T115808
CREATED:20250407T190230Z
LAST-MODIFIED:20250407T204721Z
UID:10003154-1749807000-1749812400@foodinitiative.org
SUMMARY:FIGS Mobile Food Pantry-2nd Friday of the Month
DESCRIPTION:
URL:https://foodinitiative.org/event/figs-mobile-food-pantry/2025-06-13/
LOCATION:Hanshaw Middle School\, 1724 Las Vegas St\, Modesto\, CA\, 95358\, United States
END:VEVENT
BEGIN:VEVENT
DTSTART;TZID=UTC:20250509T093000
DTEND;TZID=UTC:20250509T110000
DTSTAMP:20260425T115808
CREATED:20250407T190230Z
LAST-MODIFIED:20250407T204721Z
UID:10003153-1746783000-1746788400@foodinitiative.org
SUMMARY:FIGS Mobile Food Pantry-2nd Friday of the Month
DESCRIPTION:
URL:https://foodinitiative.org/event/figs-mobile-food-pantry/2025-05-09/
LOCATION:Hanshaw Middle School\, 1724 Las Vegas St\, Modesto\, CA\, 95358\, United States
END:VEVENT
END:VCALENDAR