BEGIN:VCALENDAR
VERSION:2.0
PRODID:-//The Food Initiative - ECPv6.15.20//NONSGML v1.0//EN
CALSCALE:GREGORIAN
METHOD:PUBLISH
X-ORIGINAL-URL:https://foodinitiative.org
X-WR-CALDESC:Events for The Food Initiative
REFRESH-INTERVAL;VALUE=DURATION:PT1H
X-Robots-Tag:noindex
X-PUBLISHED-TTL:PT1H
BEGIN:VTIMEZONE
TZID:UTC
BEGIN:STANDARD
TZOFFSETFROM:+0000
TZOFFSETTO:+0000
TZNAME:UTC
DTSTART:20280101T000000
END:STANDARD
END:VTIMEZONE
BEGIN:VEVENT
DTSTART;TZID=UTC:20290919T093000
DTEND;TZID=UTC:20290919T110000
DTSTAMP:20260425T032156
CREATED:20240131T004740Z
LAST-MODIFIED:20250407T202118Z
UID:10003146-1884504600-1884510000@foodinitiative.org
SUMMARY:FIGS Mobile Pantry-3rd Wednesday of the Month
DESCRIPTION:
URL:https://foodinitiative.org/event/figs-mobile-pantry-19/2029-09-19/
LOCATION:International Rescue Committee (IRC)\, 3446 N. Golden State Blvd.\, Turlock\, 95380\, United States
END:VEVENT
BEGIN:VEVENT
DTSTART;TZID=UTC:20291017T093000
DTEND;TZID=UTC:20291017T110000
DTSTAMP:20260425T032156
CREATED:20240131T004740Z
LAST-MODIFIED:20250407T202118Z
UID:10003147-1886923800-1886929200@foodinitiative.org
SUMMARY:FIGS Mobile Pantry-3rd Wednesday of the Month
DESCRIPTION:
URL:https://foodinitiative.org/event/figs-mobile-pantry-19/2029-10-17/
LOCATION:International Rescue Committee (IRC)\, 3446 N. Golden State Blvd.\, Turlock\, 95380\, United States
END:VEVENT
BEGIN:VEVENT
DTSTART;TZID=UTC:20291121T093000
DTEND;TZID=UTC:20291121T110000
DTSTAMP:20260425T032156
CREATED:20240131T004740Z
LAST-MODIFIED:20250407T202118Z
UID:10003148-1889947800-1889953200@foodinitiative.org
SUMMARY:FIGS Mobile Pantry-3rd Wednesday of the Month
DESCRIPTION:
URL:https://foodinitiative.org/event/figs-mobile-pantry-19/2029-11-21/
LOCATION:International Rescue Committee (IRC)\, 3446 N. Golden State Blvd.\, Turlock\, 95380\, United States
END:VEVENT
BEGIN:VEVENT
DTSTART;TZID=UTC:20291219T093000
DTEND;TZID=UTC:20291219T110000
DTSTAMP:20260425T032156
CREATED:20240131T004740Z
LAST-MODIFIED:20250407T202118Z
UID:10003149-1892367000-1892372400@foodinitiative.org
SUMMARY:FIGS Mobile Pantry-3rd Wednesday of the Month
DESCRIPTION:
URL:https://foodinitiative.org/event/figs-mobile-pantry-19/2029-12-19/
LOCATION:International Rescue Committee (IRC)\, 3446 N. Golden State Blvd.\, Turlock\, 95380\, United States
END:VEVENT
BEGIN:VEVENT
DTSTART;TZID=UTC:20300116T093000
DTEND;TZID=UTC:20300116T110000
DTSTAMP:20260425T032156
CREATED:20240131T004740Z
LAST-MODIFIED:20250407T202118Z
UID:10003150-1894786200-1894791600@foodinitiative.org
SUMMARY:FIGS Mobile Pantry-3rd Wednesday of the Month
DESCRIPTION:
URL:https://foodinitiative.org/event/figs-mobile-pantry-19/2030-01-16/
LOCATION:International Rescue Committee (IRC)\, 3446 N. Golden State Blvd.\, Turlock\, 95380\, United States
END:VEVENT
BEGIN:VEVENT
DTSTART;TZID=UTC:20300220T093000
DTEND;TZID=UTC:20300220T110000
DTSTAMP:20260425T032156
CREATED:20240131T004740Z
LAST-MODIFIED:20250407T202118Z
UID:10003151-1897810200-1897815600@foodinitiative.org
SUMMARY:FIGS Mobile Pantry-3rd Wednesday of the Month
DESCRIPTION:
URL:https://foodinitiative.org/event/figs-mobile-pantry-19/2030-02-20/
LOCATION:International Rescue Committee (IRC)\, 3446 N. Golden State Blvd.\, Turlock\, 95380\, United States
END:VEVENT
BEGIN:VEVENT
DTSTART;TZID=UTC:20300320T093000
DTEND;TZID=UTC:20300320T110000
DTSTAMP:20260425T032156
CREATED:20240131T004740Z
LAST-MODIFIED:20250407T202118Z
UID:10003152-1900229400-1900234800@foodinitiative.org
SUMMARY:FIGS Mobile Pantry-3rd Wednesday of the Month
DESCRIPTION:
URL:https://foodinitiative.org/event/figs-mobile-pantry-19/2030-03-20/
LOCATION:International Rescue Committee (IRC)\, 3446 N. Golden State Blvd.\, Turlock\, 95380\, United States
END:VEVENT
END:VCALENDAR