BEGIN:VCALENDAR
VERSION:2.0
PRODID:-//The Food Initiative - ECPv6.15.20//NONSGML v1.0//EN
CALSCALE:GREGORIAN
METHOD:PUBLISH
X-ORIGINAL-URL:https://foodinitiative.org
X-WR-CALDESC:Events for The Food Initiative
REFRESH-INTERVAL;VALUE=DURATION:PT1H
X-Robots-Tag:noindex
X-PUBLISHED-TTL:PT1H
BEGIN:VTIMEZONE
TZID:UTC
BEGIN:STANDARD
TZOFFSETFROM:+0000
TZOFFSETTO:+0000
TZNAME:UTC
DTSTART:20270101T000000
END:STANDARD
END:VTIMEZONE
BEGIN:VEVENT
DTSTART;TZID=UTC:20281121T093000
DTEND;TZID=UTC:20281121T103000
DTSTAMP:20260425T014147
CREATED:20240105T222218Z
LAST-MODIFIED:20260423T153348Z
UID:10004206-1858411800-1858415400@foodinitiative.org
SUMMARY:FIGS Mobile Pantry-3rd Tuesday of the Month
DESCRIPTION:
URL:https://foodinitiative.org/event/figs-mobile-pantry-11/2028-11-21/
LOCATION:Johansen High School\, 641 Norseman Dr\, Modesto\, CA\, 95357\, United States
END:VEVENT
BEGIN:VEVENT
DTSTART;TZID=UTC:20281219T093000
DTEND;TZID=UTC:20281219T103000
DTSTAMP:20260425T014147
CREATED:20240105T222218Z
LAST-MODIFIED:20260423T153348Z
UID:10004207-1860831000-1860834600@foodinitiative.org
SUMMARY:FIGS Mobile Pantry-3rd Tuesday of the Month
DESCRIPTION:
URL:https://foodinitiative.org/event/figs-mobile-pantry-11/2028-12-19/
LOCATION:Johansen High School\, 641 Norseman Dr\, Modesto\, CA\, 95357\, United States
END:VEVENT
BEGIN:VEVENT
DTSTART;TZID=UTC:20290116T093000
DTEND;TZID=UTC:20290116T103000
DTSTAMP:20260425T014147
CREATED:20240105T222218Z
LAST-MODIFIED:20260423T153348Z
UID:10004208-1863250200-1863253800@foodinitiative.org
SUMMARY:FIGS Mobile Pantry-3rd Tuesday of the Month
DESCRIPTION:
URL:https://foodinitiative.org/event/figs-mobile-pantry-11/2029-01-16/
LOCATION:Johansen High School\, 641 Norseman Dr\, Modesto\, CA\, 95357\, United States
END:VEVENT
BEGIN:VEVENT
DTSTART;TZID=UTC:20290220T093000
DTEND;TZID=UTC:20290220T103000
DTSTAMP:20260425T014147
CREATED:20240105T222218Z
LAST-MODIFIED:20260423T153348Z
UID:10004209-1866274200-1866277800@foodinitiative.org
SUMMARY:FIGS Mobile Pantry-3rd Tuesday of the Month
DESCRIPTION:
URL:https://foodinitiative.org/event/figs-mobile-pantry-11/2029-02-20/
LOCATION:Johansen High School\, 641 Norseman Dr\, Modesto\, CA\, 95357\, United States
END:VEVENT
BEGIN:VEVENT
DTSTART;TZID=UTC:20290320T093000
DTEND;TZID=UTC:20290320T103000
DTSTAMP:20260425T014147
CREATED:20240105T222218Z
LAST-MODIFIED:20260423T153348Z
UID:10004210-1868693400-1868697000@foodinitiative.org
SUMMARY:FIGS Mobile Pantry-3rd Tuesday of the Month
DESCRIPTION:
URL:https://foodinitiative.org/event/figs-mobile-pantry-11/2029-03-20/
LOCATION:Johansen High School\, 641 Norseman Dr\, Modesto\, CA\, 95357\, United States
END:VEVENT
BEGIN:VEVENT
DTSTART;TZID=UTC:20290417T093000
DTEND;TZID=UTC:20290417T103000
DTSTAMP:20260425T014147
CREATED:20240105T222218Z
LAST-MODIFIED:20260423T153348Z
UID:10004211-1871112600-1871116200@foodinitiative.org
SUMMARY:FIGS Mobile Pantry-3rd Tuesday of the Month
DESCRIPTION:
URL:https://foodinitiative.org/event/figs-mobile-pantry-11/2029-04-17/
LOCATION:Johansen High School\, 641 Norseman Dr\, Modesto\, CA\, 95357\, United States
END:VEVENT
BEGIN:VEVENT
DTSTART;TZID=UTC:20290515T093000
DTEND;TZID=UTC:20290515T103000
DTSTAMP:20260425T014147
CREATED:20240105T222218Z
LAST-MODIFIED:20260423T153348Z
UID:10004212-1873531800-1873535400@foodinitiative.org
SUMMARY:FIGS Mobile Pantry-3rd Tuesday of the Month
DESCRIPTION:
URL:https://foodinitiative.org/event/figs-mobile-pantry-11/2029-05-15/
LOCATION:Johansen High School\, 641 Norseman Dr\, Modesto\, CA\, 95357\, United States
END:VEVENT
BEGIN:VEVENT
DTSTART;TZID=UTC:20290619T093000
DTEND;TZID=UTC:20290619T103000
DTSTAMP:20260425T014147
CREATED:20240105T222218Z
LAST-MODIFIED:20260423T153348Z
UID:10004213-1876555800-1876559400@foodinitiative.org
SUMMARY:FIGS Mobile Pantry-3rd Tuesday of the Month
DESCRIPTION:
URL:https://foodinitiative.org/event/figs-mobile-pantry-11/2029-06-19/
LOCATION:Johansen High School\, 641 Norseman Dr\, Modesto\, CA\, 95357\, United States
END:VEVENT
BEGIN:VEVENT
DTSTART;TZID=UTC:20290717T093000
DTEND;TZID=UTC:20290717T103000
DTSTAMP:20260425T014147
CREATED:20240105T222218Z
LAST-MODIFIED:20260423T153348Z
UID:10004214-1878975000-1878978600@foodinitiative.org
SUMMARY:FIGS Mobile Pantry-3rd Tuesday of the Month
DESCRIPTION:
URL:https://foodinitiative.org/event/figs-mobile-pantry-11/2029-07-17/
LOCATION:Johansen High School\, 641 Norseman Dr\, Modesto\, CA\, 95357\, United States
END:VEVENT
BEGIN:VEVENT
DTSTART;TZID=UTC:20290821T093000
DTEND;TZID=UTC:20290821T103000
DTSTAMP:20260425T014147
CREATED:20240105T222218Z
LAST-MODIFIED:20260423T153348Z
UID:10004215-1881999000-1882002600@foodinitiative.org
SUMMARY:FIGS Mobile Pantry-3rd Tuesday of the Month
DESCRIPTION:
URL:https://foodinitiative.org/event/figs-mobile-pantry-11/2029-08-21/
LOCATION:Johansen High School\, 641 Norseman Dr\, Modesto\, CA\, 95357\, United States
END:VEVENT
BEGIN:VEVENT
DTSTART;TZID=UTC:20290918T093000
DTEND;TZID=UTC:20290918T103000
DTSTAMP:20260425T014147
CREATED:20240105T222218Z
LAST-MODIFIED:20260423T153348Z
UID:10004216-1884418200-1884421800@foodinitiative.org
SUMMARY:FIGS Mobile Pantry-3rd Tuesday of the Month
DESCRIPTION:
URL:https://foodinitiative.org/event/figs-mobile-pantry-11/2029-09-18/
LOCATION:Johansen High School\, 641 Norseman Dr\, Modesto\, CA\, 95357\, United States
END:VEVENT
BEGIN:VEVENT
DTSTART;TZID=UTC:20291016T093000
DTEND;TZID=UTC:20291016T103000
DTSTAMP:20260425T014147
CREATED:20240105T222218Z
LAST-MODIFIED:20260423T153348Z
UID:10004217-1886837400-1886841000@foodinitiative.org
SUMMARY:FIGS Mobile Pantry-3rd Tuesday of the Month
DESCRIPTION:
URL:https://foodinitiative.org/event/figs-mobile-pantry-11/2029-10-16/
LOCATION:Johansen High School\, 641 Norseman Dr\, Modesto\, CA\, 95357\, United States
END:VEVENT
BEGIN:VEVENT
DTSTART;TZID=UTC:20291120T093000
DTEND;TZID=UTC:20291120T103000
DTSTAMP:20260425T014147
CREATED:20240105T222218Z
LAST-MODIFIED:20260423T153348Z
UID:10004218-1889861400-1889865000@foodinitiative.org
SUMMARY:FIGS Mobile Pantry-3rd Tuesday of the Month
DESCRIPTION:
URL:https://foodinitiative.org/event/figs-mobile-pantry-11/2029-11-20/
LOCATION:Johansen High School\, 641 Norseman Dr\, Modesto\, CA\, 95357\, United States
END:VEVENT
BEGIN:VEVENT
DTSTART;TZID=UTC:20291218T093000
DTEND;TZID=UTC:20291218T103000
DTSTAMP:20260425T014147
CREATED:20240105T222218Z
LAST-MODIFIED:20260423T153348Z
UID:10004219-1892280600-1892284200@foodinitiative.org
SUMMARY:FIGS Mobile Pantry-3rd Tuesday of the Month
DESCRIPTION:
URL:https://foodinitiative.org/event/figs-mobile-pantry-11/2029-12-18/
LOCATION:Johansen High School\, 641 Norseman Dr\, Modesto\, CA\, 95357\, United States
END:VEVENT
BEGIN:VEVENT
DTSTART;TZID=UTC:20300115T093000
DTEND;TZID=UTC:20300115T103000
DTSTAMP:20260425T014147
CREATED:20240105T222218Z
LAST-MODIFIED:20260423T153348Z
UID:10004220-1894699800-1894703400@foodinitiative.org
SUMMARY:FIGS Mobile Pantry-3rd Tuesday of the Month
DESCRIPTION:
URL:https://foodinitiative.org/event/figs-mobile-pantry-11/2030-01-15/
LOCATION:Johansen High School\, 641 Norseman Dr\, Modesto\, CA\, 95357\, United States
END:VEVENT
BEGIN:VEVENT
DTSTART;TZID=UTC:20300219T093000
DTEND;TZID=UTC:20300219T103000
DTSTAMP:20260425T014147
CREATED:20240105T222218Z
LAST-MODIFIED:20260423T153348Z
UID:10004221-1897723800-1897727400@foodinitiative.org
SUMMARY:FIGS Mobile Pantry-3rd Tuesday of the Month
DESCRIPTION:
URL:https://foodinitiative.org/event/figs-mobile-pantry-11/2030-02-19/
LOCATION:Johansen High School\, 641 Norseman Dr\, Modesto\, CA\, 95357\, United States
END:VEVENT
BEGIN:VEVENT
DTSTART;TZID=UTC:20300319T093000
DTEND;TZID=UTC:20300319T103000
DTSTAMP:20260425T014147
CREATED:20240105T222218Z
LAST-MODIFIED:20260423T153348Z
UID:10004222-1900143000-1900146600@foodinitiative.org
SUMMARY:FIGS Mobile Pantry-3rd Tuesday of the Month
DESCRIPTION:
URL:https://foodinitiative.org/event/figs-mobile-pantry-11/2030-03-19/
LOCATION:Johansen High School\, 641 Norseman Dr\, Modesto\, CA\, 95357\, United States
END:VEVENT
BEGIN:VEVENT
DTSTART;TZID=UTC:20300416T093000
DTEND;TZID=UTC:20300416T103000
DTSTAMP:20260425T014147
CREATED:20240105T222218Z
LAST-MODIFIED:20260423T153348Z
UID:10004223-1902562200-1902565800@foodinitiative.org
SUMMARY:FIGS Mobile Pantry-3rd Tuesday of the Month
DESCRIPTION:
URL:https://foodinitiative.org/event/figs-mobile-pantry-11/2030-04-16/
LOCATION:Johansen High School\, 641 Norseman Dr\, Modesto\, CA\, 95357\, United States
END:VEVENT
BEGIN:VEVENT
DTSTART;TZID=UTC:20300521T093000
DTEND;TZID=UTC:20300521T103000
DTSTAMP:20260425T014147
CREATED:20240105T222218Z
LAST-MODIFIED:20260423T153348Z
UID:10004224-1905586200-1905589800@foodinitiative.org
SUMMARY:FIGS Mobile Pantry-3rd Tuesday of the Month
DESCRIPTION:
URL:https://foodinitiative.org/event/figs-mobile-pantry-11/2030-05-21/
LOCATION:Johansen High School\, 641 Norseman Dr\, Modesto\, CA\, 95357\, United States
END:VEVENT
BEGIN:VEVENT
DTSTART;TZID=UTC:20300618T093000
DTEND;TZID=UTC:20300618T103000
DTSTAMP:20260425T014147
CREATED:20240105T222218Z
LAST-MODIFIED:20260423T153348Z
UID:10004225-1908005400-1908009000@foodinitiative.org
SUMMARY:FIGS Mobile Pantry-3rd Tuesday of the Month
DESCRIPTION:
URL:https://foodinitiative.org/event/figs-mobile-pantry-11/2030-06-18/
LOCATION:Johansen High School\, 641 Norseman Dr\, Modesto\, CA\, 95357\, United States
END:VEVENT
BEGIN:VEVENT
DTSTART;TZID=UTC:20300716T093000
DTEND;TZID=UTC:20300716T103000
DTSTAMP:20260425T014147
CREATED:20240105T222218Z
LAST-MODIFIED:20260423T153348Z
UID:10004226-1910424600-1910428200@foodinitiative.org
SUMMARY:FIGS Mobile Pantry-3rd Tuesday of the Month
DESCRIPTION:
URL:https://foodinitiative.org/event/figs-mobile-pantry-11/2030-07-16/
LOCATION:Johansen High School\, 641 Norseman Dr\, Modesto\, CA\, 95357\, United States
END:VEVENT
BEGIN:VEVENT
DTSTART;TZID=UTC:20300820T093000
DTEND;TZID=UTC:20300820T103000
DTSTAMP:20260425T014147
CREATED:20240105T222218Z
LAST-MODIFIED:20260423T153348Z
UID:10004227-1913448600-1913452200@foodinitiative.org
SUMMARY:FIGS Mobile Pantry-3rd Tuesday of the Month
DESCRIPTION:
URL:https://foodinitiative.org/event/figs-mobile-pantry-11/2030-08-20/
LOCATION:Johansen High School\, 641 Norseman Dr\, Modesto\, CA\, 95357\, United States
END:VEVENT
BEGIN:VEVENT
DTSTART;TZID=UTC:20300917T093000
DTEND;TZID=UTC:20300917T103000
DTSTAMP:20260425T014147
CREATED:20240105T222218Z
LAST-MODIFIED:20260423T153348Z
UID:10004228-1915867800-1915871400@foodinitiative.org
SUMMARY:FIGS Mobile Pantry-3rd Tuesday of the Month
DESCRIPTION:
URL:https://foodinitiative.org/event/figs-mobile-pantry-11/2030-09-17/
LOCATION:Johansen High School\, 641 Norseman Dr\, Modesto\, CA\, 95357\, United States
END:VEVENT
BEGIN:VEVENT
DTSTART;TZID=UTC:20301015T093000
DTEND;TZID=UTC:20301015T103000
DTSTAMP:20260425T014147
CREATED:20240105T222218Z
LAST-MODIFIED:20260423T153348Z
UID:10004229-1918287000-1918290600@foodinitiative.org
SUMMARY:FIGS Mobile Pantry-3rd Tuesday of the Month
DESCRIPTION:
URL:https://foodinitiative.org/event/figs-mobile-pantry-11/2030-10-15/
LOCATION:Johansen High School\, 641 Norseman Dr\, Modesto\, CA\, 95357\, United States
END:VEVENT
BEGIN:VEVENT
DTSTART;TZID=UTC:20301119T093000
DTEND;TZID=UTC:20301119T103000
DTSTAMP:20260425T014147
CREATED:20240105T222218Z
LAST-MODIFIED:20260423T153348Z
UID:10004230-1921311000-1921314600@foodinitiative.org
SUMMARY:FIGS Mobile Pantry-3rd Tuesday of the Month
DESCRIPTION:
URL:https://foodinitiative.org/event/figs-mobile-pantry-11/2030-11-19/
LOCATION:Johansen High School\, 641 Norseman Dr\, Modesto\, CA\, 95357\, United States
END:VEVENT
BEGIN:VEVENT
DTSTART;TZID=UTC:20301217T093000
DTEND;TZID=UTC:20301217T103000
DTSTAMP:20260425T014147
CREATED:20240105T222218Z
LAST-MODIFIED:20260423T153348Z
UID:10004231-1923730200-1923733800@foodinitiative.org
SUMMARY:FIGS Mobile Pantry-3rd Tuesday of the Month
DESCRIPTION:
URL:https://foodinitiative.org/event/figs-mobile-pantry-11/2030-12-17/
LOCATION:Johansen High School\, 641 Norseman Dr\, Modesto\, CA\, 95357\, United States
END:VEVENT
BEGIN:VEVENT
DTSTART;TZID=UTC:20310121T093000
DTEND;TZID=UTC:20310121T103000
DTSTAMP:20260425T014147
CREATED:20240105T222218Z
LAST-MODIFIED:20260423T153348Z
UID:10004232-1926754200-1926757800@foodinitiative.org
SUMMARY:FIGS Mobile Pantry-3rd Tuesday of the Month
DESCRIPTION:
URL:https://foodinitiative.org/event/figs-mobile-pantry-11/2031-01-21/
LOCATION:Johansen High School\, 641 Norseman Dr\, Modesto\, CA\, 95357\, United States
END:VEVENT
BEGIN:VEVENT
DTSTART;TZID=UTC:20310218T093000
DTEND;TZID=UTC:20310218T103000
DTSTAMP:20260425T014147
CREATED:20240105T222218Z
LAST-MODIFIED:20260423T153348Z
UID:10004233-1929173400-1929177000@foodinitiative.org
SUMMARY:FIGS Mobile Pantry-3rd Tuesday of the Month
DESCRIPTION:
URL:https://foodinitiative.org/event/figs-mobile-pantry-11/2031-02-18/
LOCATION:Johansen High School\, 641 Norseman Dr\, Modesto\, CA\, 95357\, United States
END:VEVENT
BEGIN:VEVENT
DTSTART;TZID=UTC:20310318T093000
DTEND;TZID=UTC:20310318T103000
DTSTAMP:20260425T014147
CREATED:20240105T222218Z
LAST-MODIFIED:20260423T153348Z
UID:10004234-1931592600-1931596200@foodinitiative.org
SUMMARY:FIGS Mobile Pantry-3rd Tuesday of the Month
DESCRIPTION:
URL:https://foodinitiative.org/event/figs-mobile-pantry-11/2031-03-18/
LOCATION:Johansen High School\, 641 Norseman Dr\, Modesto\, CA\, 95357\, United States
END:VEVENT
BEGIN:VEVENT
DTSTART;TZID=UTC:20310415T093000
DTEND;TZID=UTC:20310415T103000
DTSTAMP:20260425T014147
CREATED:20240105T222218Z
LAST-MODIFIED:20260423T153348Z
UID:10004235-1934011800-1934015400@foodinitiative.org
SUMMARY:FIGS Mobile Pantry-3rd Tuesday of the Month
DESCRIPTION:
URL:https://foodinitiative.org/event/figs-mobile-pantry-11/2031-04-15/
LOCATION:Johansen High School\, 641 Norseman Dr\, Modesto\, CA\, 95357\, United States
END:VEVENT
END:VCALENDAR