BEGIN:VCALENDAR
VERSION:2.0
PRODID:-//The Food Initiative - ECPv6.15.20//NONSGML v1.0//EN
CALSCALE:GREGORIAN
METHOD:PUBLISH
X-WR-CALNAME:The Food Initiative
X-ORIGINAL-URL:https://foodinitiative.org
X-WR-CALDESC:Events for The Food Initiative
REFRESH-INTERVAL;VALUE=DURATION:PT1H
X-Robots-Tag:noindex
X-PUBLISHED-TTL:PT1H
BEGIN:VTIMEZONE
TZID:UTC
BEGIN:STANDARD
TZOFFSETFROM:+0000
TZOFFSETTO:+0000
TZNAME:UTC
DTSTART:20270101T000000
END:STANDARD
END:VTIMEZONE
BEGIN:VEVENT
DTSTART;TZID=UTC:20281118T090000
DTEND;TZID=UTC:20281118T103000
DTSTAMP:20260425T014140
CREATED:20250501T180111Z
LAST-MODIFIED:20250923T162551Z
UID:10001316-1858150800-1858156200@foodinitiative.org
SUMMARY:FIGS Mobile Pantry-3rd Saturday of the Month
DESCRIPTION:
URL:https://foodinitiative.org/event/figs-mobile-pantry-4-2/2028-11-18/
LOCATION:Children’s Garden\, 3525 Pelandale Ave\, Modesto\, CA\, 95356\, United States
END:VEVENT
BEGIN:VEVENT
DTSTART;TZID=UTC:20281216T090000
DTEND;TZID=UTC:20281216T103000
DTSTAMP:20260425T014140
CREATED:20250501T180111Z
LAST-MODIFIED:20250923T162551Z
UID:10001317-1860570000-1860575400@foodinitiative.org
SUMMARY:FIGS Mobile Pantry-3rd Saturday of the Month
DESCRIPTION:
URL:https://foodinitiative.org/event/figs-mobile-pantry-4-2/2028-12-16/
LOCATION:Children’s Garden\, 3525 Pelandale Ave\, Modesto\, CA\, 95356\, United States
END:VEVENT
BEGIN:VEVENT
DTSTART;TZID=UTC:20290120T090000
DTEND;TZID=UTC:20290120T103000
DTSTAMP:20260425T014140
CREATED:20250501T180111Z
LAST-MODIFIED:20250923T162551Z
UID:10002893-1863594000-1863599400@foodinitiative.org
SUMMARY:FIGS Mobile Pantry-3rd Saturday of the Month
DESCRIPTION:
URL:https://foodinitiative.org/event/figs-mobile-pantry-4-2/2029-01-20/
LOCATION:Children’s Garden\, 3525 Pelandale Ave\, Modesto\, CA\, 95356\, United States
END:VEVENT
BEGIN:VEVENT
DTSTART;TZID=UTC:20290217T090000
DTEND;TZID=UTC:20290217T103000
DTSTAMP:20260425T014140
CREATED:20250501T180111Z
LAST-MODIFIED:20250923T162551Z
UID:10002894-1866013200-1866018600@foodinitiative.org
SUMMARY:FIGS Mobile Pantry-3rd Saturday of the Month
DESCRIPTION:
URL:https://foodinitiative.org/event/figs-mobile-pantry-4-2/2029-02-17/
LOCATION:Children’s Garden\, 3525 Pelandale Ave\, Modesto\, CA\, 95356\, United States
END:VEVENT
BEGIN:VEVENT
DTSTART;TZID=UTC:20290317T090000
DTEND;TZID=UTC:20290317T103000
DTSTAMP:20260425T014140
CREATED:20250501T180111Z
LAST-MODIFIED:20250923T162551Z
UID:10002895-1868432400-1868437800@foodinitiative.org
SUMMARY:FIGS Mobile Pantry-3rd Saturday of the Month
DESCRIPTION:
URL:https://foodinitiative.org/event/figs-mobile-pantry-4-2/2029-03-17/
LOCATION:Children’s Garden\, 3525 Pelandale Ave\, Modesto\, CA\, 95356\, United States
END:VEVENT
BEGIN:VEVENT
DTSTART;TZID=UTC:20290421T090000
DTEND;TZID=UTC:20290421T103000
DTSTAMP:20260425T014140
CREATED:20250501T180111Z
LAST-MODIFIED:20250923T162551Z
UID:10002896-1871456400-1871461800@foodinitiative.org
SUMMARY:FIGS Mobile Pantry-3rd Saturday of the Month
DESCRIPTION:
URL:https://foodinitiative.org/event/figs-mobile-pantry-4-2/2029-04-21/
LOCATION:Children’s Garden\, 3525 Pelandale Ave\, Modesto\, CA\, 95356\, United States
END:VEVENT
BEGIN:VEVENT
DTSTART;TZID=UTC:20290519T090000
DTEND;TZID=UTC:20290519T103000
DTSTAMP:20260425T014140
CREATED:20250501T180111Z
LAST-MODIFIED:20250923T162551Z
UID:10002897-1873875600-1873881000@foodinitiative.org
SUMMARY:FIGS Mobile Pantry-3rd Saturday of the Month
DESCRIPTION:
URL:https://foodinitiative.org/event/figs-mobile-pantry-4-2/2029-05-19/
LOCATION:Children’s Garden\, 3525 Pelandale Ave\, Modesto\, CA\, 95356\, United States
END:VEVENT
BEGIN:VEVENT
DTSTART;TZID=UTC:20290616T090000
DTEND;TZID=UTC:20290616T103000
DTSTAMP:20260425T014140
CREATED:20250501T180111Z
LAST-MODIFIED:20250923T162551Z
UID:10002898-1876294800-1876300200@foodinitiative.org
SUMMARY:FIGS Mobile Pantry-3rd Saturday of the Month
DESCRIPTION:
URL:https://foodinitiative.org/event/figs-mobile-pantry-4-2/2029-06-16/
LOCATION:Children’s Garden\, 3525 Pelandale Ave\, Modesto\, CA\, 95356\, United States
END:VEVENT
BEGIN:VEVENT
DTSTART;TZID=UTC:20290721T090000
DTEND;TZID=UTC:20290721T103000
DTSTAMP:20260425T014140
CREATED:20250501T180111Z
LAST-MODIFIED:20250923T162551Z
UID:10003612-1879318800-1879324200@foodinitiative.org
SUMMARY:FIGS Mobile Pantry-3rd Saturday of the Month
DESCRIPTION:
URL:https://foodinitiative.org/event/figs-mobile-pantry-4-2/2029-07-21/
LOCATION:Children’s Garden\, 3525 Pelandale Ave\, Modesto\, CA\, 95356\, United States
END:VEVENT
BEGIN:VEVENT
DTSTART;TZID=UTC:20290818T090000
DTEND;TZID=UTC:20290818T103000
DTSTAMP:20260425T014140
CREATED:20250501T180111Z
LAST-MODIFIED:20250923T162551Z
UID:10003613-1881738000-1881743400@foodinitiative.org
SUMMARY:FIGS Mobile Pantry-3rd Saturday of the Month
DESCRIPTION:
URL:https://foodinitiative.org/event/figs-mobile-pantry-4-2/2029-08-18/
LOCATION:Children’s Garden\, 3525 Pelandale Ave\, Modesto\, CA\, 95356\, United States
END:VEVENT
BEGIN:VEVENT
DTSTART;TZID=UTC:20290915T090000
DTEND;TZID=UTC:20290915T103000
DTSTAMP:20260425T014140
CREATED:20250501T180111Z
LAST-MODIFIED:20250923T162551Z
UID:10003614-1884157200-1884162600@foodinitiative.org
SUMMARY:FIGS Mobile Pantry-3rd Saturday of the Month
DESCRIPTION:
URL:https://foodinitiative.org/event/figs-mobile-pantry-4-2/2029-09-15/
LOCATION:Children’s Garden\, 3525 Pelandale Ave\, Modesto\, CA\, 95356\, United States
END:VEVENT
BEGIN:VEVENT
DTSTART;TZID=UTC:20291020T090000
DTEND;TZID=UTC:20291020T103000
DTSTAMP:20260425T014140
CREATED:20250501T180111Z
LAST-MODIFIED:20250923T162551Z
UID:10003615-1887181200-1887186600@foodinitiative.org
SUMMARY:FIGS Mobile Pantry-3rd Saturday of the Month
DESCRIPTION:
URL:https://foodinitiative.org/event/figs-mobile-pantry-4-2/2029-10-20/
LOCATION:Children’s Garden\, 3525 Pelandale Ave\, Modesto\, CA\, 95356\, United States
END:VEVENT
BEGIN:VEVENT
DTSTART;TZID=UTC:20291117T090000
DTEND;TZID=UTC:20291117T103000
DTSTAMP:20260425T014140
CREATED:20250501T180111Z
LAST-MODIFIED:20250923T162551Z
UID:10003616-1889600400-1889605800@foodinitiative.org
SUMMARY:FIGS Mobile Pantry-3rd Saturday of the Month
DESCRIPTION:
URL:https://foodinitiative.org/event/figs-mobile-pantry-4-2/2029-11-17/
LOCATION:Children’s Garden\, 3525 Pelandale Ave\, Modesto\, CA\, 95356\, United States
END:VEVENT
BEGIN:VEVENT
DTSTART;TZID=UTC:20291215T090000
DTEND;TZID=UTC:20291215T103000
DTSTAMP:20260425T014140
CREATED:20250501T180111Z
LAST-MODIFIED:20250923T162551Z
UID:10003617-1892019600-1892025000@foodinitiative.org
SUMMARY:FIGS Mobile Pantry-3rd Saturday of the Month
DESCRIPTION:
URL:https://foodinitiative.org/event/figs-mobile-pantry-4-2/2029-12-15/
LOCATION:Children’s Garden\, 3525 Pelandale Ave\, Modesto\, CA\, 95356\, United States
END:VEVENT
BEGIN:VEVENT
DTSTART;TZID=UTC:20300119T090000
DTEND;TZID=UTC:20300119T103000
DTSTAMP:20260425T014140
CREATED:20250501T180111Z
LAST-MODIFIED:20250923T162551Z
UID:10003618-1895043600-1895049000@foodinitiative.org
SUMMARY:FIGS Mobile Pantry-3rd Saturday of the Month
DESCRIPTION:
URL:https://foodinitiative.org/event/figs-mobile-pantry-4-2/2030-01-19/
LOCATION:Children’s Garden\, 3525 Pelandale Ave\, Modesto\, CA\, 95356\, United States
END:VEVENT
BEGIN:VEVENT
DTSTART;TZID=UTC:20300216T090000
DTEND;TZID=UTC:20300216T103000
DTSTAMP:20260425T014140
CREATED:20250501T180111Z
LAST-MODIFIED:20250923T162551Z
UID:10003619-1897462800-1897468200@foodinitiative.org
SUMMARY:FIGS Mobile Pantry-3rd Saturday of the Month
DESCRIPTION:
URL:https://foodinitiative.org/event/figs-mobile-pantry-4-2/2030-02-16/
LOCATION:Children’s Garden\, 3525 Pelandale Ave\, Modesto\, CA\, 95356\, United States
END:VEVENT
BEGIN:VEVENT
DTSTART;TZID=UTC:20300316T090000
DTEND;TZID=UTC:20300316T103000
DTSTAMP:20260425T014140
CREATED:20250501T180111Z
LAST-MODIFIED:20250923T162551Z
UID:10003620-1899882000-1899887400@foodinitiative.org
SUMMARY:FIGS Mobile Pantry-3rd Saturday of the Month
DESCRIPTION:
URL:https://foodinitiative.org/event/figs-mobile-pantry-4-2/2030-03-16/
LOCATION:Children’s Garden\, 3525 Pelandale Ave\, Modesto\, CA\, 95356\, United States
END:VEVENT
BEGIN:VEVENT
DTSTART;TZID=UTC:20300420T090000
DTEND;TZID=UTC:20300420T103000
DTSTAMP:20260425T014140
CREATED:20250501T180111Z
LAST-MODIFIED:20250923T162551Z
UID:10003682-1902906000-1902911400@foodinitiative.org
SUMMARY:FIGS Mobile Pantry-3rd Saturday of the Month
DESCRIPTION:
URL:https://foodinitiative.org/event/figs-mobile-pantry-4-2/2030-04-20/
LOCATION:Children’s Garden\, 3525 Pelandale Ave\, Modesto\, CA\, 95356\, United States
END:VEVENT
BEGIN:VEVENT
DTSTART;TZID=UTC:20300518T090000
DTEND;TZID=UTC:20300518T103000
DTSTAMP:20260425T014140
CREATED:20250501T180111Z
LAST-MODIFIED:20250923T162551Z
UID:10003806-1905325200-1905330600@foodinitiative.org
SUMMARY:FIGS Mobile Pantry-3rd Saturday of the Month
DESCRIPTION:
URL:https://foodinitiative.org/event/figs-mobile-pantry-4-2/2030-05-18/
LOCATION:Children’s Garden\, 3525 Pelandale Ave\, Modesto\, CA\, 95356\, United States
END:VEVENT
BEGIN:VEVENT
DTSTART;TZID=UTC:20300615T090000
DTEND;TZID=UTC:20300615T103000
DTSTAMP:20260425T014140
CREATED:20250501T180111Z
LAST-MODIFIED:20250923T162551Z
UID:10003807-1907744400-1907749800@foodinitiative.org
SUMMARY:FIGS Mobile Pantry-3rd Saturday of the Month
DESCRIPTION:
URL:https://foodinitiative.org/event/figs-mobile-pantry-4-2/2030-06-15/
LOCATION:Children’s Garden\, 3525 Pelandale Ave\, Modesto\, CA\, 95356\, United States
END:VEVENT
BEGIN:VEVENT
DTSTART;TZID=UTC:20300720T090000
DTEND;TZID=UTC:20300720T103000
DTSTAMP:20260425T014140
CREATED:20250501T180111Z
LAST-MODIFIED:20250923T162551Z
UID:10003808-1910768400-1910773800@foodinitiative.org
SUMMARY:FIGS Mobile Pantry-3rd Saturday of the Month
DESCRIPTION:
URL:https://foodinitiative.org/event/figs-mobile-pantry-4-2/2030-07-20/
LOCATION:Children’s Garden\, 3525 Pelandale Ave\, Modesto\, CA\, 95356\, United States
END:VEVENT
BEGIN:VEVENT
DTSTART;TZID=UTC:20300817T090000
DTEND;TZID=UTC:20300817T103000
DTSTAMP:20260425T014140
CREATED:20250501T180111Z
LAST-MODIFIED:20250923T162551Z
UID:10003809-1913187600-1913193000@foodinitiative.org
SUMMARY:FIGS Mobile Pantry-3rd Saturday of the Month
DESCRIPTION:
URL:https://foodinitiative.org/event/figs-mobile-pantry-4-2/2030-08-17/
LOCATION:Children’s Garden\, 3525 Pelandale Ave\, Modesto\, CA\, 95356\, United States
END:VEVENT
BEGIN:VEVENT
DTSTART;TZID=UTC:20300921T090000
DTEND;TZID=UTC:20300921T103000
DTSTAMP:20260425T014140
CREATED:20250501T180111Z
LAST-MODIFIED:20250923T162551Z
UID:10003810-1916211600-1916217000@foodinitiative.org
SUMMARY:FIGS Mobile Pantry-3rd Saturday of the Month
DESCRIPTION:
URL:https://foodinitiative.org/event/figs-mobile-pantry-4-2/2030-09-21/
LOCATION:Children’s Garden\, 3525 Pelandale Ave\, Modesto\, CA\, 95356\, United States
END:VEVENT
END:VCALENDAR