BEGIN:VCALENDAR
VERSION:2.0
PRODID:-//The Food Initiative - ECPv6.15.20//NONSGML v1.0//EN
CALSCALE:GREGORIAN
METHOD:PUBLISH
X-WR-CALNAME:The Food Initiative
X-ORIGINAL-URL:https://foodinitiative.org
X-WR-CALDESC:Events for The Food Initiative
REFRESH-INTERVAL;VALUE=DURATION:PT1H
X-Robots-Tag:noindex
X-PUBLISHED-TTL:PT1H
BEGIN:VTIMEZONE
TZID:UTC
BEGIN:STANDARD
TZOFFSETFROM:+0000
TZOFFSETTO:+0000
TZNAME:UTC
DTSTART:20260101T000000
END:STANDARD
END:VTIMEZONE
BEGIN:VEVENT
DTSTART;TZID=UTC:20270319T100000
DTEND;TZID=UTC:20270319T120000
DTSTAMP:20260424T232522
CREATED:20240126T190521Z
LAST-MODIFIED:20250407T203116Z
UID:10002086-1805450400-1805457600@foodinitiative.org
SUMMARY:FIGS Mobile Pantry-3rd Friday of the Month
DESCRIPTION:
URL:https://foodinitiative.org/event/figs-mobile-pantry-17/2027-03-19/
LOCATION:The Well Community Fellowship\, 2500 Claus Rd\, Modesto\, 95355\, United States
END:VEVENT
BEGIN:VEVENT
DTSTART;TZID=UTC:20270416T100000
DTEND;TZID=UTC:20270416T120000
DTSTAMP:20260424T232522
CREATED:20240126T190521Z
LAST-MODIFIED:20250407T203116Z
UID:10002087-1807869600-1807876800@foodinitiative.org
SUMMARY:FIGS Mobile Pantry-3rd Friday of the Month
DESCRIPTION:
URL:https://foodinitiative.org/event/figs-mobile-pantry-17/2027-04-16/
LOCATION:The Well Community Fellowship\, 2500 Claus Rd\, Modesto\, 95355\, United States
END:VEVENT
BEGIN:VEVENT
DTSTART;TZID=UTC:20270521T100000
DTEND;TZID=UTC:20270521T120000
DTSTAMP:20260424T232522
CREATED:20240126T190521Z
LAST-MODIFIED:20250407T203116Z
UID:10002088-1810893600-1810900800@foodinitiative.org
SUMMARY:FIGS Mobile Pantry-3rd Friday of the Month
DESCRIPTION:
URL:https://foodinitiative.org/event/figs-mobile-pantry-17/2027-05-21/
LOCATION:The Well Community Fellowship\, 2500 Claus Rd\, Modesto\, 95355\, United States
END:VEVENT
BEGIN:VEVENT
DTSTART;TZID=UTC:20270618T100000
DTEND;TZID=UTC:20270618T120000
DTSTAMP:20260424T232522
CREATED:20240126T190521Z
LAST-MODIFIED:20250407T203116Z
UID:10002089-1813312800-1813320000@foodinitiative.org
SUMMARY:FIGS Mobile Pantry-3rd Friday of the Month
DESCRIPTION:
URL:https://foodinitiative.org/event/figs-mobile-pantry-17/2027-06-18/
LOCATION:The Well Community Fellowship\, 2500 Claus Rd\, Modesto\, 95355\, United States
END:VEVENT
BEGIN:VEVENT
DTSTART;TZID=UTC:20270716T100000
DTEND;TZID=UTC:20270716T120000
DTSTAMP:20260424T232522
CREATED:20240126T190521Z
LAST-MODIFIED:20250407T203116Z
UID:10002090-1815732000-1815739200@foodinitiative.org
SUMMARY:FIGS Mobile Pantry-3rd Friday of the Month
DESCRIPTION:
URL:https://foodinitiative.org/event/figs-mobile-pantry-17/2027-07-16/
LOCATION:The Well Community Fellowship\, 2500 Claus Rd\, Modesto\, 95355\, United States
END:VEVENT
BEGIN:VEVENT
DTSTART;TZID=UTC:20270820T100000
DTEND;TZID=UTC:20270820T120000
DTSTAMP:20260424T232522
CREATED:20240126T190521Z
LAST-MODIFIED:20250407T203116Z
UID:10002091-1818756000-1818763200@foodinitiative.org
SUMMARY:FIGS Mobile Pantry-3rd Friday of the Month
DESCRIPTION:
URL:https://foodinitiative.org/event/figs-mobile-pantry-17/2027-08-20/
LOCATION:The Well Community Fellowship\, 2500 Claus Rd\, Modesto\, 95355\, United States
END:VEVENT
BEGIN:VEVENT
DTSTART;TZID=UTC:20270917T100000
DTEND;TZID=UTC:20270917T120000
DTSTAMP:20260424T232522
CREATED:20240126T190521Z
LAST-MODIFIED:20250407T203116Z
UID:10002092-1821175200-1821182400@foodinitiative.org
SUMMARY:FIGS Mobile Pantry-3rd Friday of the Month
DESCRIPTION:
URL:https://foodinitiative.org/event/figs-mobile-pantry-17/2027-09-17/
LOCATION:The Well Community Fellowship\, 2500 Claus Rd\, Modesto\, 95355\, United States
END:VEVENT
BEGIN:VEVENT
DTSTART;TZID=UTC:20271015T100000
DTEND;TZID=UTC:20271015T120000
DTSTAMP:20260424T232522
CREATED:20240126T190521Z
LAST-MODIFIED:20250407T203116Z
UID:10002093-1823594400-1823601600@foodinitiative.org
SUMMARY:FIGS Mobile Pantry-3rd Friday of the Month
DESCRIPTION:
URL:https://foodinitiative.org/event/figs-mobile-pantry-17/2027-10-15/
LOCATION:The Well Community Fellowship\, 2500 Claus Rd\, Modesto\, 95355\, United States
END:VEVENT
BEGIN:VEVENT
DTSTART;TZID=UTC:20271119T100000
DTEND;TZID=UTC:20271119T120000
DTSTAMP:20260424T232522
CREATED:20240126T190521Z
LAST-MODIFIED:20250407T203116Z
UID:10002094-1826618400-1826625600@foodinitiative.org
SUMMARY:FIGS Mobile Pantry-3rd Friday of the Month
DESCRIPTION:
URL:https://foodinitiative.org/event/figs-mobile-pantry-17/2027-11-19/
LOCATION:The Well Community Fellowship\, 2500 Claus Rd\, Modesto\, 95355\, United States
END:VEVENT
BEGIN:VEVENT
DTSTART;TZID=UTC:20271217T100000
DTEND;TZID=UTC:20271217T120000
DTSTAMP:20260424T232522
CREATED:20240126T190521Z
LAST-MODIFIED:20250407T203116Z
UID:10002095-1829037600-1829044800@foodinitiative.org
SUMMARY:FIGS Mobile Pantry-3rd Friday of the Month
DESCRIPTION:
URL:https://foodinitiative.org/event/figs-mobile-pantry-17/2027-12-17/
LOCATION:The Well Community Fellowship\, 2500 Claus Rd\, Modesto\, 95355\, United States
END:VEVENT
BEGIN:VEVENT
DTSTART;TZID=UTC:20280121T100000
DTEND;TZID=UTC:20280121T120000
DTSTAMP:20260424T232522
CREATED:20240126T190521Z
LAST-MODIFIED:20250407T203116Z
UID:10002096-1832061600-1832068800@foodinitiative.org
SUMMARY:FIGS Mobile Pantry-3rd Friday of the Month
DESCRIPTION:
URL:https://foodinitiative.org/event/figs-mobile-pantry-17/2028-01-21/
LOCATION:The Well Community Fellowship\, 2500 Claus Rd\, Modesto\, 95355\, United States
END:VEVENT
BEGIN:VEVENT
DTSTART;TZID=UTC:20280218T100000
DTEND;TZID=UTC:20280218T120000
DTSTAMP:20260424T232522
CREATED:20240126T190521Z
LAST-MODIFIED:20250407T203116Z
UID:10002097-1834480800-1834488000@foodinitiative.org
SUMMARY:FIGS Mobile Pantry-3rd Friday of the Month
DESCRIPTION:
URL:https://foodinitiative.org/event/figs-mobile-pantry-17/2028-02-18/
LOCATION:The Well Community Fellowship\, 2500 Claus Rd\, Modesto\, 95355\, United States
END:VEVENT
BEGIN:VEVENT
DTSTART;TZID=UTC:20280317T100000
DTEND;TZID=UTC:20280317T120000
DTSTAMP:20260424T232522
CREATED:20240126T190521Z
LAST-MODIFIED:20250407T203116Z
UID:10002098-1836900000-1836907200@foodinitiative.org
SUMMARY:FIGS Mobile Pantry-3rd Friday of the Month
DESCRIPTION:
URL:https://foodinitiative.org/event/figs-mobile-pantry-17/2028-03-17/
LOCATION:The Well Community Fellowship\, 2500 Claus Rd\, Modesto\, 95355\, United States
END:VEVENT
BEGIN:VEVENT
DTSTART;TZID=UTC:20280421T100000
DTEND;TZID=UTC:20280421T120000
DTSTAMP:20260424T232522
CREATED:20240126T190521Z
LAST-MODIFIED:20250407T203116Z
UID:10002099-1839924000-1839931200@foodinitiative.org
SUMMARY:FIGS Mobile Pantry-3rd Friday of the Month
DESCRIPTION:
URL:https://foodinitiative.org/event/figs-mobile-pantry-17/2028-04-21/
LOCATION:The Well Community Fellowship\, 2500 Claus Rd\, Modesto\, 95355\, United States
END:VEVENT
BEGIN:VEVENT
DTSTART;TZID=UTC:20280519T100000
DTEND;TZID=UTC:20280519T120000
DTSTAMP:20260424T232522
CREATED:20240126T190521Z
LAST-MODIFIED:20250407T203116Z
UID:10002100-1842343200-1842350400@foodinitiative.org
SUMMARY:FIGS Mobile Pantry-3rd Friday of the Month
DESCRIPTION:
URL:https://foodinitiative.org/event/figs-mobile-pantry-17/2028-05-19/
LOCATION:The Well Community Fellowship\, 2500 Claus Rd\, Modesto\, 95355\, United States
END:VEVENT
BEGIN:VEVENT
DTSTART;TZID=UTC:20280616T100000
DTEND;TZID=UTC:20280616T120000
DTSTAMP:20260424T232522
CREATED:20240126T190521Z
LAST-MODIFIED:20250407T203116Z
UID:10002101-1844762400-1844769600@foodinitiative.org
SUMMARY:FIGS Mobile Pantry-3rd Friday of the Month
DESCRIPTION:
URL:https://foodinitiative.org/event/figs-mobile-pantry-17/2028-06-16/
LOCATION:The Well Community Fellowship\, 2500 Claus Rd\, Modesto\, 95355\, United States
END:VEVENT
BEGIN:VEVENT
DTSTART;TZID=UTC:20280721T100000
DTEND;TZID=UTC:20280721T120000
DTSTAMP:20260424T232522
CREATED:20240126T190521Z
LAST-MODIFIED:20250407T203116Z
UID:10002102-1847786400-1847793600@foodinitiative.org
SUMMARY:FIGS Mobile Pantry-3rd Friday of the Month
DESCRIPTION:
URL:https://foodinitiative.org/event/figs-mobile-pantry-17/2028-07-21/
LOCATION:The Well Community Fellowship\, 2500 Claus Rd\, Modesto\, 95355\, United States
END:VEVENT
BEGIN:VEVENT
DTSTART;TZID=UTC:20280818T100000
DTEND;TZID=UTC:20280818T120000
DTSTAMP:20260424T232522
CREATED:20240126T190521Z
LAST-MODIFIED:20250407T203116Z
UID:10002103-1850205600-1850212800@foodinitiative.org
SUMMARY:FIGS Mobile Pantry-3rd Friday of the Month
DESCRIPTION:
URL:https://foodinitiative.org/event/figs-mobile-pantry-17/2028-08-18/
LOCATION:The Well Community Fellowship\, 2500 Claus Rd\, Modesto\, 95355\, United States
END:VEVENT
BEGIN:VEVENT
DTSTART;TZID=UTC:20280915T100000
DTEND;TZID=UTC:20280915T120000
DTSTAMP:20260424T232522
CREATED:20240126T190521Z
LAST-MODIFIED:20250407T203116Z
UID:10002104-1852624800-1852632000@foodinitiative.org
SUMMARY:FIGS Mobile Pantry-3rd Friday of the Month
DESCRIPTION:
URL:https://foodinitiative.org/event/figs-mobile-pantry-17/2028-09-15/
LOCATION:The Well Community Fellowship\, 2500 Claus Rd\, Modesto\, 95355\, United States
END:VEVENT
BEGIN:VEVENT
DTSTART;TZID=UTC:20281020T100000
DTEND;TZID=UTC:20281020T120000
DTSTAMP:20260424T232522
CREATED:20240126T190521Z
LAST-MODIFIED:20250407T203116Z
UID:10002105-1855648800-1855656000@foodinitiative.org
SUMMARY:FIGS Mobile Pantry-3rd Friday of the Month
DESCRIPTION:
URL:https://foodinitiative.org/event/figs-mobile-pantry-17/2028-10-20/
LOCATION:The Well Community Fellowship\, 2500 Claus Rd\, Modesto\, 95355\, United States
END:VEVENT
BEGIN:VEVENT
DTSTART;TZID=UTC:20281117T100000
DTEND;TZID=UTC:20281117T120000
DTSTAMP:20260424T232522
CREATED:20240126T190521Z
LAST-MODIFIED:20250407T203116Z
UID:10002106-1858068000-1858075200@foodinitiative.org
SUMMARY:FIGS Mobile Pantry-3rd Friday of the Month
DESCRIPTION:
URL:https://foodinitiative.org/event/figs-mobile-pantry-17/2028-11-17/
LOCATION:The Well Community Fellowship\, 2500 Claus Rd\, Modesto\, 95355\, United States
END:VEVENT
BEGIN:VEVENT
DTSTART;TZID=UTC:20281215T100000
DTEND;TZID=UTC:20281215T120000
DTSTAMP:20260424T232522
CREATED:20240126T190521Z
LAST-MODIFIED:20250407T203116Z
UID:10002107-1860487200-1860494400@foodinitiative.org
SUMMARY:FIGS Mobile Pantry-3rd Friday of the Month
DESCRIPTION:
URL:https://foodinitiative.org/event/figs-mobile-pantry-17/2028-12-15/
LOCATION:The Well Community Fellowship\, 2500 Claus Rd\, Modesto\, 95355\, United States
END:VEVENT
BEGIN:VEVENT
DTSTART;TZID=UTC:20290119T100000
DTEND;TZID=UTC:20290119T120000
DTSTAMP:20260424T232522
CREATED:20240126T190521Z
LAST-MODIFIED:20250407T203116Z
UID:10002108-1863511200-1863518400@foodinitiative.org
SUMMARY:FIGS Mobile Pantry-3rd Friday of the Month
DESCRIPTION:
URL:https://foodinitiative.org/event/figs-mobile-pantry-17/2029-01-19/
LOCATION:The Well Community Fellowship\, 2500 Claus Rd\, Modesto\, 95355\, United States
END:VEVENT
BEGIN:VEVENT
DTSTART;TZID=UTC:20290216T100000
DTEND;TZID=UTC:20290216T120000
DTSTAMP:20260424T232522
CREATED:20240126T190521Z
LAST-MODIFIED:20250407T203116Z
UID:10003304-1865930400-1865937600@foodinitiative.org
SUMMARY:FIGS Mobile Pantry-3rd Friday of the Month
DESCRIPTION:
URL:https://foodinitiative.org/event/figs-mobile-pantry-17/2029-02-16/
LOCATION:The Well Community Fellowship\, 2500 Claus Rd\, Modesto\, 95355\, United States
END:VEVENT
BEGIN:VEVENT
DTSTART;TZID=UTC:20290316T100000
DTEND;TZID=UTC:20290316T120000
DTSTAMP:20260424T232522
CREATED:20240126T190521Z
LAST-MODIFIED:20250407T203116Z
UID:10003305-1868349600-1868356800@foodinitiative.org
SUMMARY:FIGS Mobile Pantry-3rd Friday of the Month
DESCRIPTION:
URL:https://foodinitiative.org/event/figs-mobile-pantry-17/2029-03-16/
LOCATION:The Well Community Fellowship\, 2500 Claus Rd\, Modesto\, 95355\, United States
END:VEVENT
BEGIN:VEVENT
DTSTART;TZID=UTC:20290420T100000
DTEND;TZID=UTC:20290420T120000
DTSTAMP:20260424T232522
CREATED:20240126T190521Z
LAST-MODIFIED:20250407T203116Z
UID:10003306-1871373600-1871380800@foodinitiative.org
SUMMARY:FIGS Mobile Pantry-3rd Friday of the Month
DESCRIPTION:
URL:https://foodinitiative.org/event/figs-mobile-pantry-17/2029-04-20/
LOCATION:The Well Community Fellowship\, 2500 Claus Rd\, Modesto\, 95355\, United States
END:VEVENT
BEGIN:VEVENT
DTSTART;TZID=UTC:20290518T100000
DTEND;TZID=UTC:20290518T120000
DTSTAMP:20260424T232522
CREATED:20240126T190521Z
LAST-MODIFIED:20250407T203116Z
UID:10003307-1873792800-1873800000@foodinitiative.org
SUMMARY:FIGS Mobile Pantry-3rd Friday of the Month
DESCRIPTION:
URL:https://foodinitiative.org/event/figs-mobile-pantry-17/2029-05-18/
LOCATION:The Well Community Fellowship\, 2500 Claus Rd\, Modesto\, 95355\, United States
END:VEVENT
BEGIN:VEVENT
DTSTART;TZID=UTC:20290615T100000
DTEND;TZID=UTC:20290615T120000
DTSTAMP:20260424T232522
CREATED:20240126T190521Z
LAST-MODIFIED:20250407T203116Z
UID:10003308-1876212000-1876219200@foodinitiative.org
SUMMARY:FIGS Mobile Pantry-3rd Friday of the Month
DESCRIPTION:
URL:https://foodinitiative.org/event/figs-mobile-pantry-17/2029-06-15/
LOCATION:The Well Community Fellowship\, 2500 Claus Rd\, Modesto\, 95355\, United States
END:VEVENT
BEGIN:VEVENT
DTSTART;TZID=UTC:20290720T100000
DTEND;TZID=UTC:20290720T120000
DTSTAMP:20260424T232522
CREATED:20240126T190521Z
LAST-MODIFIED:20250407T203116Z
UID:10003309-1879236000-1879243200@foodinitiative.org
SUMMARY:FIGS Mobile Pantry-3rd Friday of the Month
DESCRIPTION:
URL:https://foodinitiative.org/event/figs-mobile-pantry-17/2029-07-20/
LOCATION:The Well Community Fellowship\, 2500 Claus Rd\, Modesto\, 95355\, United States
END:VEVENT
BEGIN:VEVENT
DTSTART;TZID=UTC:20290817T100000
DTEND;TZID=UTC:20290817T120000
DTSTAMP:20260424T232522
CREATED:20240126T190521Z
LAST-MODIFIED:20250407T203116Z
UID:10003310-1881655200-1881662400@foodinitiative.org
SUMMARY:FIGS Mobile Pantry-3rd Friday of the Month
DESCRIPTION:
URL:https://foodinitiative.org/event/figs-mobile-pantry-17/2029-08-17/
LOCATION:The Well Community Fellowship\, 2500 Claus Rd\, Modesto\, 95355\, United States
END:VEVENT
END:VCALENDAR