BEGIN:VCALENDAR
VERSION:2.0
PRODID:-//The Food Initiative - ECPv6.15.20//NONSGML v1.0//EN
CALSCALE:GREGORIAN
METHOD:PUBLISH
X-WR-CALNAME:The Food Initiative
X-ORIGINAL-URL:https://foodinitiative.org
X-WR-CALDESC:Events for The Food Initiative
REFRESH-INTERVAL;VALUE=DURATION:PT1H
X-Robots-Tag:noindex
X-PUBLISHED-TTL:PT1H
BEGIN:VTIMEZONE
TZID:UTC
BEGIN:STANDARD
TZOFFSETFROM:+0000
TZOFFSETTO:+0000
TZNAME:UTC
DTSTART:20280101T000000
END:STANDARD
END:VTIMEZONE
BEGIN:VEVENT
DTSTART;TZID=UTC:20290921T100000
DTEND;TZID=UTC:20290921T120000
DTSTAMP:20260425T034028
CREATED:20240126T190521Z
LAST-MODIFIED:20250407T203116Z
UID:10003311-1884679200-1884686400@foodinitiative.org
SUMMARY:FIGS Mobile Pantry-3rd Friday of the Month
DESCRIPTION:
URL:https://foodinitiative.org/event/figs-mobile-pantry-17/2029-09-21/
LOCATION:The Well Community Fellowship\, 2500 Claus Rd\, Modesto\, 95355\, United States
END:VEVENT
BEGIN:VEVENT
DTSTART;TZID=UTC:20291019T100000
DTEND;TZID=UTC:20291019T120000
DTSTAMP:20260425T034028
CREATED:20240126T190521Z
LAST-MODIFIED:20250407T203116Z
UID:10003312-1887098400-1887105600@foodinitiative.org
SUMMARY:FIGS Mobile Pantry-3rd Friday of the Month
DESCRIPTION:
URL:https://foodinitiative.org/event/figs-mobile-pantry-17/2029-10-19/
LOCATION:The Well Community Fellowship\, 2500 Claus Rd\, Modesto\, 95355\, United States
END:VEVENT
BEGIN:VEVENT
DTSTART;TZID=UTC:20291116T100000
DTEND;TZID=UTC:20291116T120000
DTSTAMP:20260425T034028
CREATED:20240126T190521Z
LAST-MODIFIED:20250407T203116Z
UID:10003313-1889517600-1889524800@foodinitiative.org
SUMMARY:FIGS Mobile Pantry-3rd Friday of the Month
DESCRIPTION:
URL:https://foodinitiative.org/event/figs-mobile-pantry-17/2029-11-16/
LOCATION:The Well Community Fellowship\, 2500 Claus Rd\, Modesto\, 95355\, United States
END:VEVENT
BEGIN:VEVENT
DTSTART;TZID=UTC:20291221T100000
DTEND;TZID=UTC:20291221T120000
DTSTAMP:20260425T034028
CREATED:20240126T190521Z
LAST-MODIFIED:20250407T203116Z
UID:10003314-1892541600-1892548800@foodinitiative.org
SUMMARY:FIGS Mobile Pantry-3rd Friday of the Month
DESCRIPTION:
URL:https://foodinitiative.org/event/figs-mobile-pantry-17/2029-12-21/
LOCATION:The Well Community Fellowship\, 2500 Claus Rd\, Modesto\, 95355\, United States
END:VEVENT
BEGIN:VEVENT
DTSTART;TZID=UTC:20300118T100000
DTEND;TZID=UTC:20300118T120000
DTSTAMP:20260425T034028
CREATED:20240126T190521Z
LAST-MODIFIED:20250407T203116Z
UID:10003315-1894960800-1894968000@foodinitiative.org
SUMMARY:FIGS Mobile Pantry-3rd Friday of the Month
DESCRIPTION:
URL:https://foodinitiative.org/event/figs-mobile-pantry-17/2030-01-18/
LOCATION:The Well Community Fellowship\, 2500 Claus Rd\, Modesto\, 95355\, United States
END:VEVENT
BEGIN:VEVENT
DTSTART;TZID=UTC:20300215T100000
DTEND;TZID=UTC:20300215T120000
DTSTAMP:20260425T034028
CREATED:20240126T190521Z
LAST-MODIFIED:20250407T203116Z
UID:10003316-1897380000-1897387200@foodinitiative.org
SUMMARY:FIGS Mobile Pantry-3rd Friday of the Month
DESCRIPTION:
URL:https://foodinitiative.org/event/figs-mobile-pantry-17/2030-02-15/
LOCATION:The Well Community Fellowship\, 2500 Claus Rd\, Modesto\, 95355\, United States
END:VEVENT
BEGIN:VEVENT
DTSTART;TZID=UTC:20300315T100000
DTEND;TZID=UTC:20300315T120000
DTSTAMP:20260425T034028
CREATED:20240126T190521Z
LAST-MODIFIED:20250407T203116Z
UID:10003317-1899799200-1899806400@foodinitiative.org
SUMMARY:FIGS Mobile Pantry-3rd Friday of the Month
DESCRIPTION:
URL:https://foodinitiative.org/event/figs-mobile-pantry-17/2030-03-15/
LOCATION:The Well Community Fellowship\, 2500 Claus Rd\, Modesto\, 95355\, United States
END:VEVENT
END:VCALENDAR