BEGIN:VCALENDAR
VERSION:2.0
PRODID:-//The Food Initiative - ECPv6.15.20//NONSGML v1.0//EN
CALSCALE:GREGORIAN
METHOD:PUBLISH
X-WR-CALNAME:The Food Initiative
X-ORIGINAL-URL:https://foodinitiative.org
X-WR-CALDESC:Events for The Food Initiative
REFRESH-INTERVAL;VALUE=DURATION:PT1H
X-Robots-Tag:noindex
X-PUBLISHED-TTL:PT1H
BEGIN:VTIMEZONE
TZID:UTC
BEGIN:STANDARD
TZOFFSETFROM:+0000
TZOFFSETTO:+0000
TZNAME:UTC
DTSTART:20280101T000000
END:STANDARD
END:VTIMEZONE
BEGIN:VEVENT
DTSTART;TZID=UTC:20290911T133000
DTEND;TZID=UTC:20290911T150000
DTSTAMP:20260425T030630
CREATED:20250811T193642Z
LAST-MODIFIED:20250811T194637Z
UID:10003790-1883827800-1883833200@foodinitiative.org
SUMMARY:FIGS Mobile Pantry-2nd Tuesday of the Month
DESCRIPTION:
URL:https://foodinitiative.org/event/figs-mobile-pantry-2nd-tuesday-of-the-month/2029-09-11/
LOCATION:Sierra Vista\, 906 Imperial Ave\, Modesto\, CA\, 95358\, United States
END:VEVENT
BEGIN:VEVENT
DTSTART;TZID=UTC:20291009T133000
DTEND;TZID=UTC:20291009T150000
DTSTAMP:20260425T030630
CREATED:20250811T193642Z
LAST-MODIFIED:20250811T194637Z
UID:10003791-1886247000-1886252400@foodinitiative.org
SUMMARY:FIGS Mobile Pantry-2nd Tuesday of the Month
DESCRIPTION:
URL:https://foodinitiative.org/event/figs-mobile-pantry-2nd-tuesday-of-the-month/2029-10-09/
LOCATION:Sierra Vista\, 906 Imperial Ave\, Modesto\, CA\, 95358\, United States
END:VEVENT
BEGIN:VEVENT
DTSTART;TZID=UTC:20291113T133000
DTEND;TZID=UTC:20291113T150000
DTSTAMP:20260425T030630
CREATED:20250811T193642Z
LAST-MODIFIED:20250811T194637Z
UID:10003792-1889271000-1889276400@foodinitiative.org
SUMMARY:FIGS Mobile Pantry-2nd Tuesday of the Month
DESCRIPTION:
URL:https://foodinitiative.org/event/figs-mobile-pantry-2nd-tuesday-of-the-month/2029-11-13/
LOCATION:Sierra Vista\, 906 Imperial Ave\, Modesto\, CA\, 95358\, United States
END:VEVENT
BEGIN:VEVENT
DTSTART;TZID=UTC:20291211T133000
DTEND;TZID=UTC:20291211T150000
DTSTAMP:20260425T030630
CREATED:20250811T193642Z
LAST-MODIFIED:20250811T194637Z
UID:10003793-1891690200-1891695600@foodinitiative.org
SUMMARY:FIGS Mobile Pantry-2nd Tuesday of the Month
DESCRIPTION:
URL:https://foodinitiative.org/event/figs-mobile-pantry-2nd-tuesday-of-the-month/2029-12-11/
LOCATION:Sierra Vista\, 906 Imperial Ave\, Modesto\, CA\, 95358\, United States
END:VEVENT
BEGIN:VEVENT
DTSTART;TZID=UTC:20300108T133000
DTEND;TZID=UTC:20300108T150000
DTSTAMP:20260425T030630
CREATED:20250811T193642Z
LAST-MODIFIED:20250811T194637Z
UID:10003794-1894109400-1894114800@foodinitiative.org
SUMMARY:FIGS Mobile Pantry-2nd Tuesday of the Month
DESCRIPTION:
URL:https://foodinitiative.org/event/figs-mobile-pantry-2nd-tuesday-of-the-month/2030-01-08/
LOCATION:Sierra Vista\, 906 Imperial Ave\, Modesto\, CA\, 95358\, United States
END:VEVENT
BEGIN:VEVENT
DTSTART;TZID=UTC:20300212T133000
DTEND;TZID=UTC:20300212T150000
DTSTAMP:20260425T030630
CREATED:20250811T193642Z
LAST-MODIFIED:20250811T194637Z
UID:10003795-1897133400-1897138800@foodinitiative.org
SUMMARY:FIGS Mobile Pantry-2nd Tuesday of the Month
DESCRIPTION:
URL:https://foodinitiative.org/event/figs-mobile-pantry-2nd-tuesday-of-the-month/2030-02-12/
LOCATION:Sierra Vista\, 906 Imperial Ave\, Modesto\, CA\, 95358\, United States
END:VEVENT
BEGIN:VEVENT
DTSTART;TZID=UTC:20300312T133000
DTEND;TZID=UTC:20300312T150000
DTSTAMP:20260425T030630
CREATED:20250811T193642Z
LAST-MODIFIED:20250811T194637Z
UID:10003796-1899552600-1899558000@foodinitiative.org
SUMMARY:FIGS Mobile Pantry-2nd Tuesday of the Month
DESCRIPTION:
URL:https://foodinitiative.org/event/figs-mobile-pantry-2nd-tuesday-of-the-month/2030-03-12/
LOCATION:Sierra Vista\, 906 Imperial Ave\, Modesto\, CA\, 95358\, United States
END:VEVENT
BEGIN:VEVENT
DTSTART;TZID=UTC:20300409T133000
DTEND;TZID=UTC:20300409T150000
DTSTAMP:20260425T030630
CREATED:20250811T193642Z
LAST-MODIFIED:20250811T194637Z
UID:10003797-1901971800-1901977200@foodinitiative.org
SUMMARY:FIGS Mobile Pantry-2nd Tuesday of the Month
DESCRIPTION:
URL:https://foodinitiative.org/event/figs-mobile-pantry-2nd-tuesday-of-the-month/2030-04-09/
LOCATION:Sierra Vista\, 906 Imperial Ave\, Modesto\, CA\, 95358\, United States
END:VEVENT
BEGIN:VEVENT
DTSTART;TZID=UTC:20300514T133000
DTEND;TZID=UTC:20300514T150000
DTSTAMP:20260425T030630
CREATED:20250811T193642Z
LAST-MODIFIED:20250811T194637Z
UID:10003798-1904995800-1905001200@foodinitiative.org
SUMMARY:FIGS Mobile Pantry-2nd Tuesday of the Month
DESCRIPTION:
URL:https://foodinitiative.org/event/figs-mobile-pantry-2nd-tuesday-of-the-month/2030-05-14/
LOCATION:Sierra Vista\, 906 Imperial Ave\, Modesto\, CA\, 95358\, United States
END:VEVENT
BEGIN:VEVENT
DTSTART;TZID=UTC:20300611T133000
DTEND;TZID=UTC:20300611T150000
DTSTAMP:20260425T030630
CREATED:20250811T193642Z
LAST-MODIFIED:20250811T194637Z
UID:10003799-1907415000-1907420400@foodinitiative.org
SUMMARY:FIGS Mobile Pantry-2nd Tuesday of the Month
DESCRIPTION:
URL:https://foodinitiative.org/event/figs-mobile-pantry-2nd-tuesday-of-the-month/2030-06-11/
LOCATION:Sierra Vista\, 906 Imperial Ave\, Modesto\, CA\, 95358\, United States
END:VEVENT
BEGIN:VEVENT
DTSTART;TZID=UTC:20300709T133000
DTEND;TZID=UTC:20300709T150000
DTSTAMP:20260425T030630
CREATED:20250811T193642Z
LAST-MODIFIED:20250811T194637Z
UID:10003800-1909834200-1909839600@foodinitiative.org
SUMMARY:FIGS Mobile Pantry-2nd Tuesday of the Month
DESCRIPTION:
URL:https://foodinitiative.org/event/figs-mobile-pantry-2nd-tuesday-of-the-month/2030-07-09/
LOCATION:Sierra Vista\, 906 Imperial Ave\, Modesto\, CA\, 95358\, United States
END:VEVENT
END:VCALENDAR