BEGIN:VCALENDAR
VERSION:2.0
PRODID:-//The Food Initiative - ECPv6.15.20//NONSGML v1.0//EN
CALSCALE:GREGORIAN
METHOD:PUBLISH
X-WR-CALNAME:The Food Initiative
X-ORIGINAL-URL:https://foodinitiative.org
X-WR-CALDESC:Events for The Food Initiative
REFRESH-INTERVAL;VALUE=DURATION:PT1H
X-Robots-Tag:noindex
X-PUBLISHED-TTL:PT1H
BEGIN:VTIMEZONE
TZID:UTC
BEGIN:STANDARD
TZOFFSETFROM:+0000
TZOFFSETTO:+0000
TZNAME:UTC
DTSTART:20280101T000000
END:STANDARD
END:VTIMEZONE
BEGIN:VEVENT
DTSTART;TZID=UTC:20290927T100000
DTEND;TZID=UTC:20290927T110000
DTSTAMP:20260425T032138
CREATED:20241216T195748Z
LAST-MODIFIED:20250407T193343Z
UID:10002956-1885197600-1885201200@foodinitiative.org
SUMMARY:FIGS Mobile Pantry-4th Thursday of the Month
DESCRIPTION:
URL:https://foodinitiative.org/event/figs-mobile-pantry-2-2-2/2029-09-27/
LOCATION:Orville Wright Elementary Child Develpment\, 805 Empire Ave\, Modesto\, California\, 95354
END:VEVENT
BEGIN:VEVENT
DTSTART;TZID=UTC:20291025T100000
DTEND;TZID=UTC:20291025T110000
DTSTAMP:20260425T032138
CREATED:20241216T195748Z
LAST-MODIFIED:20250407T193343Z
UID:10002957-1887616800-1887620400@foodinitiative.org
SUMMARY:FIGS Mobile Pantry-4th Thursday of the Month
DESCRIPTION:
URL:https://foodinitiative.org/event/figs-mobile-pantry-2-2-2/2029-10-25/
LOCATION:Orville Wright Elementary Child Develpment\, 805 Empire Ave\, Modesto\, California\, 95354
END:VEVENT
BEGIN:VEVENT
DTSTART;TZID=UTC:20291122T100000
DTEND;TZID=UTC:20291122T110000
DTSTAMP:20260425T032138
CREATED:20241216T195748Z
LAST-MODIFIED:20250407T193343Z
UID:10002958-1890036000-1890039600@foodinitiative.org
SUMMARY:FIGS Mobile Pantry-4th Thursday of the Month
DESCRIPTION:
URL:https://foodinitiative.org/event/figs-mobile-pantry-2-2-2/2029-11-22/
LOCATION:Orville Wright Elementary Child Develpment\, 805 Empire Ave\, Modesto\, California\, 95354
END:VEVENT
BEGIN:VEVENT
DTSTART;TZID=UTC:20291227T100000
DTEND;TZID=UTC:20291227T110000
DTSTAMP:20260425T032138
CREATED:20241216T195748Z
LAST-MODIFIED:20250407T193343Z
UID:10003217-1893060000-1893063600@foodinitiative.org
SUMMARY:FIGS Mobile Pantry-4th Thursday of the Month
DESCRIPTION:
URL:https://foodinitiative.org/event/figs-mobile-pantry-2-2-2/2029-12-27/
LOCATION:Orville Wright Elementary Child Develpment\, 805 Empire Ave\, Modesto\, California\, 95354
END:VEVENT
BEGIN:VEVENT
DTSTART;TZID=UTC:20300124T100000
DTEND;TZID=UTC:20300124T110000
DTSTAMP:20260425T032138
CREATED:20241216T195748Z
LAST-MODIFIED:20250407T193343Z
UID:10003218-1895479200-1895482800@foodinitiative.org
SUMMARY:FIGS Mobile Pantry-4th Thursday of the Month
DESCRIPTION:
URL:https://foodinitiative.org/event/figs-mobile-pantry-2-2-2/2030-01-24/
LOCATION:Orville Wright Elementary Child Develpment\, 805 Empire Ave\, Modesto\, California\, 95354
END:VEVENT
BEGIN:VEVENT
DTSTART;TZID=UTC:20300228T100000
DTEND;TZID=UTC:20300228T110000
DTSTAMP:20260425T032138
CREATED:20241216T195748Z
LAST-MODIFIED:20250407T193343Z
UID:10003219-1898503200-1898506800@foodinitiative.org
SUMMARY:FIGS Mobile Pantry-4th Thursday of the Month
DESCRIPTION:
URL:https://foodinitiative.org/event/figs-mobile-pantry-2-2-2/2030-02-28/
LOCATION:Orville Wright Elementary Child Develpment\, 805 Empire Ave\, Modesto\, California\, 95354
END:VEVENT
BEGIN:VEVENT
DTSTART;TZID=UTC:20300328T100000
DTEND;TZID=UTC:20300328T110000
DTSTAMP:20260425T032138
CREATED:20241216T195748Z
LAST-MODIFIED:20250407T193343Z
UID:10003220-1900922400-1900926000@foodinitiative.org
SUMMARY:FIGS Mobile Pantry-4th Thursday of the Month
DESCRIPTION:
URL:https://foodinitiative.org/event/figs-mobile-pantry-2-2-2/2030-03-28/
LOCATION:Orville Wright Elementary Child Develpment\, 805 Empire Ave\, Modesto\, California\, 95354
END:VEVENT
END:VCALENDAR