BEGIN:VCALENDAR
VERSION:2.0
PRODID:-//The Food Initiative - ECPv6.15.20//NONSGML v1.0//EN
CALSCALE:GREGORIAN
METHOD:PUBLISH
X-WR-CALNAME:The Food Initiative
X-ORIGINAL-URL:https://foodinitiative.org
X-WR-CALDESC:Events for The Food Initiative
REFRESH-INTERVAL;VALUE=DURATION:PT1H
X-Robots-Tag:noindex
X-PUBLISHED-TTL:PT1H
BEGIN:VTIMEZONE
TZID:UTC
BEGIN:STANDARD
TZOFFSETFROM:+0000
TZOFFSETTO:+0000
TZNAME:UTC
DTSTART:20240101T000000
END:STANDARD
END:VTIMEZONE
BEGIN:VEVENT
DTSTART;TZID=UTC:20250905T093000
DTEND;TZID=UTC:20250905T110000
DTSTAMP:20260426T040218
CREATED:20240105T235104Z
LAST-MODIFIED:20260423T153221Z
UID:10003963-1757064600-1757070000@foodinitiative.org
SUMMARY:FIGS Mobile Pantry-1st Friday of the Month
DESCRIPTION:
URL:https://foodinitiative.org/event/figs-mobile-pantry-13/2025-09-05/
LOCATION:Modesto Gospel Mission\, 1400 Yosemite Blvd\, Modesto\, CA\, 95354\, United States
END:VEVENT
BEGIN:VEVENT
DTSTART;TZID=UTC:20250911T093000
DTEND;TZID=UTC:20250911T110000
DTSTAMP:20260426T040218
CREATED:20250407T221317Z
LAST-MODIFIED:20260423T153030Z
UID:10003816-1757583000-1757588400@foodinitiative.org
SUMMARY:FIGS Mobile Pantry-2nd Thursday of the Month
DESCRIPTION:
URL:https://foodinitiative.org/event/figs-mobile-pantry-2nd-thursday-of-the-month/2025-09-11/
LOCATION:Modesto Gospel Mission\, 1400 Yosemite Blvd\, Modesto\, CA\, 95354\, United States
END:VEVENT
BEGIN:VEVENT
DTSTART;TZID=UTC:20250923T093000
DTEND;TZID=UTC:20250923T110000
DTSTAMP:20260426T040218
CREATED:20240105T231908Z
LAST-MODIFIED:20260423T153319Z
UID:10004081-1758619800-1758625200@foodinitiative.org
SUMMARY:FIGS Mobile Pantry-4th Tuesday of the Month
DESCRIPTION:
URL:https://foodinitiative.org/event/figs-mobile-pantry-5/2025-09-23/
LOCATION:Modesto Gospel Mission\, 1400 Yosemite Blvd\, Modesto\, CA\, 95354\, United States
END:VEVENT
BEGIN:VEVENT
DTSTART;TZID=UTC:20250930T093000
DTEND;TZID=UTC:20250930T110000
DTSTAMP:20260426T040218
CREATED:20240105T232034Z
LAST-MODIFIED:20260423T153248Z
UID:10004038-1759224600-1759230000@foodinitiative.org
SUMMARY:FIGS Mobile Pantry-5th Tuesday of the Month
DESCRIPTION:
URL:https://foodinitiative.org/event/figs-mobile-pantry-6/2025-09-30/
LOCATION:Modesto Gospel Mission\, 1400 Yosemite Blvd\, Modesto\, CA\, 95354\, United States
END:VEVENT
END:VCALENDAR