BEGIN:VCALENDAR
VERSION:2.0
PRODID:-//The Food Initiative - ECPv6.15.20//NONSGML v1.0//EN
CALSCALE:GREGORIAN
METHOD:PUBLISH
X-WR-CALNAME:The Food Initiative
X-ORIGINAL-URL:https://foodinitiative.org
X-WR-CALDESC:Events for The Food Initiative
REFRESH-INTERVAL;VALUE=DURATION:PT1H
X-Robots-Tag:noindex
X-PUBLISHED-TTL:PT1H
BEGIN:VTIMEZONE
TZID:UTC
BEGIN:STANDARD
TZOFFSETFROM:+0000
TZOFFSETTO:+0000
TZNAME:UTC
DTSTART:20260101T000000
END:STANDARD
END:VTIMEZONE
BEGIN:VEVENT
DTSTART;TZID=UTC:20270304T093000
DTEND;TZID=UTC:20270304T110000
DTSTAMP:20260424T234737
CREATED:20250407T195914Z
LAST-MODIFIED:20250407T195914Z
UID:10003254-1804152600-1804158000@foodinitiative.org
SUMMARY:FIGS Mobile Pantry-1st Thursday of the Month
DESCRIPTION:
URL:https://foodinitiative.org/event/figs-mobile-pantry-22-2-2/2027-03-04/
LOCATION:Harriette Kirschen Elementary\, 1900 Kirschen Dr\, Modesto\, California\, 95351
END:VEVENT
BEGIN:VEVENT
DTSTART;TZID=UTC:20270401T093000
DTEND;TZID=UTC:20270401T110000
DTSTAMP:20260424T234737
CREATED:20250407T195914Z
LAST-MODIFIED:20250407T195914Z
UID:10002498-1806571800-1806577200@foodinitiative.org
SUMMARY:FIGS Mobile Pantry-1st Thursday of the Month
DESCRIPTION:
URL:https://foodinitiative.org/event/figs-mobile-pantry-22-2-2/2027-04-01/
LOCATION:Harriette Kirschen Elementary\, 1900 Kirschen Dr\, Modesto\, California\, 95351
END:VEVENT
BEGIN:VEVENT
DTSTART;TZID=UTC:20270506T093000
DTEND;TZID=UTC:20270506T110000
DTSTAMP:20260424T234737
CREATED:20250407T195914Z
LAST-MODIFIED:20250407T195914Z
UID:10003255-1809595800-1809601200@foodinitiative.org
SUMMARY:FIGS Mobile Pantry-1st Thursday of the Month
DESCRIPTION:
URL:https://foodinitiative.org/event/figs-mobile-pantry-22-2-2/2027-05-06/
LOCATION:Harriette Kirschen Elementary\, 1900 Kirschen Dr\, Modesto\, California\, 95351
END:VEVENT
BEGIN:VEVENT
DTSTART;TZID=UTC:20270603T093000
DTEND;TZID=UTC:20270603T110000
DTSTAMP:20260424T234737
CREATED:20250407T195914Z
LAST-MODIFIED:20250407T195914Z
UID:10002500-1812015000-1812020400@foodinitiative.org
SUMMARY:FIGS Mobile Pantry-1st Thursday of the Month
DESCRIPTION:
URL:https://foodinitiative.org/event/figs-mobile-pantry-22-2-2/2027-06-03/
LOCATION:Harriette Kirschen Elementary\, 1900 Kirschen Dr\, Modesto\, California\, 95351
END:VEVENT
BEGIN:VEVENT
DTSTART;TZID=UTC:20270701T093000
DTEND;TZID=UTC:20270701T110000
DTSTAMP:20260424T234737
CREATED:20250407T195914Z
LAST-MODIFIED:20250407T195914Z
UID:10003256-1814434200-1814439600@foodinitiative.org
SUMMARY:FIGS Mobile Pantry-1st Thursday of the Month
DESCRIPTION:
URL:https://foodinitiative.org/event/figs-mobile-pantry-22-2-2/2027-07-01/
LOCATION:Harriette Kirschen Elementary\, 1900 Kirschen Dr\, Modesto\, California\, 95351
END:VEVENT
BEGIN:VEVENT
DTSTART;TZID=UTC:20270805T093000
DTEND;TZID=UTC:20270805T110000
DTSTAMP:20260424T234737
CREATED:20250407T195914Z
LAST-MODIFIED:20250407T195914Z
UID:10002502-1817458200-1817463600@foodinitiative.org
SUMMARY:FIGS Mobile Pantry-1st Thursday of the Month
DESCRIPTION:
URL:https://foodinitiative.org/event/figs-mobile-pantry-22-2-2/2027-08-05/
LOCATION:Harriette Kirschen Elementary\, 1900 Kirschen Dr\, Modesto\, California\, 95351
END:VEVENT
BEGIN:VEVENT
DTSTART;TZID=UTC:20270902T093000
DTEND;TZID=UTC:20270902T110000
DTSTAMP:20260424T234737
CREATED:20250407T195914Z
LAST-MODIFIED:20250407T195914Z
UID:10003257-1819877400-1819882800@foodinitiative.org
SUMMARY:FIGS Mobile Pantry-1st Thursday of the Month
DESCRIPTION:
URL:https://foodinitiative.org/event/figs-mobile-pantry-22-2-2/2027-09-02/
LOCATION:Harriette Kirschen Elementary\, 1900 Kirschen Dr\, Modesto\, California\, 95351
END:VEVENT
BEGIN:VEVENT
DTSTART;TZID=UTC:20271007T093000
DTEND;TZID=UTC:20271007T110000
DTSTAMP:20260424T234737
CREATED:20250407T195914Z
LAST-MODIFIED:20250407T195914Z
UID:10002504-1822901400-1822906800@foodinitiative.org
SUMMARY:FIGS Mobile Pantry-1st Thursday of the Month
DESCRIPTION:
URL:https://foodinitiative.org/event/figs-mobile-pantry-22-2-2/2027-10-07/
LOCATION:Harriette Kirschen Elementary\, 1900 Kirschen Dr\, Modesto\, California\, 95351
END:VEVENT
BEGIN:VEVENT
DTSTART;TZID=UTC:20271104T093000
DTEND;TZID=UTC:20271104T110000
DTSTAMP:20260424T234737
CREATED:20250407T195914Z
LAST-MODIFIED:20250407T195914Z
UID:10003258-1825320600-1825326000@foodinitiative.org
SUMMARY:FIGS Mobile Pantry-1st Thursday of the Month
DESCRIPTION:
URL:https://foodinitiative.org/event/figs-mobile-pantry-22-2-2/2027-11-04/
LOCATION:Harriette Kirschen Elementary\, 1900 Kirschen Dr\, Modesto\, California\, 95351
END:VEVENT
BEGIN:VEVENT
DTSTART;TZID=UTC:20271202T093000
DTEND;TZID=UTC:20271202T110000
DTSTAMP:20260424T234737
CREATED:20250407T195914Z
LAST-MODIFIED:20250407T195914Z
UID:10002506-1827739800-1827745200@foodinitiative.org
SUMMARY:FIGS Mobile Pantry-1st Thursday of the Month
DESCRIPTION:
URL:https://foodinitiative.org/event/figs-mobile-pantry-22-2-2/2027-12-02/
LOCATION:Harriette Kirschen Elementary\, 1900 Kirschen Dr\, Modesto\, California\, 95351
END:VEVENT
BEGIN:VEVENT
DTSTART;TZID=UTC:20280106T093000
DTEND;TZID=UTC:20280106T110000
DTSTAMP:20260424T234737
CREATED:20250407T195914Z
LAST-MODIFIED:20250407T195914Z
UID:10003259-1830763800-1830769200@foodinitiative.org
SUMMARY:FIGS Mobile Pantry-1st Thursday of the Month
DESCRIPTION:
URL:https://foodinitiative.org/event/figs-mobile-pantry-22-2-2/2028-01-06/
LOCATION:Harriette Kirschen Elementary\, 1900 Kirschen Dr\, Modesto\, California\, 95351
END:VEVENT
BEGIN:VEVENT
DTSTART;TZID=UTC:20280203T093000
DTEND;TZID=UTC:20280203T110000
DTSTAMP:20260424T234737
CREATED:20250407T195914Z
LAST-MODIFIED:20250407T195914Z
UID:10002508-1833183000-1833188400@foodinitiative.org
SUMMARY:FIGS Mobile Pantry-1st Thursday of the Month
DESCRIPTION:
URL:https://foodinitiative.org/event/figs-mobile-pantry-22-2-2/2028-02-03/
LOCATION:Harriette Kirschen Elementary\, 1900 Kirschen Dr\, Modesto\, California\, 95351
END:VEVENT
BEGIN:VEVENT
DTSTART;TZID=UTC:20280302T093000
DTEND;TZID=UTC:20280302T110000
DTSTAMP:20260424T234737
CREATED:20250407T195914Z
LAST-MODIFIED:20250407T195914Z
UID:10003260-1835602200-1835607600@foodinitiative.org
SUMMARY:FIGS Mobile Pantry-1st Thursday of the Month
DESCRIPTION:
URL:https://foodinitiative.org/event/figs-mobile-pantry-22-2-2/2028-03-02/
LOCATION:Harriette Kirschen Elementary\, 1900 Kirschen Dr\, Modesto\, California\, 95351
END:VEVENT
BEGIN:VEVENT
DTSTART;TZID=UTC:20280406T093000
DTEND;TZID=UTC:20280406T110000
DTSTAMP:20260424T234737
CREATED:20250407T195914Z
LAST-MODIFIED:20250407T195914Z
UID:10002510-1838626200-1838631600@foodinitiative.org
SUMMARY:FIGS Mobile Pantry-1st Thursday of the Month
DESCRIPTION:
URL:https://foodinitiative.org/event/figs-mobile-pantry-22-2-2/2028-04-06/
LOCATION:Harriette Kirschen Elementary\, 1900 Kirschen Dr\, Modesto\, California\, 95351
END:VEVENT
BEGIN:VEVENT
DTSTART;TZID=UTC:20280504T093000
DTEND;TZID=UTC:20280504T110000
DTSTAMP:20260424T234737
CREATED:20250407T195914Z
LAST-MODIFIED:20250407T195914Z
UID:10003261-1841045400-1841050800@foodinitiative.org
SUMMARY:FIGS Mobile Pantry-1st Thursday of the Month
DESCRIPTION:
URL:https://foodinitiative.org/event/figs-mobile-pantry-22-2-2/2028-05-04/
LOCATION:Harriette Kirschen Elementary\, 1900 Kirschen Dr\, Modesto\, California\, 95351
END:VEVENT
BEGIN:VEVENT
DTSTART;TZID=UTC:20280601T093000
DTEND;TZID=UTC:20280601T110000
DTSTAMP:20260424T234737
CREATED:20250407T195914Z
LAST-MODIFIED:20250407T195914Z
UID:10002512-1843464600-1843470000@foodinitiative.org
SUMMARY:FIGS Mobile Pantry-1st Thursday of the Month
DESCRIPTION:
URL:https://foodinitiative.org/event/figs-mobile-pantry-22-2-2/2028-06-01/
LOCATION:Harriette Kirschen Elementary\, 1900 Kirschen Dr\, Modesto\, California\, 95351
END:VEVENT
BEGIN:VEVENT
DTSTART;TZID=UTC:20280706T093000
DTEND;TZID=UTC:20280706T110000
DTSTAMP:20260424T234737
CREATED:20250407T195914Z
LAST-MODIFIED:20250407T195914Z
UID:10003262-1846488600-1846494000@foodinitiative.org
SUMMARY:FIGS Mobile Pantry-1st Thursday of the Month
DESCRIPTION:
URL:https://foodinitiative.org/event/figs-mobile-pantry-22-2-2/2028-07-06/
LOCATION:Harriette Kirschen Elementary\, 1900 Kirschen Dr\, Modesto\, California\, 95351
END:VEVENT
BEGIN:VEVENT
DTSTART;TZID=UTC:20280803T093000
DTEND;TZID=UTC:20280803T110000
DTSTAMP:20260424T234737
CREATED:20250407T195914Z
LAST-MODIFIED:20250407T195914Z
UID:10002514-1848907800-1848913200@foodinitiative.org
SUMMARY:FIGS Mobile Pantry-1st Thursday of the Month
DESCRIPTION:
URL:https://foodinitiative.org/event/figs-mobile-pantry-22-2-2/2028-08-03/
LOCATION:Harriette Kirschen Elementary\, 1900 Kirschen Dr\, Modesto\, California\, 95351
END:VEVENT
BEGIN:VEVENT
DTSTART;TZID=UTC:20280907T093000
DTEND;TZID=UTC:20280907T110000
DTSTAMP:20260424T234737
CREATED:20250407T195914Z
LAST-MODIFIED:20250407T195914Z
UID:10003263-1851931800-1851937200@foodinitiative.org
SUMMARY:FIGS Mobile Pantry-1st Thursday of the Month
DESCRIPTION:
URL:https://foodinitiative.org/event/figs-mobile-pantry-22-2-2/2028-09-07/
LOCATION:Harriette Kirschen Elementary\, 1900 Kirschen Dr\, Modesto\, California\, 95351
END:VEVENT
BEGIN:VEVENT
DTSTART;TZID=UTC:20281005T093000
DTEND;TZID=UTC:20281005T110000
DTSTAMP:20260424T234737
CREATED:20250407T195914Z
LAST-MODIFIED:20250407T195914Z
UID:10002516-1854351000-1854356400@foodinitiative.org
SUMMARY:FIGS Mobile Pantry-1st Thursday of the Month
DESCRIPTION:
URL:https://foodinitiative.org/event/figs-mobile-pantry-22-2-2/2028-10-05/
LOCATION:Harriette Kirschen Elementary\, 1900 Kirschen Dr\, Modesto\, California\, 95351
END:VEVENT
BEGIN:VEVENT
DTSTART;TZID=UTC:20281102T093000
DTEND;TZID=UTC:20281102T110000
DTSTAMP:20260424T234737
CREATED:20250407T195914Z
LAST-MODIFIED:20250407T195914Z
UID:10003264-1856770200-1856775600@foodinitiative.org
SUMMARY:FIGS Mobile Pantry-1st Thursday of the Month
DESCRIPTION:
URL:https://foodinitiative.org/event/figs-mobile-pantry-22-2-2/2028-11-02/
LOCATION:Harriette Kirschen Elementary\, 1900 Kirschen Dr\, Modesto\, California\, 95351
END:VEVENT
BEGIN:VEVENT
DTSTART;TZID=UTC:20281207T093000
DTEND;TZID=UTC:20281207T110000
DTSTAMP:20260424T234737
CREATED:20250407T195914Z
LAST-MODIFIED:20250407T195914Z
UID:10002518-1859794200-1859799600@foodinitiative.org
SUMMARY:FIGS Mobile Pantry-1st Thursday of the Month
DESCRIPTION:
URL:https://foodinitiative.org/event/figs-mobile-pantry-22-2-2/2028-12-07/
LOCATION:Harriette Kirschen Elementary\, 1900 Kirschen Dr\, Modesto\, California\, 95351
END:VEVENT
BEGIN:VEVENT
DTSTART;TZID=UTC:20290104T093000
DTEND;TZID=UTC:20290104T110000
DTSTAMP:20260424T234737
CREATED:20250407T195914Z
LAST-MODIFIED:20250407T195914Z
UID:10003265-1862213400-1862218800@foodinitiative.org
SUMMARY:FIGS Mobile Pantry-1st Thursday of the Month
DESCRIPTION:
URL:https://foodinitiative.org/event/figs-mobile-pantry-22-2-2/2029-01-04/
LOCATION:Harriette Kirschen Elementary\, 1900 Kirschen Dr\, Modesto\, California\, 95351
END:VEVENT
BEGIN:VEVENT
DTSTART;TZID=UTC:20290201T093000
DTEND;TZID=UTC:20290201T110000
DTSTAMP:20260424T234737
CREATED:20250407T195914Z
LAST-MODIFIED:20250407T195914Z
UID:10002520-1864632600-1864638000@foodinitiative.org
SUMMARY:FIGS Mobile Pantry-1st Thursday of the Month
DESCRIPTION:
URL:https://foodinitiative.org/event/figs-mobile-pantry-22-2-2/2029-02-01/
LOCATION:Harriette Kirschen Elementary\, 1900 Kirschen Dr\, Modesto\, California\, 95351
END:VEVENT
BEGIN:VEVENT
DTSTART;TZID=UTC:20290301T093000
DTEND;TZID=UTC:20290301T110000
DTSTAMP:20260424T234737
CREATED:20250407T195914Z
LAST-MODIFIED:20250407T195914Z
UID:10003266-1867051800-1867057200@foodinitiative.org
SUMMARY:FIGS Mobile Pantry-1st Thursday of the Month
DESCRIPTION:
URL:https://foodinitiative.org/event/figs-mobile-pantry-22-2-2/2029-03-01/
LOCATION:Harriette Kirschen Elementary\, 1900 Kirschen Dr\, Modesto\, California\, 95351
END:VEVENT
BEGIN:VEVENT
DTSTART;TZID=UTC:20290405T093000
DTEND;TZID=UTC:20290405T110000
DTSTAMP:20260424T234737
CREATED:20250407T195914Z
LAST-MODIFIED:20250407T195914Z
UID:10002932-1870075800-1870081200@foodinitiative.org
SUMMARY:FIGS Mobile Pantry-1st Thursday of the Month
DESCRIPTION:
URL:https://foodinitiative.org/event/figs-mobile-pantry-22-2-2/2029-04-05/
LOCATION:Harriette Kirschen Elementary\, 1900 Kirschen Dr\, Modesto\, California\, 95351
END:VEVENT
BEGIN:VEVENT
DTSTART;TZID=UTC:20290503T093000
DTEND;TZID=UTC:20290503T110000
DTSTAMP:20260424T234737
CREATED:20250407T195914Z
LAST-MODIFIED:20250407T195914Z
UID:10003267-1872495000-1872500400@foodinitiative.org
SUMMARY:FIGS Mobile Pantry-1st Thursday of the Month
DESCRIPTION:
URL:https://foodinitiative.org/event/figs-mobile-pantry-22-2-2/2029-05-03/
LOCATION:Harriette Kirschen Elementary\, 1900 Kirschen Dr\, Modesto\, California\, 95351
END:VEVENT
BEGIN:VEVENT
DTSTART;TZID=UTC:20290607T093000
DTEND;TZID=UTC:20290607T110000
DTSTAMP:20260424T234737
CREATED:20250407T195914Z
LAST-MODIFIED:20250407T195914Z
UID:10002933-1875519000-1875524400@foodinitiative.org
SUMMARY:FIGS Mobile Pantry-1st Thursday of the Month
DESCRIPTION:
URL:https://foodinitiative.org/event/figs-mobile-pantry-22-2-2/2029-06-07/
LOCATION:Harriette Kirschen Elementary\, 1900 Kirschen Dr\, Modesto\, California\, 95351
END:VEVENT
BEGIN:VEVENT
DTSTART;TZID=UTC:20290705T093000
DTEND;TZID=UTC:20290705T110000
DTSTAMP:20260424T234737
CREATED:20250407T195914Z
LAST-MODIFIED:20250407T195914Z
UID:10003268-1877938200-1877943600@foodinitiative.org
SUMMARY:FIGS Mobile Pantry-1st Thursday of the Month
DESCRIPTION:
URL:https://foodinitiative.org/event/figs-mobile-pantry-22-2-2/2029-07-05/
LOCATION:Harriette Kirschen Elementary\, 1900 Kirschen Dr\, Modesto\, California\, 95351
END:VEVENT
BEGIN:VEVENT
DTSTART;TZID=UTC:20290802T093000
DTEND;TZID=UTC:20290802T110000
DTSTAMP:20260424T234737
CREATED:20250407T195914Z
LAST-MODIFIED:20250407T195914Z
UID:10002934-1880357400-1880362800@foodinitiative.org
SUMMARY:FIGS Mobile Pantry-1st Thursday of the Month
DESCRIPTION:
URL:https://foodinitiative.org/event/figs-mobile-pantry-22-2-2/2029-08-02/
LOCATION:Harriette Kirschen Elementary\, 1900 Kirschen Dr\, Modesto\, California\, 95351
END:VEVENT
END:VCALENDAR