BEGIN:VCALENDAR
VERSION:2.0
PRODID:-//The Food Initiative - ECPv6.15.20//NONSGML v1.0//EN
CALSCALE:GREGORIAN
METHOD:PUBLISH
X-ORIGINAL-URL:https://foodinitiative.org
X-WR-CALDESC:Events for The Food Initiative
REFRESH-INTERVAL;VALUE=DURATION:PT1H
X-Robots-Tag:noindex
X-PUBLISHED-TTL:PT1H
BEGIN:VTIMEZONE
TZID:UTC
BEGIN:STANDARD
TZOFFSETFROM:+0000
TZOFFSETTO:+0000
TZNAME:UTC
DTSTART:20270101T000000
END:STANDARD
END:VTIMEZONE
BEGIN:VEVENT
DTSTART;TZID=UTC:20280606T160000
DTEND;TZID=UTC:20280606T170000
DTSTAMP:20260425T032306
CREATED:20240105T222051Z
LAST-MODIFIED:20250407T205111Z
UID:10000870-1843920000-1843923600@foodinitiative.org
SUMMARY:FIGS Mobile Pantry-1st Tuesday of the Month
DESCRIPTION:
URL:https://foodinitiative.org/event/figs-mobile-pantry-10/2028-06-06/
LOCATION:Johansen High School\, 641 Norseman Dr\, Modesto\, CA\, 95357\, United States
END:VEVENT
BEGIN:VEVENT
DTSTART;TZID=UTC:20280620T093000
DTEND;TZID=UTC:20280620T103000
DTSTAMP:20260425T032306
CREATED:20240105T222218Z
LAST-MODIFIED:20260423T153348Z
UID:10004201-1845106200-1845109800@foodinitiative.org
SUMMARY:FIGS Mobile Pantry-3rd Tuesday of the Month
DESCRIPTION:
URL:https://foodinitiative.org/event/figs-mobile-pantry-11/2028-06-20/
LOCATION:Johansen High School\, 641 Norseman Dr\, Modesto\, CA\, 95357\, United States
END:VEVENT
BEGIN:VEVENT
DTSTART;TZID=UTC:20280704T160000
DTEND;TZID=UTC:20280704T170000
DTSTAMP:20260425T032306
CREATED:20240105T222051Z
LAST-MODIFIED:20250407T205111Z
UID:10000871-1846339200-1846342800@foodinitiative.org
SUMMARY:FIGS Mobile Pantry-1st Tuesday of the Month
DESCRIPTION:
URL:https://foodinitiative.org/event/figs-mobile-pantry-10/2028-07-04/
LOCATION:Johansen High School\, 641 Norseman Dr\, Modesto\, CA\, 95357\, United States
END:VEVENT
BEGIN:VEVENT
DTSTART;TZID=UTC:20280718T093000
DTEND;TZID=UTC:20280718T103000
DTSTAMP:20260425T032306
CREATED:20240105T222218Z
LAST-MODIFIED:20260423T153348Z
UID:10004202-1847525400-1847529000@foodinitiative.org
SUMMARY:FIGS Mobile Pantry-3rd Tuesday of the Month
DESCRIPTION:
URL:https://foodinitiative.org/event/figs-mobile-pantry-11/2028-07-18/
LOCATION:Johansen High School\, 641 Norseman Dr\, Modesto\, CA\, 95357\, United States
END:VEVENT
BEGIN:VEVENT
DTSTART;TZID=UTC:20280801T160000
DTEND;TZID=UTC:20280801T170000
DTSTAMP:20260425T032306
CREATED:20240105T222051Z
LAST-MODIFIED:20250407T205111Z
UID:10000872-1848758400-1848762000@foodinitiative.org
SUMMARY:FIGS Mobile Pantry-1st Tuesday of the Month
DESCRIPTION:
URL:https://foodinitiative.org/event/figs-mobile-pantry-10/2028-08-01/
LOCATION:Johansen High School\, 641 Norseman Dr\, Modesto\, CA\, 95357\, United States
END:VEVENT
BEGIN:VEVENT
DTSTART;TZID=UTC:20280815T093000
DTEND;TZID=UTC:20280815T103000
DTSTAMP:20260425T032306
CREATED:20240105T222218Z
LAST-MODIFIED:20260423T153348Z
UID:10004203-1849944600-1849948200@foodinitiative.org
SUMMARY:FIGS Mobile Pantry-3rd Tuesday of the Month
DESCRIPTION:
URL:https://foodinitiative.org/event/figs-mobile-pantry-11/2028-08-15/
LOCATION:Johansen High School\, 641 Norseman Dr\, Modesto\, CA\, 95357\, United States
END:VEVENT
BEGIN:VEVENT
DTSTART;TZID=UTC:20280905T160000
DTEND;TZID=UTC:20280905T170000
DTSTAMP:20260425T032306
CREATED:20240105T222051Z
LAST-MODIFIED:20250407T205111Z
UID:10000873-1851782400-1851786000@foodinitiative.org
SUMMARY:FIGS Mobile Pantry-1st Tuesday of the Month
DESCRIPTION:
URL:https://foodinitiative.org/event/figs-mobile-pantry-10/2028-09-05/
LOCATION:Johansen High School\, 641 Norseman Dr\, Modesto\, CA\, 95357\, United States
END:VEVENT
BEGIN:VEVENT
DTSTART;TZID=UTC:20280919T093000
DTEND;TZID=UTC:20280919T103000
DTSTAMP:20260425T032306
CREATED:20240105T222218Z
LAST-MODIFIED:20260423T153348Z
UID:10004204-1852968600-1852972200@foodinitiative.org
SUMMARY:FIGS Mobile Pantry-3rd Tuesday of the Month
DESCRIPTION:
URL:https://foodinitiative.org/event/figs-mobile-pantry-11/2028-09-19/
LOCATION:Johansen High School\, 641 Norseman Dr\, Modesto\, CA\, 95357\, United States
END:VEVENT
BEGIN:VEVENT
DTSTART;TZID=UTC:20281003T160000
DTEND;TZID=UTC:20281003T170000
DTSTAMP:20260425T032306
CREATED:20240105T222051Z
LAST-MODIFIED:20250407T205111Z
UID:10000874-1854201600-1854205200@foodinitiative.org
SUMMARY:FIGS Mobile Pantry-1st Tuesday of the Month
DESCRIPTION:
URL:https://foodinitiative.org/event/figs-mobile-pantry-10/2028-10-03/
LOCATION:Johansen High School\, 641 Norseman Dr\, Modesto\, CA\, 95357\, United States
END:VEVENT
BEGIN:VEVENT
DTSTART;TZID=UTC:20281017T093000
DTEND;TZID=UTC:20281017T103000
DTSTAMP:20260425T032306
CREATED:20240105T222218Z
LAST-MODIFIED:20260423T153348Z
UID:10004205-1855387800-1855391400@foodinitiative.org
SUMMARY:FIGS Mobile Pantry-3rd Tuesday of the Month
DESCRIPTION:
URL:https://foodinitiative.org/event/figs-mobile-pantry-11/2028-10-17/
LOCATION:Johansen High School\, 641 Norseman Dr\, Modesto\, CA\, 95357\, United States
END:VEVENT
BEGIN:VEVENT
DTSTART;TZID=UTC:20281107T160000
DTEND;TZID=UTC:20281107T170000
DTSTAMP:20260425T032306
CREATED:20240105T222051Z
LAST-MODIFIED:20250407T205111Z
UID:10000875-1857225600-1857229200@foodinitiative.org
SUMMARY:FIGS Mobile Pantry-1st Tuesday of the Month
DESCRIPTION:
URL:https://foodinitiative.org/event/figs-mobile-pantry-10/2028-11-07/
LOCATION:Johansen High School\, 641 Norseman Dr\, Modesto\, CA\, 95357\, United States
END:VEVENT
BEGIN:VEVENT
DTSTART;TZID=UTC:20281121T093000
DTEND;TZID=UTC:20281121T103000
DTSTAMP:20260425T032306
CREATED:20240105T222218Z
LAST-MODIFIED:20260423T153348Z
UID:10004206-1858411800-1858415400@foodinitiative.org
SUMMARY:FIGS Mobile Pantry-3rd Tuesday of the Month
DESCRIPTION:
URL:https://foodinitiative.org/event/figs-mobile-pantry-11/2028-11-21/
LOCATION:Johansen High School\, 641 Norseman Dr\, Modesto\, CA\, 95357\, United States
END:VEVENT
BEGIN:VEVENT
DTSTART;TZID=UTC:20281205T160000
DTEND;TZID=UTC:20281205T170000
DTSTAMP:20260425T032306
CREATED:20240105T222051Z
LAST-MODIFIED:20250407T205111Z
UID:10000876-1859644800-1859648400@foodinitiative.org
SUMMARY:FIGS Mobile Pantry-1st Tuesday of the Month
DESCRIPTION:
URL:https://foodinitiative.org/event/figs-mobile-pantry-10/2028-12-05/
LOCATION:Johansen High School\, 641 Norseman Dr\, Modesto\, CA\, 95357\, United States
END:VEVENT
BEGIN:VEVENT
DTSTART;TZID=UTC:20281219T093000
DTEND;TZID=UTC:20281219T103000
DTSTAMP:20260425T032306
CREATED:20240105T222218Z
LAST-MODIFIED:20260423T153348Z
UID:10004207-1860831000-1860834600@foodinitiative.org
SUMMARY:FIGS Mobile Pantry-3rd Tuesday of the Month
DESCRIPTION:
URL:https://foodinitiative.org/event/figs-mobile-pantry-11/2028-12-19/
LOCATION:Johansen High School\, 641 Norseman Dr\, Modesto\, CA\, 95357\, United States
END:VEVENT
BEGIN:VEVENT
DTSTART;TZID=UTC:20290102T160000
DTEND;TZID=UTC:20290102T170000
DTSTAMP:20260425T032306
CREATED:20240105T222051Z
LAST-MODIFIED:20250407T205111Z
UID:10000877-1862064000-1862067600@foodinitiative.org
SUMMARY:FIGS Mobile Pantry-1st Tuesday of the Month
DESCRIPTION:
URL:https://foodinitiative.org/event/figs-mobile-pantry-10/2029-01-02/
LOCATION:Johansen High School\, 641 Norseman Dr\, Modesto\, CA\, 95357\, United States
END:VEVENT
BEGIN:VEVENT
DTSTART;TZID=UTC:20290116T093000
DTEND;TZID=UTC:20290116T103000
DTSTAMP:20260425T032306
CREATED:20240105T222218Z
LAST-MODIFIED:20260423T153348Z
UID:10004208-1863250200-1863253800@foodinitiative.org
SUMMARY:FIGS Mobile Pantry-3rd Tuesday of the Month
DESCRIPTION:
URL:https://foodinitiative.org/event/figs-mobile-pantry-11/2029-01-16/
LOCATION:Johansen High School\, 641 Norseman Dr\, Modesto\, CA\, 95357\, United States
END:VEVENT
BEGIN:VEVENT
DTSTART;TZID=UTC:20290206T160000
DTEND;TZID=UTC:20290206T170000
DTSTAMP:20260425T032306
CREATED:20240105T222051Z
LAST-MODIFIED:20250407T205111Z
UID:10002937-1865088000-1865091600@foodinitiative.org
SUMMARY:FIGS Mobile Pantry-1st Tuesday of the Month
DESCRIPTION:
URL:https://foodinitiative.org/event/figs-mobile-pantry-10/2029-02-06/
LOCATION:Johansen High School\, 641 Norseman Dr\, Modesto\, CA\, 95357\, United States
END:VEVENT
BEGIN:VEVENT
DTSTART;TZID=UTC:20290220T093000
DTEND;TZID=UTC:20290220T103000
DTSTAMP:20260425T032306
CREATED:20240105T222218Z
LAST-MODIFIED:20260423T153348Z
UID:10004209-1866274200-1866277800@foodinitiative.org
SUMMARY:FIGS Mobile Pantry-3rd Tuesday of the Month
DESCRIPTION:
URL:https://foodinitiative.org/event/figs-mobile-pantry-11/2029-02-20/
LOCATION:Johansen High School\, 641 Norseman Dr\, Modesto\, CA\, 95357\, United States
END:VEVENT
BEGIN:VEVENT
DTSTART;TZID=UTC:20290306T160000
DTEND;TZID=UTC:20290306T170000
DTSTAMP:20260425T032306
CREATED:20240105T222051Z
LAST-MODIFIED:20250407T205111Z
UID:10002938-1867507200-1867510800@foodinitiative.org
SUMMARY:FIGS Mobile Pantry-1st Tuesday of the Month
DESCRIPTION:
URL:https://foodinitiative.org/event/figs-mobile-pantry-10/2029-03-06/
LOCATION:Johansen High School\, 641 Norseman Dr\, Modesto\, CA\, 95357\, United States
END:VEVENT
BEGIN:VEVENT
DTSTART;TZID=UTC:20290320T093000
DTEND;TZID=UTC:20290320T103000
DTSTAMP:20260425T032306
CREATED:20240105T222218Z
LAST-MODIFIED:20260423T153348Z
UID:10004210-1868693400-1868697000@foodinitiative.org
SUMMARY:FIGS Mobile Pantry-3rd Tuesday of the Month
DESCRIPTION:
URL:https://foodinitiative.org/event/figs-mobile-pantry-11/2029-03-20/
LOCATION:Johansen High School\, 641 Norseman Dr\, Modesto\, CA\, 95357\, United States
END:VEVENT
BEGIN:VEVENT
DTSTART;TZID=UTC:20290403T160000
DTEND;TZID=UTC:20290403T170000
DTSTAMP:20260425T032306
CREATED:20240105T222051Z
LAST-MODIFIED:20250407T205111Z
UID:10002939-1869926400-1869930000@foodinitiative.org
SUMMARY:FIGS Mobile Pantry-1st Tuesday of the Month
DESCRIPTION:
URL:https://foodinitiative.org/event/figs-mobile-pantry-10/2029-04-03/
LOCATION:Johansen High School\, 641 Norseman Dr\, Modesto\, CA\, 95357\, United States
END:VEVENT
BEGIN:VEVENT
DTSTART;TZID=UTC:20290417T093000
DTEND;TZID=UTC:20290417T103000
DTSTAMP:20260425T032306
CREATED:20240105T222218Z
LAST-MODIFIED:20260423T153348Z
UID:10004211-1871112600-1871116200@foodinitiative.org
SUMMARY:FIGS Mobile Pantry-3rd Tuesday of the Month
DESCRIPTION:
URL:https://foodinitiative.org/event/figs-mobile-pantry-11/2029-04-17/
LOCATION:Johansen High School\, 641 Norseman Dr\, Modesto\, CA\, 95357\, United States
END:VEVENT
BEGIN:VEVENT
DTSTART;TZID=UTC:20290501T160000
DTEND;TZID=UTC:20290501T170000
DTSTAMP:20260425T032306
CREATED:20240105T222051Z
LAST-MODIFIED:20250407T205111Z
UID:10002940-1872345600-1872349200@foodinitiative.org
SUMMARY:FIGS Mobile Pantry-1st Tuesday of the Month
DESCRIPTION:
URL:https://foodinitiative.org/event/figs-mobile-pantry-10/2029-05-01/
LOCATION:Johansen High School\, 641 Norseman Dr\, Modesto\, CA\, 95357\, United States
END:VEVENT
BEGIN:VEVENT
DTSTART;TZID=UTC:20290515T093000
DTEND;TZID=UTC:20290515T103000
DTSTAMP:20260425T032306
CREATED:20240105T222218Z
LAST-MODIFIED:20260423T153348Z
UID:10004212-1873531800-1873535400@foodinitiative.org
SUMMARY:FIGS Mobile Pantry-3rd Tuesday of the Month
DESCRIPTION:
URL:https://foodinitiative.org/event/figs-mobile-pantry-11/2029-05-15/
LOCATION:Johansen High School\, 641 Norseman Dr\, Modesto\, CA\, 95357\, United States
END:VEVENT
BEGIN:VEVENT
DTSTART;TZID=UTC:20290605T160000
DTEND;TZID=UTC:20290605T170000
DTSTAMP:20260425T032306
CREATED:20240105T222051Z
LAST-MODIFIED:20250407T205111Z
UID:10002941-1875369600-1875373200@foodinitiative.org
SUMMARY:FIGS Mobile Pantry-1st Tuesday of the Month
DESCRIPTION:
URL:https://foodinitiative.org/event/figs-mobile-pantry-10/2029-06-05/
LOCATION:Johansen High School\, 641 Norseman Dr\, Modesto\, CA\, 95357\, United States
END:VEVENT
BEGIN:VEVENT
DTSTART;TZID=UTC:20290619T093000
DTEND;TZID=UTC:20290619T103000
DTSTAMP:20260425T032306
CREATED:20240105T222218Z
LAST-MODIFIED:20260423T153348Z
UID:10004213-1876555800-1876559400@foodinitiative.org
SUMMARY:FIGS Mobile Pantry-3rd Tuesday of the Month
DESCRIPTION:
URL:https://foodinitiative.org/event/figs-mobile-pantry-11/2029-06-19/
LOCATION:Johansen High School\, 641 Norseman Dr\, Modesto\, CA\, 95357\, United States
END:VEVENT
BEGIN:VEVENT
DTSTART;TZID=UTC:20290703T160000
DTEND;TZID=UTC:20290703T170000
DTSTAMP:20260425T032306
CREATED:20240105T222051Z
LAST-MODIFIED:20250407T205111Z
UID:10002942-1877788800-1877792400@foodinitiative.org
SUMMARY:FIGS Mobile Pantry-1st Tuesday of the Month
DESCRIPTION:
URL:https://foodinitiative.org/event/figs-mobile-pantry-10/2029-07-03/
LOCATION:Johansen High School\, 641 Norseman Dr\, Modesto\, CA\, 95357\, United States
END:VEVENT
BEGIN:VEVENT
DTSTART;TZID=UTC:20290717T093000
DTEND;TZID=UTC:20290717T103000
DTSTAMP:20260425T032306
CREATED:20240105T222218Z
LAST-MODIFIED:20260423T153348Z
UID:10004214-1878975000-1878978600@foodinitiative.org
SUMMARY:FIGS Mobile Pantry-3rd Tuesday of the Month
DESCRIPTION:
URL:https://foodinitiative.org/event/figs-mobile-pantry-11/2029-07-17/
LOCATION:Johansen High School\, 641 Norseman Dr\, Modesto\, CA\, 95357\, United States
END:VEVENT
BEGIN:VEVENT
DTSTART;TZID=UTC:20290807T160000
DTEND;TZID=UTC:20290807T170000
DTSTAMP:20260425T032306
CREATED:20240105T222051Z
LAST-MODIFIED:20250407T205111Z
UID:10002943-1880812800-1880816400@foodinitiative.org
SUMMARY:FIGS Mobile Pantry-1st Tuesday of the Month
DESCRIPTION:
URL:https://foodinitiative.org/event/figs-mobile-pantry-10/2029-08-07/
LOCATION:Johansen High School\, 641 Norseman Dr\, Modesto\, CA\, 95357\, United States
END:VEVENT
BEGIN:VEVENT
DTSTART;TZID=UTC:20290821T093000
DTEND;TZID=UTC:20290821T103000
DTSTAMP:20260425T032306
CREATED:20240105T222218Z
LAST-MODIFIED:20260423T153348Z
UID:10004215-1881999000-1882002600@foodinitiative.org
SUMMARY:FIGS Mobile Pantry-3rd Tuesday of the Month
DESCRIPTION:
URL:https://foodinitiative.org/event/figs-mobile-pantry-11/2029-08-21/
LOCATION:Johansen High School\, 641 Norseman Dr\, Modesto\, CA\, 95357\, United States
END:VEVENT
END:VCALENDAR