BEGIN:VCALENDAR
VERSION:2.0
PRODID:-//The Food Initiative - ECPv6.15.20//NONSGML v1.0//EN
CALSCALE:GREGORIAN
METHOD:PUBLISH
X-WR-CALNAME:The Food Initiative
X-ORIGINAL-URL:https://foodinitiative.org
X-WR-CALDESC:Events for The Food Initiative
REFRESH-INTERVAL;VALUE=DURATION:PT1H
X-Robots-Tag:noindex
X-PUBLISHED-TTL:PT1H
BEGIN:VTIMEZONE
TZID:UTC
BEGIN:STANDARD
TZOFFSETFROM:+0000
TZOFFSETTO:+0000
TZNAME:UTC
DTSTART:20240101T000000
END:STANDARD
END:VTIMEZONE
BEGIN:VEVENT
DTSTART;TZID=UTC:20250506T160000
DTEND;TZID=UTC:20250506T170000
DTSTAMP:20260425T162136
CREATED:20240105T222051Z
LAST-MODIFIED:20250407T205111Z
UID:10000833-1746547200-1746550800@foodinitiative.org
SUMMARY:FIGS Mobile Pantry-1st Tuesday of the Month
DESCRIPTION:
URL:https://foodinitiative.org/event/figs-mobile-pantry-10/2025-05-06/
LOCATION:Johansen High School\, 641 Norseman Dr\, Modesto\, CA\, 95357\, United States
END:VEVENT
BEGIN:VEVENT
DTSTART;TZID=UTC:20250520T093000
DTEND;TZID=UTC:20250520T103000
DTSTAMP:20260425T162136
CREATED:20240105T222218Z
LAST-MODIFIED:20260423T153348Z
UID:10004164-1747733400-1747737000@foodinitiative.org
SUMMARY:FIGS Mobile Pantry-3rd Tuesday of the Month
DESCRIPTION:
URL:https://foodinitiative.org/event/figs-mobile-pantry-11/2025-05-20/
LOCATION:Johansen High School\, 641 Norseman Dr\, Modesto\, CA\, 95357\, United States
END:VEVENT
END:VCALENDAR