BEGIN:VCALENDAR
VERSION:2.0
PRODID:-//The Food Initiative - ECPv6.15.20//NONSGML v1.0//EN
CALSCALE:GREGORIAN
METHOD:PUBLISH
X-WR-CALNAME:The Food Initiative
X-ORIGINAL-URL:https://foodinitiative.org
X-WR-CALDESC:Events for The Food Initiative
REFRESH-INTERVAL;VALUE=DURATION:PT1H
X-Robots-Tag:noindex
X-PUBLISHED-TTL:PT1H
BEGIN:VTIMEZONE
TZID:UTC
BEGIN:STANDARD
TZOFFSETFROM:+0000
TZOFFSETTO:+0000
TZNAME:UTC
DTSTART:20260101T000000
END:STANDARD
END:VTIMEZONE
BEGIN:VEVENT
DTSTART;TZID=UTC:20270312T093000
DTEND;TZID=UTC:20270312T110000
DTSTAMP:20260425T150219
CREATED:20250407T190230Z
LAST-MODIFIED:20250407T204721Z
UID:10003175-1804843800-1804849200@foodinitiative.org
SUMMARY:FIGS Mobile Food Pantry-2nd Friday of the Month
DESCRIPTION:
URL:https://foodinitiative.org/event/figs-mobile-food-pantry/2027-03-12/
LOCATION:Hanshaw Middle School\, 1724 Las Vegas St\, Modesto\, CA\, 95358\, United States
END:VEVENT
BEGIN:VEVENT
DTSTART;TZID=UTC:20270409T093000
DTEND;TZID=UTC:20270409T110000
DTSTAMP:20260425T150219
CREATED:20250407T190230Z
LAST-MODIFIED:20250407T204721Z
UID:10003176-1807263000-1807268400@foodinitiative.org
SUMMARY:FIGS Mobile Food Pantry-2nd Friday of the Month
DESCRIPTION:
URL:https://foodinitiative.org/event/figs-mobile-food-pantry/2027-04-09/
LOCATION:Hanshaw Middle School\, 1724 Las Vegas St\, Modesto\, CA\, 95358\, United States
END:VEVENT
BEGIN:VEVENT
DTSTART;TZID=UTC:20270514T093000
DTEND;TZID=UTC:20270514T110000
DTSTAMP:20260425T150219
CREATED:20250407T190230Z
LAST-MODIFIED:20250407T204721Z
UID:10003177-1810287000-1810292400@foodinitiative.org
SUMMARY:FIGS Mobile Food Pantry-2nd Friday of the Month
DESCRIPTION:
URL:https://foodinitiative.org/event/figs-mobile-food-pantry/2027-05-14/
LOCATION:Hanshaw Middle School\, 1724 Las Vegas St\, Modesto\, CA\, 95358\, United States
END:VEVENT
BEGIN:VEVENT
DTSTART;TZID=UTC:20270611T093000
DTEND;TZID=UTC:20270611T110000
DTSTAMP:20260425T150219
CREATED:20250407T190230Z
LAST-MODIFIED:20250407T204721Z
UID:10003178-1812706200-1812711600@foodinitiative.org
SUMMARY:FIGS Mobile Food Pantry-2nd Friday of the Month
DESCRIPTION:
URL:https://foodinitiative.org/event/figs-mobile-food-pantry/2027-06-11/
LOCATION:Hanshaw Middle School\, 1724 Las Vegas St\, Modesto\, CA\, 95358\, United States
END:VEVENT
BEGIN:VEVENT
DTSTART;TZID=UTC:20270709T093000
DTEND;TZID=UTC:20270709T110000
DTSTAMP:20260425T150219
CREATED:20250407T190230Z
LAST-MODIFIED:20250407T204721Z
UID:10003179-1815125400-1815130800@foodinitiative.org
SUMMARY:FIGS Mobile Food Pantry-2nd Friday of the Month
DESCRIPTION:
URL:https://foodinitiative.org/event/figs-mobile-food-pantry/2027-07-09/
LOCATION:Hanshaw Middle School\, 1724 Las Vegas St\, Modesto\, CA\, 95358\, United States
END:VEVENT
BEGIN:VEVENT
DTSTART;TZID=UTC:20270813T093000
DTEND;TZID=UTC:20270813T110000
DTSTAMP:20260425T150219
CREATED:20250407T190230Z
LAST-MODIFIED:20250407T204721Z
UID:10003180-1818149400-1818154800@foodinitiative.org
SUMMARY:FIGS Mobile Food Pantry-2nd Friday of the Month
DESCRIPTION:
URL:https://foodinitiative.org/event/figs-mobile-food-pantry/2027-08-13/
LOCATION:Hanshaw Middle School\, 1724 Las Vegas St\, Modesto\, CA\, 95358\, United States
END:VEVENT
BEGIN:VEVENT
DTSTART;TZID=UTC:20270910T093000
DTEND;TZID=UTC:20270910T110000
DTSTAMP:20260425T150219
CREATED:20250407T190230Z
LAST-MODIFIED:20250407T204721Z
UID:10003181-1820568600-1820574000@foodinitiative.org
SUMMARY:FIGS Mobile Food Pantry-2nd Friday of the Month
DESCRIPTION:
URL:https://foodinitiative.org/event/figs-mobile-food-pantry/2027-09-10/
LOCATION:Hanshaw Middle School\, 1724 Las Vegas St\, Modesto\, CA\, 95358\, United States
END:VEVENT
BEGIN:VEVENT
DTSTART;TZID=UTC:20271008T093000
DTEND;TZID=UTC:20271008T110000
DTSTAMP:20260425T150219
CREATED:20250407T190230Z
LAST-MODIFIED:20250407T204721Z
UID:10003182-1822987800-1822993200@foodinitiative.org
SUMMARY:FIGS Mobile Food Pantry-2nd Friday of the Month
DESCRIPTION:
URL:https://foodinitiative.org/event/figs-mobile-food-pantry/2027-10-08/
LOCATION:Hanshaw Middle School\, 1724 Las Vegas St\, Modesto\, CA\, 95358\, United States
END:VEVENT
BEGIN:VEVENT
DTSTART;TZID=UTC:20271112T093000
DTEND;TZID=UTC:20271112T110000
DTSTAMP:20260425T150219
CREATED:20250407T190230Z
LAST-MODIFIED:20250407T204721Z
UID:10003183-1826011800-1826017200@foodinitiative.org
SUMMARY:FIGS Mobile Food Pantry-2nd Friday of the Month
DESCRIPTION:
URL:https://foodinitiative.org/event/figs-mobile-food-pantry/2027-11-12/
LOCATION:Hanshaw Middle School\, 1724 Las Vegas St\, Modesto\, CA\, 95358\, United States
END:VEVENT
BEGIN:VEVENT
DTSTART;TZID=UTC:20271210T093000
DTEND;TZID=UTC:20271210T110000
DTSTAMP:20260425T150219
CREATED:20250407T190230Z
LAST-MODIFIED:20250407T204721Z
UID:10003184-1828431000-1828436400@foodinitiative.org
SUMMARY:FIGS Mobile Food Pantry-2nd Friday of the Month
DESCRIPTION:
URL:https://foodinitiative.org/event/figs-mobile-food-pantry/2027-12-10/
LOCATION:Hanshaw Middle School\, 1724 Las Vegas St\, Modesto\, CA\, 95358\, United States
END:VEVENT
BEGIN:VEVENT
DTSTART;TZID=UTC:20280114T093000
DTEND;TZID=UTC:20280114T110000
DTSTAMP:20260425T150219
CREATED:20250407T190230Z
LAST-MODIFIED:20250407T204721Z
UID:10003185-1831455000-1831460400@foodinitiative.org
SUMMARY:FIGS Mobile Food Pantry-2nd Friday of the Month
DESCRIPTION:
URL:https://foodinitiative.org/event/figs-mobile-food-pantry/2028-01-14/
LOCATION:Hanshaw Middle School\, 1724 Las Vegas St\, Modesto\, CA\, 95358\, United States
END:VEVENT
BEGIN:VEVENT
DTSTART;TZID=UTC:20280211T093000
DTEND;TZID=UTC:20280211T110000
DTSTAMP:20260425T150219
CREATED:20250407T190230Z
LAST-MODIFIED:20250407T204721Z
UID:10003186-1833874200-1833879600@foodinitiative.org
SUMMARY:FIGS Mobile Food Pantry-2nd Friday of the Month
DESCRIPTION:
URL:https://foodinitiative.org/event/figs-mobile-food-pantry/2028-02-11/
LOCATION:Hanshaw Middle School\, 1724 Las Vegas St\, Modesto\, CA\, 95358\, United States
END:VEVENT
BEGIN:VEVENT
DTSTART;TZID=UTC:20280310T093000
DTEND;TZID=UTC:20280310T110000
DTSTAMP:20260425T150219
CREATED:20250407T190230Z
LAST-MODIFIED:20250407T204721Z
UID:10003187-1836293400-1836298800@foodinitiative.org
SUMMARY:FIGS Mobile Food Pantry-2nd Friday of the Month
DESCRIPTION:
URL:https://foodinitiative.org/event/figs-mobile-food-pantry/2028-03-10/
LOCATION:Hanshaw Middle School\, 1724 Las Vegas St\, Modesto\, CA\, 95358\, United States
END:VEVENT
BEGIN:VEVENT
DTSTART;TZID=UTC:20280414T093000
DTEND;TZID=UTC:20280414T110000
DTSTAMP:20260425T150219
CREATED:20250407T190230Z
LAST-MODIFIED:20250407T204721Z
UID:10003188-1839317400-1839322800@foodinitiative.org
SUMMARY:FIGS Mobile Food Pantry-2nd Friday of the Month
DESCRIPTION:
URL:https://foodinitiative.org/event/figs-mobile-food-pantry/2028-04-14/
LOCATION:Hanshaw Middle School\, 1724 Las Vegas St\, Modesto\, CA\, 95358\, United States
END:VEVENT
BEGIN:VEVENT
DTSTART;TZID=UTC:20280512T093000
DTEND;TZID=UTC:20280512T110000
DTSTAMP:20260425T150219
CREATED:20250407T190230Z
LAST-MODIFIED:20250407T204721Z
UID:10003189-1841736600-1841742000@foodinitiative.org
SUMMARY:FIGS Mobile Food Pantry-2nd Friday of the Month
DESCRIPTION:
URL:https://foodinitiative.org/event/figs-mobile-food-pantry/2028-05-12/
LOCATION:Hanshaw Middle School\, 1724 Las Vegas St\, Modesto\, CA\, 95358\, United States
END:VEVENT
BEGIN:VEVENT
DTSTART;TZID=UTC:20280609T093000
DTEND;TZID=UTC:20280609T110000
DTSTAMP:20260425T150219
CREATED:20250407T190230Z
LAST-MODIFIED:20250407T204721Z
UID:10003190-1844155800-1844161200@foodinitiative.org
SUMMARY:FIGS Mobile Food Pantry-2nd Friday of the Month
DESCRIPTION:
URL:https://foodinitiative.org/event/figs-mobile-food-pantry/2028-06-09/
LOCATION:Hanshaw Middle School\, 1724 Las Vegas St\, Modesto\, CA\, 95358\, United States
END:VEVENT
BEGIN:VEVENT
DTSTART;TZID=UTC:20280714T093000
DTEND;TZID=UTC:20280714T110000
DTSTAMP:20260425T150219
CREATED:20250407T190230Z
LAST-MODIFIED:20250407T204721Z
UID:10003191-1847179800-1847185200@foodinitiative.org
SUMMARY:FIGS Mobile Food Pantry-2nd Friday of the Month
DESCRIPTION:
URL:https://foodinitiative.org/event/figs-mobile-food-pantry/2028-07-14/
LOCATION:Hanshaw Middle School\, 1724 Las Vegas St\, Modesto\, CA\, 95358\, United States
END:VEVENT
BEGIN:VEVENT
DTSTART;TZID=UTC:20280811T093000
DTEND;TZID=UTC:20280811T110000
DTSTAMP:20260425T150219
CREATED:20250407T190230Z
LAST-MODIFIED:20250407T204721Z
UID:10003192-1849599000-1849604400@foodinitiative.org
SUMMARY:FIGS Mobile Food Pantry-2nd Friday of the Month
DESCRIPTION:
URL:https://foodinitiative.org/event/figs-mobile-food-pantry/2028-08-11/
LOCATION:Hanshaw Middle School\, 1724 Las Vegas St\, Modesto\, CA\, 95358\, United States
END:VEVENT
BEGIN:VEVENT
DTSTART;TZID=UTC:20280908T093000
DTEND;TZID=UTC:20280908T110000
DTSTAMP:20260425T150219
CREATED:20250407T190230Z
LAST-MODIFIED:20250407T204721Z
UID:10003193-1852018200-1852023600@foodinitiative.org
SUMMARY:FIGS Mobile Food Pantry-2nd Friday of the Month
DESCRIPTION:
URL:https://foodinitiative.org/event/figs-mobile-food-pantry/2028-09-08/
LOCATION:Hanshaw Middle School\, 1724 Las Vegas St\, Modesto\, CA\, 95358\, United States
END:VEVENT
BEGIN:VEVENT
DTSTART;TZID=UTC:20281013T093000
DTEND;TZID=UTC:20281013T110000
DTSTAMP:20260425T150219
CREATED:20250407T190230Z
LAST-MODIFIED:20250407T204721Z
UID:10003194-1855042200-1855047600@foodinitiative.org
SUMMARY:FIGS Mobile Food Pantry-2nd Friday of the Month
DESCRIPTION:
URL:https://foodinitiative.org/event/figs-mobile-food-pantry/2028-10-13/
LOCATION:Hanshaw Middle School\, 1724 Las Vegas St\, Modesto\, CA\, 95358\, United States
END:VEVENT
BEGIN:VEVENT
DTSTART;TZID=UTC:20281110T093000
DTEND;TZID=UTC:20281110T110000
DTSTAMP:20260425T150219
CREATED:20250407T190230Z
LAST-MODIFIED:20250407T204721Z
UID:10003195-1857461400-1857466800@foodinitiative.org
SUMMARY:FIGS Mobile Food Pantry-2nd Friday of the Month
DESCRIPTION:
URL:https://foodinitiative.org/event/figs-mobile-food-pantry/2028-11-10/
LOCATION:Hanshaw Middle School\, 1724 Las Vegas St\, Modesto\, CA\, 95358\, United States
END:VEVENT
BEGIN:VEVENT
DTSTART;TZID=UTC:20281208T093000
DTEND;TZID=UTC:20281208T110000
DTSTAMP:20260425T150219
CREATED:20250407T190230Z
LAST-MODIFIED:20250407T204721Z
UID:10003196-1859880600-1859886000@foodinitiative.org
SUMMARY:FIGS Mobile Food Pantry-2nd Friday of the Month
DESCRIPTION:
URL:https://foodinitiative.org/event/figs-mobile-food-pantry/2028-12-08/
LOCATION:Hanshaw Middle School\, 1724 Las Vegas St\, Modesto\, CA\, 95358\, United States
END:VEVENT
BEGIN:VEVENT
DTSTART;TZID=UTC:20290112T093000
DTEND;TZID=UTC:20290112T110000
DTSTAMP:20260425T150219
CREATED:20250407T190230Z
LAST-MODIFIED:20250407T204721Z
UID:10003197-1862904600-1862910000@foodinitiative.org
SUMMARY:FIGS Mobile Food Pantry-2nd Friday of the Month
DESCRIPTION:
URL:https://foodinitiative.org/event/figs-mobile-food-pantry/2029-01-12/
LOCATION:Hanshaw Middle School\, 1724 Las Vegas St\, Modesto\, CA\, 95358\, United States
END:VEVENT
BEGIN:VEVENT
DTSTART;TZID=UTC:20290209T093000
DTEND;TZID=UTC:20290209T110000
DTSTAMP:20260425T150219
CREATED:20250407T190230Z
LAST-MODIFIED:20250407T204721Z
UID:10003198-1865323800-1865329200@foodinitiative.org
SUMMARY:FIGS Mobile Food Pantry-2nd Friday of the Month
DESCRIPTION:
URL:https://foodinitiative.org/event/figs-mobile-food-pantry/2029-02-09/
LOCATION:Hanshaw Middle School\, 1724 Las Vegas St\, Modesto\, CA\, 95358\, United States
END:VEVENT
BEGIN:VEVENT
DTSTART;TZID=UTC:20290309T093000
DTEND;TZID=UTC:20290309T110000
DTSTAMP:20260425T150219
CREATED:20250407T190230Z
LAST-MODIFIED:20250407T204721Z
UID:10003199-1867743000-1867748400@foodinitiative.org
SUMMARY:FIGS Mobile Food Pantry-2nd Friday of the Month
DESCRIPTION:
URL:https://foodinitiative.org/event/figs-mobile-food-pantry/2029-03-09/
LOCATION:Hanshaw Middle School\, 1724 Las Vegas St\, Modesto\, CA\, 95358\, United States
END:VEVENT
BEGIN:VEVENT
DTSTART;TZID=UTC:20290413T093000
DTEND;TZID=UTC:20290413T110000
DTSTAMP:20260425T150219
CREATED:20250407T190230Z
LAST-MODIFIED:20250407T204721Z
UID:10003200-1870767000-1870772400@foodinitiative.org
SUMMARY:FIGS Mobile Food Pantry-2nd Friday of the Month
DESCRIPTION:
URL:https://foodinitiative.org/event/figs-mobile-food-pantry/2029-04-13/
LOCATION:Hanshaw Middle School\, 1724 Las Vegas St\, Modesto\, CA\, 95358\, United States
END:VEVENT
BEGIN:VEVENT
DTSTART;TZID=UTC:20290511T093000
DTEND;TZID=UTC:20290511T110000
DTSTAMP:20260425T150219
CREATED:20250407T190230Z
LAST-MODIFIED:20250407T204721Z
UID:10003201-1873186200-1873191600@foodinitiative.org
SUMMARY:FIGS Mobile Food Pantry-2nd Friday of the Month
DESCRIPTION:
URL:https://foodinitiative.org/event/figs-mobile-food-pantry/2029-05-11/
LOCATION:Hanshaw Middle School\, 1724 Las Vegas St\, Modesto\, CA\, 95358\, United States
END:VEVENT
BEGIN:VEVENT
DTSTART;TZID=UTC:20290608T093000
DTEND;TZID=UTC:20290608T110000
DTSTAMP:20260425T150219
CREATED:20250407T190230Z
LAST-MODIFIED:20250407T204721Z
UID:10003202-1875605400-1875610800@foodinitiative.org
SUMMARY:FIGS Mobile Food Pantry-2nd Friday of the Month
DESCRIPTION:
URL:https://foodinitiative.org/event/figs-mobile-food-pantry/2029-06-08/
LOCATION:Hanshaw Middle School\, 1724 Las Vegas St\, Modesto\, CA\, 95358\, United States
END:VEVENT
BEGIN:VEVENT
DTSTART;TZID=UTC:20290713T093000
DTEND;TZID=UTC:20290713T110000
DTSTAMP:20260425T150219
CREATED:20250407T190230Z
LAST-MODIFIED:20250407T204721Z
UID:10003203-1878629400-1878634800@foodinitiative.org
SUMMARY:FIGS Mobile Food Pantry-2nd Friday of the Month
DESCRIPTION:
URL:https://foodinitiative.org/event/figs-mobile-food-pantry/2029-07-13/
LOCATION:Hanshaw Middle School\, 1724 Las Vegas St\, Modesto\, CA\, 95358\, United States
END:VEVENT
BEGIN:VEVENT
DTSTART;TZID=UTC:20290810T093000
DTEND;TZID=UTC:20290810T110000
DTSTAMP:20260425T150219
CREATED:20250407T190230Z
LAST-MODIFIED:20250407T204721Z
UID:10003204-1881048600-1881054000@foodinitiative.org
SUMMARY:FIGS Mobile Food Pantry-2nd Friday of the Month
DESCRIPTION:
URL:https://foodinitiative.org/event/figs-mobile-food-pantry/2029-08-10/
LOCATION:Hanshaw Middle School\, 1724 Las Vegas St\, Modesto\, CA\, 95358\, United States
END:VEVENT
END:VCALENDAR