BEGIN:VCALENDAR
VERSION:2.0
PRODID:-//The Food Initiative - ECPv6.15.20//NONSGML v1.0//EN
CALSCALE:GREGORIAN
METHOD:PUBLISH
X-WR-CALNAME:The Food Initiative
X-ORIGINAL-URL:https://foodinitiative.org
X-WR-CALDESC:Events for The Food Initiative
REFRESH-INTERVAL;VALUE=DURATION:PT1H
X-Robots-Tag:noindex
X-PUBLISHED-TTL:PT1H
BEGIN:VTIMEZONE
TZID:UTC
BEGIN:STANDARD
TZOFFSETFROM:+0000
TZOFFSETTO:+0000
TZNAME:UTC
DTSTART:20240101T000000
END:STANDARD
END:VTIMEZONE
BEGIN:VEVENT
DTSTART;TZID=UTC:20250822T100000
DTEND;TZID=UTC:20250822T113000
DTSTAMP:20260425T143008
CREATED:20241223T161620Z
LAST-MODIFIED:20250407T193309Z
UID:10003085-1755856800-1755862200@foodinitiative.org
SUMMARY:FIGS Mobile Pantry-4th Friday of the Month
DESCRIPTION:
URL:https://foodinitiative.org/event/figs-mobile-pantry-16-2/2025-08-22/
LOCATION:Franklin Elementary Child Develpment\, 905 Byron Lane\, Modesto\, California\, 95351
END:VEVENT
END:VCALENDAR