BEGIN:VCALENDAR
VERSION:2.0
PRODID:-//The Food Initiative - ECPv6.15.20//NONSGML v1.0//EN
CALSCALE:GREGORIAN
METHOD:PUBLISH
X-WR-CALNAME:The Food Initiative
X-ORIGINAL-URL:https://foodinitiative.org
X-WR-CALDESC:Events for The Food Initiative
REFRESH-INTERVAL;VALUE=DURATION:PT1H
X-Robots-Tag:noindex
X-PUBLISHED-TTL:PT1H
BEGIN:VTIMEZONE
TZID:UTC
BEGIN:STANDARD
TZOFFSETFROM:+0000
TZOFFSETTO:+0000
TZNAME:UTC
DTSTART:20270101T000000
END:STANDARD
END:VTIMEZONE
BEGIN:VEVENT
DTSTART;TZID=UTC:20281024T093000
DTEND;TZID=UTC:20281024T110000
DTSTAMP:20260424T235758
CREATED:20240105T231908Z
LAST-MODIFIED:20260423T153319Z
UID:10004118-1855992600-1855998000@foodinitiative.org
SUMMARY:FIGS Mobile Pantry-4th Tuesday of the Month
DESCRIPTION:
URL:https://foodinitiative.org/event/figs-mobile-pantry-5/2028-10-24/
LOCATION:Modesto Gospel Mission\, 1400 Yosemite Blvd\, Modesto\, CA\, 95354\, United States
END:VEVENT
BEGIN:VEVENT
DTSTART;TZID=UTC:20281128T093000
DTEND;TZID=UTC:20281128T110000
DTSTAMP:20260424T235758
CREATED:20240105T231908Z
LAST-MODIFIED:20260423T153319Z
UID:10004119-1859016600-1859022000@foodinitiative.org
SUMMARY:FIGS Mobile Pantry-4th Tuesday of the Month
DESCRIPTION:
URL:https://foodinitiative.org/event/figs-mobile-pantry-5/2028-11-28/
LOCATION:Modesto Gospel Mission\, 1400 Yosemite Blvd\, Modesto\, CA\, 95354\, United States
END:VEVENT
BEGIN:VEVENT
DTSTART;TZID=UTC:20281226T093000
DTEND;TZID=UTC:20281226T110000
DTSTAMP:20260424T235758
CREATED:20240105T231908Z
LAST-MODIFIED:20260423T153319Z
UID:10004120-1861435800-1861441200@foodinitiative.org
SUMMARY:FIGS Mobile Pantry-4th Tuesday of the Month
DESCRIPTION:
URL:https://foodinitiative.org/event/figs-mobile-pantry-5/2028-12-26/
LOCATION:Modesto Gospel Mission\, 1400 Yosemite Blvd\, Modesto\, CA\, 95354\, United States
END:VEVENT
BEGIN:VEVENT
DTSTART;TZID=UTC:20290123T093000
DTEND;TZID=UTC:20290123T110000
DTSTAMP:20260424T235758
CREATED:20240105T231908Z
LAST-MODIFIED:20260423T153319Z
UID:10004121-1863855000-1863860400@foodinitiative.org
SUMMARY:FIGS Mobile Pantry-4th Tuesday of the Month
DESCRIPTION:
URL:https://foodinitiative.org/event/figs-mobile-pantry-5/2029-01-23/
LOCATION:Modesto Gospel Mission\, 1400 Yosemite Blvd\, Modesto\, CA\, 95354\, United States
END:VEVENT
BEGIN:VEVENT
DTSTART;TZID=UTC:20290227T093000
DTEND;TZID=UTC:20290227T110000
DTSTAMP:20260424T235758
CREATED:20240105T231908Z
LAST-MODIFIED:20260423T153319Z
UID:10004122-1866879000-1866884400@foodinitiative.org
SUMMARY:FIGS Mobile Pantry-4th Tuesday of the Month
DESCRIPTION:
URL:https://foodinitiative.org/event/figs-mobile-pantry-5/2029-02-27/
LOCATION:Modesto Gospel Mission\, 1400 Yosemite Blvd\, Modesto\, CA\, 95354\, United States
END:VEVENT
BEGIN:VEVENT
DTSTART;TZID=UTC:20290327T093000
DTEND;TZID=UTC:20290327T110000
DTSTAMP:20260424T235758
CREATED:20240105T231908Z
LAST-MODIFIED:20260423T153319Z
UID:10004123-1869298200-1869303600@foodinitiative.org
SUMMARY:FIGS Mobile Pantry-4th Tuesday of the Month
DESCRIPTION:
URL:https://foodinitiative.org/event/figs-mobile-pantry-5/2029-03-27/
LOCATION:Modesto Gospel Mission\, 1400 Yosemite Blvd\, Modesto\, CA\, 95354\, United States
END:VEVENT
BEGIN:VEVENT
DTSTART;TZID=UTC:20290424T093000
DTEND;TZID=UTC:20290424T110000
DTSTAMP:20260424T235758
CREATED:20240105T231908Z
LAST-MODIFIED:20260423T153319Z
UID:10004124-1871717400-1871722800@foodinitiative.org
SUMMARY:FIGS Mobile Pantry-4th Tuesday of the Month
DESCRIPTION:
URL:https://foodinitiative.org/event/figs-mobile-pantry-5/2029-04-24/
LOCATION:Modesto Gospel Mission\, 1400 Yosemite Blvd\, Modesto\, CA\, 95354\, United States
END:VEVENT
BEGIN:VEVENT
DTSTART;TZID=UTC:20290522T093000
DTEND;TZID=UTC:20290522T110000
DTSTAMP:20260424T235758
CREATED:20240105T231908Z
LAST-MODIFIED:20260423T153319Z
UID:10004125-1874136600-1874142000@foodinitiative.org
SUMMARY:FIGS Mobile Pantry-4th Tuesday of the Month
DESCRIPTION:
URL:https://foodinitiative.org/event/figs-mobile-pantry-5/2029-05-22/
LOCATION:Modesto Gospel Mission\, 1400 Yosemite Blvd\, Modesto\, CA\, 95354\, United States
END:VEVENT
BEGIN:VEVENT
DTSTART;TZID=UTC:20290626T093000
DTEND;TZID=UTC:20290626T110000
DTSTAMP:20260424T235758
CREATED:20240105T231908Z
LAST-MODIFIED:20260423T153319Z
UID:10004126-1877160600-1877166000@foodinitiative.org
SUMMARY:FIGS Mobile Pantry-4th Tuesday of the Month
DESCRIPTION:
URL:https://foodinitiative.org/event/figs-mobile-pantry-5/2029-06-26/
LOCATION:Modesto Gospel Mission\, 1400 Yosemite Blvd\, Modesto\, CA\, 95354\, United States
END:VEVENT
BEGIN:VEVENT
DTSTART;TZID=UTC:20290724T093000
DTEND;TZID=UTC:20290724T110000
DTSTAMP:20260424T235758
CREATED:20240105T231908Z
LAST-MODIFIED:20260423T153319Z
UID:10004127-1879579800-1879585200@foodinitiative.org
SUMMARY:FIGS Mobile Pantry-4th Tuesday of the Month
DESCRIPTION:
URL:https://foodinitiative.org/event/figs-mobile-pantry-5/2029-07-24/
LOCATION:Modesto Gospel Mission\, 1400 Yosemite Blvd\, Modesto\, CA\, 95354\, United States
END:VEVENT
BEGIN:VEVENT
DTSTART;TZID=UTC:20290828T093000
DTEND;TZID=UTC:20290828T110000
DTSTAMP:20260424T235758
CREATED:20240105T231908Z
LAST-MODIFIED:20260423T153319Z
UID:10004128-1882603800-1882609200@foodinitiative.org
SUMMARY:FIGS Mobile Pantry-4th Tuesday of the Month
DESCRIPTION:
URL:https://foodinitiative.org/event/figs-mobile-pantry-5/2029-08-28/
LOCATION:Modesto Gospel Mission\, 1400 Yosemite Blvd\, Modesto\, CA\, 95354\, United States
END:VEVENT
BEGIN:VEVENT
DTSTART;TZID=UTC:20290925T093000
DTEND;TZID=UTC:20290925T110000
DTSTAMP:20260424T235758
CREATED:20240105T231908Z
LAST-MODIFIED:20260423T153319Z
UID:10004129-1885023000-1885028400@foodinitiative.org
SUMMARY:FIGS Mobile Pantry-4th Tuesday of the Month
DESCRIPTION:
URL:https://foodinitiative.org/event/figs-mobile-pantry-5/2029-09-25/
LOCATION:Modesto Gospel Mission\, 1400 Yosemite Blvd\, Modesto\, CA\, 95354\, United States
END:VEVENT
BEGIN:VEVENT
DTSTART;TZID=UTC:20291023T093000
DTEND;TZID=UTC:20291023T110000
DTSTAMP:20260424T235758
CREATED:20240105T231908Z
LAST-MODIFIED:20260423T153319Z
UID:10004130-1887442200-1887447600@foodinitiative.org
SUMMARY:FIGS Mobile Pantry-4th Tuesday of the Month
DESCRIPTION:
URL:https://foodinitiative.org/event/figs-mobile-pantry-5/2029-10-23/
LOCATION:Modesto Gospel Mission\, 1400 Yosemite Blvd\, Modesto\, CA\, 95354\, United States
END:VEVENT
BEGIN:VEVENT
DTSTART;TZID=UTC:20291127T093000
DTEND;TZID=UTC:20291127T110000
DTSTAMP:20260424T235758
CREATED:20240105T231908Z
LAST-MODIFIED:20260423T153319Z
UID:10004131-1890466200-1890471600@foodinitiative.org
SUMMARY:FIGS Mobile Pantry-4th Tuesday of the Month
DESCRIPTION:
URL:https://foodinitiative.org/event/figs-mobile-pantry-5/2029-11-27/
LOCATION:Modesto Gospel Mission\, 1400 Yosemite Blvd\, Modesto\, CA\, 95354\, United States
END:VEVENT
BEGIN:VEVENT
DTSTART;TZID=UTC:20291225T093000
DTEND;TZID=UTC:20291225T110000
DTSTAMP:20260424T235758
CREATED:20240105T231908Z
LAST-MODIFIED:20260423T153319Z
UID:10004132-1892885400-1892890800@foodinitiative.org
SUMMARY:FIGS Mobile Pantry-4th Tuesday of the Month
DESCRIPTION:
URL:https://foodinitiative.org/event/figs-mobile-pantry-5/2029-12-25/
LOCATION:Modesto Gospel Mission\, 1400 Yosemite Blvd\, Modesto\, CA\, 95354\, United States
END:VEVENT
BEGIN:VEVENT
DTSTART;TZID=UTC:20300122T093000
DTEND;TZID=UTC:20300122T110000
DTSTAMP:20260424T235758
CREATED:20240105T231908Z
LAST-MODIFIED:20260423T153319Z
UID:10004133-1895304600-1895310000@foodinitiative.org
SUMMARY:FIGS Mobile Pantry-4th Tuesday of the Month
DESCRIPTION:
URL:https://foodinitiative.org/event/figs-mobile-pantry-5/2030-01-22/
LOCATION:Modesto Gospel Mission\, 1400 Yosemite Blvd\, Modesto\, CA\, 95354\, United States
END:VEVENT
BEGIN:VEVENT
DTSTART;TZID=UTC:20300226T093000
DTEND;TZID=UTC:20300226T110000
DTSTAMP:20260424T235758
CREATED:20240105T231908Z
LAST-MODIFIED:20260423T153319Z
UID:10004134-1898328600-1898334000@foodinitiative.org
SUMMARY:FIGS Mobile Pantry-4th Tuesday of the Month
DESCRIPTION:
URL:https://foodinitiative.org/event/figs-mobile-pantry-5/2030-02-26/
LOCATION:Modesto Gospel Mission\, 1400 Yosemite Blvd\, Modesto\, CA\, 95354\, United States
END:VEVENT
BEGIN:VEVENT
DTSTART;TZID=UTC:20300326T093000
DTEND;TZID=UTC:20300326T110000
DTSTAMP:20260424T235758
CREATED:20240105T231908Z
LAST-MODIFIED:20260423T153319Z
UID:10004135-1900747800-1900753200@foodinitiative.org
SUMMARY:FIGS Mobile Pantry-4th Tuesday of the Month
DESCRIPTION:
URL:https://foodinitiative.org/event/figs-mobile-pantry-5/2030-03-26/
LOCATION:Modesto Gospel Mission\, 1400 Yosemite Blvd\, Modesto\, CA\, 95354\, United States
END:VEVENT
BEGIN:VEVENT
DTSTART;TZID=UTC:20300423T093000
DTEND;TZID=UTC:20300423T110000
DTSTAMP:20260424T235758
CREATED:20240105T231908Z
LAST-MODIFIED:20260423T153319Z
UID:10004136-1903167000-1903172400@foodinitiative.org
SUMMARY:FIGS Mobile Pantry-4th Tuesday of the Month
DESCRIPTION:
URL:https://foodinitiative.org/event/figs-mobile-pantry-5/2030-04-23/
LOCATION:Modesto Gospel Mission\, 1400 Yosemite Blvd\, Modesto\, CA\, 95354\, United States
END:VEVENT
BEGIN:VEVENT
DTSTART;TZID=UTC:20300528T093000
DTEND;TZID=UTC:20300528T110000
DTSTAMP:20260424T235758
CREATED:20240105T231908Z
LAST-MODIFIED:20260423T153319Z
UID:10004137-1906191000-1906196400@foodinitiative.org
SUMMARY:FIGS Mobile Pantry-4th Tuesday of the Month
DESCRIPTION:
URL:https://foodinitiative.org/event/figs-mobile-pantry-5/2030-05-28/
LOCATION:Modesto Gospel Mission\, 1400 Yosemite Blvd\, Modesto\, CA\, 95354\, United States
END:VEVENT
BEGIN:VEVENT
DTSTART;TZID=UTC:20300625T093000
DTEND;TZID=UTC:20300625T110000
DTSTAMP:20260424T235758
CREATED:20240105T231908Z
LAST-MODIFIED:20260423T153319Z
UID:10004138-1908610200-1908615600@foodinitiative.org
SUMMARY:FIGS Mobile Pantry-4th Tuesday of the Month
DESCRIPTION:
URL:https://foodinitiative.org/event/figs-mobile-pantry-5/2030-06-25/
LOCATION:Modesto Gospel Mission\, 1400 Yosemite Blvd\, Modesto\, CA\, 95354\, United States
END:VEVENT
BEGIN:VEVENT
DTSTART;TZID=UTC:20300723T093000
DTEND;TZID=UTC:20300723T110000
DTSTAMP:20260424T235758
CREATED:20240105T231908Z
LAST-MODIFIED:20260423T153319Z
UID:10004139-1911029400-1911034800@foodinitiative.org
SUMMARY:FIGS Mobile Pantry-4th Tuesday of the Month
DESCRIPTION:
URL:https://foodinitiative.org/event/figs-mobile-pantry-5/2030-07-23/
LOCATION:Modesto Gospel Mission\, 1400 Yosemite Blvd\, Modesto\, CA\, 95354\, United States
END:VEVENT
BEGIN:VEVENT
DTSTART;TZID=UTC:20300827T093000
DTEND;TZID=UTC:20300827T110000
DTSTAMP:20260424T235758
CREATED:20240105T231908Z
LAST-MODIFIED:20260423T153319Z
UID:10004140-1914053400-1914058800@foodinitiative.org
SUMMARY:FIGS Mobile Pantry-4th Tuesday of the Month
DESCRIPTION:
URL:https://foodinitiative.org/event/figs-mobile-pantry-5/2030-08-27/
LOCATION:Modesto Gospel Mission\, 1400 Yosemite Blvd\, Modesto\, CA\, 95354\, United States
END:VEVENT
BEGIN:VEVENT
DTSTART;TZID=UTC:20300924T093000
DTEND;TZID=UTC:20300924T110000
DTSTAMP:20260424T235758
CREATED:20240105T231908Z
LAST-MODIFIED:20260423T153319Z
UID:10004141-1916472600-1916478000@foodinitiative.org
SUMMARY:FIGS Mobile Pantry-4th Tuesday of the Month
DESCRIPTION:
URL:https://foodinitiative.org/event/figs-mobile-pantry-5/2030-09-24/
LOCATION:Modesto Gospel Mission\, 1400 Yosemite Blvd\, Modesto\, CA\, 95354\, United States
END:VEVENT
BEGIN:VEVENT
DTSTART;TZID=UTC:20301022T093000
DTEND;TZID=UTC:20301022T110000
DTSTAMP:20260424T235758
CREATED:20240105T231908Z
LAST-MODIFIED:20260423T153319Z
UID:10004142-1918891800-1918897200@foodinitiative.org
SUMMARY:FIGS Mobile Pantry-4th Tuesday of the Month
DESCRIPTION:
URL:https://foodinitiative.org/event/figs-mobile-pantry-5/2030-10-22/
LOCATION:Modesto Gospel Mission\, 1400 Yosemite Blvd\, Modesto\, CA\, 95354\, United States
END:VEVENT
BEGIN:VEVENT
DTSTART;TZID=UTC:20301126T093000
DTEND;TZID=UTC:20301126T110000
DTSTAMP:20260424T235758
CREATED:20240105T231908Z
LAST-MODIFIED:20260423T153319Z
UID:10004143-1921915800-1921921200@foodinitiative.org
SUMMARY:FIGS Mobile Pantry-4th Tuesday of the Month
DESCRIPTION:
URL:https://foodinitiative.org/event/figs-mobile-pantry-5/2030-11-26/
LOCATION:Modesto Gospel Mission\, 1400 Yosemite Blvd\, Modesto\, CA\, 95354\, United States
END:VEVENT
BEGIN:VEVENT
DTSTART;TZID=UTC:20301224T093000
DTEND;TZID=UTC:20301224T110000
DTSTAMP:20260424T235758
CREATED:20240105T231908Z
LAST-MODIFIED:20260423T153319Z
UID:10004144-1924335000-1924340400@foodinitiative.org
SUMMARY:FIGS Mobile Pantry-4th Tuesday of the Month
DESCRIPTION:
URL:https://foodinitiative.org/event/figs-mobile-pantry-5/2030-12-24/
LOCATION:Modesto Gospel Mission\, 1400 Yosemite Blvd\, Modesto\, CA\, 95354\, United States
END:VEVENT
BEGIN:VEVENT
DTSTART;TZID=UTC:20310128T093000
DTEND;TZID=UTC:20310128T110000
DTSTAMP:20260424T235758
CREATED:20240105T231908Z
LAST-MODIFIED:20260423T153319Z
UID:10004145-1927359000-1927364400@foodinitiative.org
SUMMARY:FIGS Mobile Pantry-4th Tuesday of the Month
DESCRIPTION:
URL:https://foodinitiative.org/event/figs-mobile-pantry-5/2031-01-28/
LOCATION:Modesto Gospel Mission\, 1400 Yosemite Blvd\, Modesto\, CA\, 95354\, United States
END:VEVENT
BEGIN:VEVENT
DTSTART;TZID=UTC:20310225T093000
DTEND;TZID=UTC:20310225T110000
DTSTAMP:20260424T235758
CREATED:20240105T231908Z
LAST-MODIFIED:20260423T153319Z
UID:10004146-1929778200-1929783600@foodinitiative.org
SUMMARY:FIGS Mobile Pantry-4th Tuesday of the Month
DESCRIPTION:
URL:https://foodinitiative.org/event/figs-mobile-pantry-5/2031-02-25/
LOCATION:Modesto Gospel Mission\, 1400 Yosemite Blvd\, Modesto\, CA\, 95354\, United States
END:VEVENT
BEGIN:VEVENT
DTSTART;TZID=UTC:20310325T093000
DTEND;TZID=UTC:20310325T110000
DTSTAMP:20260424T235758
CREATED:20240105T231908Z
LAST-MODIFIED:20260423T153319Z
UID:10004147-1932197400-1932202800@foodinitiative.org
SUMMARY:FIGS Mobile Pantry-4th Tuesday of the Month
DESCRIPTION:
URL:https://foodinitiative.org/event/figs-mobile-pantry-5/2031-03-25/
LOCATION:Modesto Gospel Mission\, 1400 Yosemite Blvd\, Modesto\, CA\, 95354\, United States
END:VEVENT
END:VCALENDAR