BEGIN:VCALENDAR
VERSION:2.0
PRODID:-//The Food Initiative - ECPv6.15.20//NONSGML v1.0//EN
CALSCALE:GREGORIAN
METHOD:PUBLISH
X-ORIGINAL-URL:https://foodinitiative.org
X-WR-CALDESC:Events for The Food Initiative
REFRESH-INTERVAL;VALUE=DURATION:PT1H
X-Robots-Tag:noindex
X-PUBLISHED-TTL:PT1H
BEGIN:VTIMEZONE
TZID:UTC
BEGIN:STANDARD
TZOFFSETFROM:+0000
TZOFFSETTO:+0000
TZNAME:UTC
DTSTART:20250101T000000
END:STANDARD
END:VTIMEZONE
BEGIN:VEVENT
DTSTART;TZID=UTC:20260428T093000
DTEND;TZID=UTC:20260428T110000
DTSTAMP:20260424T185051
CREATED:20240105T231908Z
LAST-MODIFIED:20260423T153319Z
UID:10004088-1777368600-1777374000@foodinitiative.org
SUMMARY:FIGS Mobile Pantry-4th Tuesday of the Month
DESCRIPTION:
URL:https://foodinitiative.org/event/figs-mobile-pantry-5/2026-04-28/
LOCATION:Modesto Gospel Mission\, 1400 Yosemite Blvd\, Modesto\, CA\, 95354\, United States
END:VEVENT
BEGIN:VEVENT
DTSTART;TZID=UTC:20260526T093000
DTEND;TZID=UTC:20260526T110000
DTSTAMP:20260424T185051
CREATED:20240105T231908Z
LAST-MODIFIED:20260423T153319Z
UID:10004089-1779787800-1779793200@foodinitiative.org
SUMMARY:FIGS Mobile Pantry-4th Tuesday of the Month
DESCRIPTION:
URL:https://foodinitiative.org/event/figs-mobile-pantry-5/2026-05-26/
LOCATION:Modesto Gospel Mission\, 1400 Yosemite Blvd\, Modesto\, CA\, 95354\, United States
END:VEVENT
BEGIN:VEVENT
DTSTART;TZID=UTC:20260623T093000
DTEND;TZID=UTC:20260623T110000
DTSTAMP:20260424T185051
CREATED:20240105T231908Z
LAST-MODIFIED:20260423T153319Z
UID:10004090-1782207000-1782212400@foodinitiative.org
SUMMARY:FIGS Mobile Pantry-4th Tuesday of the Month
DESCRIPTION:
URL:https://foodinitiative.org/event/figs-mobile-pantry-5/2026-06-23/
LOCATION:Modesto Gospel Mission\, 1400 Yosemite Blvd\, Modesto\, CA\, 95354\, United States
END:VEVENT
BEGIN:VEVENT
DTSTART;TZID=UTC:20260728T093000
DTEND;TZID=UTC:20260728T110000
DTSTAMP:20260424T185051
CREATED:20240105T231908Z
LAST-MODIFIED:20260423T153319Z
UID:10004091-1785231000-1785236400@foodinitiative.org
SUMMARY:FIGS Mobile Pantry-4th Tuesday of the Month
DESCRIPTION:
URL:https://foodinitiative.org/event/figs-mobile-pantry-5/2026-07-28/
LOCATION:Modesto Gospel Mission\, 1400 Yosemite Blvd\, Modesto\, CA\, 95354\, United States
END:VEVENT
BEGIN:VEVENT
DTSTART;TZID=UTC:20260825T093000
DTEND;TZID=UTC:20260825T110000
DTSTAMP:20260424T185051
CREATED:20240105T231908Z
LAST-MODIFIED:20260423T153319Z
UID:10004092-1787650200-1787655600@foodinitiative.org
SUMMARY:FIGS Mobile Pantry-4th Tuesday of the Month
DESCRIPTION:
URL:https://foodinitiative.org/event/figs-mobile-pantry-5/2026-08-25/
LOCATION:Modesto Gospel Mission\, 1400 Yosemite Blvd\, Modesto\, CA\, 95354\, United States
END:VEVENT
BEGIN:VEVENT
DTSTART;TZID=UTC:20260922T093000
DTEND;TZID=UTC:20260922T110000
DTSTAMP:20260424T185051
CREATED:20240105T231908Z
LAST-MODIFIED:20260423T153319Z
UID:10004093-1790069400-1790074800@foodinitiative.org
SUMMARY:FIGS Mobile Pantry-4th Tuesday of the Month
DESCRIPTION:
URL:https://foodinitiative.org/event/figs-mobile-pantry-5/2026-09-22/
LOCATION:Modesto Gospel Mission\, 1400 Yosemite Blvd\, Modesto\, CA\, 95354\, United States
END:VEVENT
BEGIN:VEVENT
DTSTART;TZID=UTC:20261027T093000
DTEND;TZID=UTC:20261027T110000
DTSTAMP:20260424T185051
CREATED:20240105T231908Z
LAST-MODIFIED:20260423T153319Z
UID:10004094-1793093400-1793098800@foodinitiative.org
SUMMARY:FIGS Mobile Pantry-4th Tuesday of the Month
DESCRIPTION:
URL:https://foodinitiative.org/event/figs-mobile-pantry-5/2026-10-27/
LOCATION:Modesto Gospel Mission\, 1400 Yosemite Blvd\, Modesto\, CA\, 95354\, United States
END:VEVENT
BEGIN:VEVENT
DTSTART;TZID=UTC:20261124T093000
DTEND;TZID=UTC:20261124T110000
DTSTAMP:20260424T185051
CREATED:20240105T231908Z
LAST-MODIFIED:20260423T153319Z
UID:10004095-1795512600-1795518000@foodinitiative.org
SUMMARY:FIGS Mobile Pantry-4th Tuesday of the Month
DESCRIPTION:
URL:https://foodinitiative.org/event/figs-mobile-pantry-5/2026-11-24/
LOCATION:Modesto Gospel Mission\, 1400 Yosemite Blvd\, Modesto\, CA\, 95354\, United States
END:VEVENT
BEGIN:VEVENT
DTSTART;TZID=UTC:20261222T093000
DTEND;TZID=UTC:20261222T110000
DTSTAMP:20260424T185051
CREATED:20240105T231908Z
LAST-MODIFIED:20260423T153319Z
UID:10004096-1797931800-1797937200@foodinitiative.org
SUMMARY:FIGS Mobile Pantry-4th Tuesday of the Month
DESCRIPTION:
URL:https://foodinitiative.org/event/figs-mobile-pantry-5/2026-12-22/
LOCATION:Modesto Gospel Mission\, 1400 Yosemite Blvd\, Modesto\, CA\, 95354\, United States
END:VEVENT
BEGIN:VEVENT
DTSTART;TZID=UTC:20270126T093000
DTEND;TZID=UTC:20270126T110000
DTSTAMP:20260424T185051
CREATED:20240105T231908Z
LAST-MODIFIED:20260423T153319Z
UID:10004097-1800955800-1800961200@foodinitiative.org
SUMMARY:FIGS Mobile Pantry-4th Tuesday of the Month
DESCRIPTION:
URL:https://foodinitiative.org/event/figs-mobile-pantry-5/2027-01-26/
LOCATION:Modesto Gospel Mission\, 1400 Yosemite Blvd\, Modesto\, CA\, 95354\, United States
END:VEVENT
BEGIN:VEVENT
DTSTART;TZID=UTC:20270223T093000
DTEND;TZID=UTC:20270223T110000
DTSTAMP:20260424T185051
CREATED:20240105T231908Z
LAST-MODIFIED:20260423T153319Z
UID:10004098-1803375000-1803380400@foodinitiative.org
SUMMARY:FIGS Mobile Pantry-4th Tuesday of the Month
DESCRIPTION:
URL:https://foodinitiative.org/event/figs-mobile-pantry-5/2027-02-23/
LOCATION:Modesto Gospel Mission\, 1400 Yosemite Blvd\, Modesto\, CA\, 95354\, United States
END:VEVENT
BEGIN:VEVENT
DTSTART;TZID=UTC:20270323T093000
DTEND;TZID=UTC:20270323T110000
DTSTAMP:20260424T185051
CREATED:20240105T231908Z
LAST-MODIFIED:20260423T153319Z
UID:10004099-1805794200-1805799600@foodinitiative.org
SUMMARY:FIGS Mobile Pantry-4th Tuesday of the Month
DESCRIPTION:
URL:https://foodinitiative.org/event/figs-mobile-pantry-5/2027-03-23/
LOCATION:Modesto Gospel Mission\, 1400 Yosemite Blvd\, Modesto\, CA\, 95354\, United States
END:VEVENT
BEGIN:VEVENT
DTSTART;TZID=UTC:20270427T093000
DTEND;TZID=UTC:20270427T110000
DTSTAMP:20260424T185051
CREATED:20240105T231908Z
LAST-MODIFIED:20260423T153319Z
UID:10004100-1808818200-1808823600@foodinitiative.org
SUMMARY:FIGS Mobile Pantry-4th Tuesday of the Month
DESCRIPTION:
URL:https://foodinitiative.org/event/figs-mobile-pantry-5/2027-04-27/
LOCATION:Modesto Gospel Mission\, 1400 Yosemite Blvd\, Modesto\, CA\, 95354\, United States
END:VEVENT
BEGIN:VEVENT
DTSTART;TZID=UTC:20270525T093000
DTEND;TZID=UTC:20270525T110000
DTSTAMP:20260424T185051
CREATED:20240105T231908Z
LAST-MODIFIED:20260423T153319Z
UID:10004101-1811237400-1811242800@foodinitiative.org
SUMMARY:FIGS Mobile Pantry-4th Tuesday of the Month
DESCRIPTION:
URL:https://foodinitiative.org/event/figs-mobile-pantry-5/2027-05-25/
LOCATION:Modesto Gospel Mission\, 1400 Yosemite Blvd\, Modesto\, CA\, 95354\, United States
END:VEVENT
BEGIN:VEVENT
DTSTART;TZID=UTC:20270622T093000
DTEND;TZID=UTC:20270622T110000
DTSTAMP:20260424T185051
CREATED:20240105T231908Z
LAST-MODIFIED:20260423T153319Z
UID:10004102-1813656600-1813662000@foodinitiative.org
SUMMARY:FIGS Mobile Pantry-4th Tuesday of the Month
DESCRIPTION:
URL:https://foodinitiative.org/event/figs-mobile-pantry-5/2027-06-22/
LOCATION:Modesto Gospel Mission\, 1400 Yosemite Blvd\, Modesto\, CA\, 95354\, United States
END:VEVENT
BEGIN:VEVENT
DTSTART;TZID=UTC:20270727T093000
DTEND;TZID=UTC:20270727T110000
DTSTAMP:20260424T185051
CREATED:20240105T231908Z
LAST-MODIFIED:20260423T153319Z
UID:10004103-1816680600-1816686000@foodinitiative.org
SUMMARY:FIGS Mobile Pantry-4th Tuesday of the Month
DESCRIPTION:
URL:https://foodinitiative.org/event/figs-mobile-pantry-5/2027-07-27/
LOCATION:Modesto Gospel Mission\, 1400 Yosemite Blvd\, Modesto\, CA\, 95354\, United States
END:VEVENT
BEGIN:VEVENT
DTSTART;TZID=UTC:20270824T093000
DTEND;TZID=UTC:20270824T110000
DTSTAMP:20260424T185051
CREATED:20240105T231908Z
LAST-MODIFIED:20260423T153319Z
UID:10004104-1819099800-1819105200@foodinitiative.org
SUMMARY:FIGS Mobile Pantry-4th Tuesday of the Month
DESCRIPTION:
URL:https://foodinitiative.org/event/figs-mobile-pantry-5/2027-08-24/
LOCATION:Modesto Gospel Mission\, 1400 Yosemite Blvd\, Modesto\, CA\, 95354\, United States
END:VEVENT
BEGIN:VEVENT
DTSTART;TZID=UTC:20270928T093000
DTEND;TZID=UTC:20270928T110000
DTSTAMP:20260424T185051
CREATED:20240105T231908Z
LAST-MODIFIED:20260423T153319Z
UID:10004105-1822123800-1822129200@foodinitiative.org
SUMMARY:FIGS Mobile Pantry-4th Tuesday of the Month
DESCRIPTION:
URL:https://foodinitiative.org/event/figs-mobile-pantry-5/2027-09-28/
LOCATION:Modesto Gospel Mission\, 1400 Yosemite Blvd\, Modesto\, CA\, 95354\, United States
END:VEVENT
BEGIN:VEVENT
DTSTART;TZID=UTC:20271026T093000
DTEND;TZID=UTC:20271026T110000
DTSTAMP:20260424T185051
CREATED:20240105T231908Z
LAST-MODIFIED:20260423T153319Z
UID:10004106-1824543000-1824548400@foodinitiative.org
SUMMARY:FIGS Mobile Pantry-4th Tuesday of the Month
DESCRIPTION:
URL:https://foodinitiative.org/event/figs-mobile-pantry-5/2027-10-26/
LOCATION:Modesto Gospel Mission\, 1400 Yosemite Blvd\, Modesto\, CA\, 95354\, United States
END:VEVENT
BEGIN:VEVENT
DTSTART;TZID=UTC:20271123T093000
DTEND;TZID=UTC:20271123T110000
DTSTAMP:20260424T185051
CREATED:20240105T231908Z
LAST-MODIFIED:20260423T153319Z
UID:10004107-1826962200-1826967600@foodinitiative.org
SUMMARY:FIGS Mobile Pantry-4th Tuesday of the Month
DESCRIPTION:
URL:https://foodinitiative.org/event/figs-mobile-pantry-5/2027-11-23/
LOCATION:Modesto Gospel Mission\, 1400 Yosemite Blvd\, Modesto\, CA\, 95354\, United States
END:VEVENT
BEGIN:VEVENT
DTSTART;TZID=UTC:20271228T093000
DTEND;TZID=UTC:20271228T110000
DTSTAMP:20260424T185051
CREATED:20240105T231908Z
LAST-MODIFIED:20260423T153319Z
UID:10004108-1829986200-1829991600@foodinitiative.org
SUMMARY:FIGS Mobile Pantry-4th Tuesday of the Month
DESCRIPTION:
URL:https://foodinitiative.org/event/figs-mobile-pantry-5/2027-12-28/
LOCATION:Modesto Gospel Mission\, 1400 Yosemite Blvd\, Modesto\, CA\, 95354\, United States
END:VEVENT
BEGIN:VEVENT
DTSTART;TZID=UTC:20280125T093000
DTEND;TZID=UTC:20280125T110000
DTSTAMP:20260424T185051
CREATED:20240105T231908Z
LAST-MODIFIED:20260423T153319Z
UID:10004109-1832405400-1832410800@foodinitiative.org
SUMMARY:FIGS Mobile Pantry-4th Tuesday of the Month
DESCRIPTION:
URL:https://foodinitiative.org/event/figs-mobile-pantry-5/2028-01-25/
LOCATION:Modesto Gospel Mission\, 1400 Yosemite Blvd\, Modesto\, CA\, 95354\, United States
END:VEVENT
BEGIN:VEVENT
DTSTART;TZID=UTC:20280222T093000
DTEND;TZID=UTC:20280222T110000
DTSTAMP:20260424T185051
CREATED:20240105T231908Z
LAST-MODIFIED:20260423T153319Z
UID:10004110-1834824600-1834830000@foodinitiative.org
SUMMARY:FIGS Mobile Pantry-4th Tuesday of the Month
DESCRIPTION:
URL:https://foodinitiative.org/event/figs-mobile-pantry-5/2028-02-22/
LOCATION:Modesto Gospel Mission\, 1400 Yosemite Blvd\, Modesto\, CA\, 95354\, United States
END:VEVENT
BEGIN:VEVENT
DTSTART;TZID=UTC:20280328T093000
DTEND;TZID=UTC:20280328T110000
DTSTAMP:20260424T185051
CREATED:20240105T231908Z
LAST-MODIFIED:20260423T153319Z
UID:10004111-1837848600-1837854000@foodinitiative.org
SUMMARY:FIGS Mobile Pantry-4th Tuesday of the Month
DESCRIPTION:
URL:https://foodinitiative.org/event/figs-mobile-pantry-5/2028-03-28/
LOCATION:Modesto Gospel Mission\, 1400 Yosemite Blvd\, Modesto\, CA\, 95354\, United States
END:VEVENT
BEGIN:VEVENT
DTSTART;TZID=UTC:20280425T093000
DTEND;TZID=UTC:20280425T110000
DTSTAMP:20260424T185051
CREATED:20240105T231908Z
LAST-MODIFIED:20260423T153319Z
UID:10004112-1840267800-1840273200@foodinitiative.org
SUMMARY:FIGS Mobile Pantry-4th Tuesday of the Month
DESCRIPTION:
URL:https://foodinitiative.org/event/figs-mobile-pantry-5/2028-04-25/
LOCATION:Modesto Gospel Mission\, 1400 Yosemite Blvd\, Modesto\, CA\, 95354\, United States
END:VEVENT
BEGIN:VEVENT
DTSTART;TZID=UTC:20280523T093000
DTEND;TZID=UTC:20280523T110000
DTSTAMP:20260424T185051
CREATED:20240105T231908Z
LAST-MODIFIED:20260423T153319Z
UID:10004113-1842687000-1842692400@foodinitiative.org
SUMMARY:FIGS Mobile Pantry-4th Tuesday of the Month
DESCRIPTION:
URL:https://foodinitiative.org/event/figs-mobile-pantry-5/2028-05-23/
LOCATION:Modesto Gospel Mission\, 1400 Yosemite Blvd\, Modesto\, CA\, 95354\, United States
END:VEVENT
BEGIN:VEVENT
DTSTART;TZID=UTC:20280627T093000
DTEND;TZID=UTC:20280627T110000
DTSTAMP:20260424T185051
CREATED:20240105T231908Z
LAST-MODIFIED:20260423T153319Z
UID:10004114-1845711000-1845716400@foodinitiative.org
SUMMARY:FIGS Mobile Pantry-4th Tuesday of the Month
DESCRIPTION:
URL:https://foodinitiative.org/event/figs-mobile-pantry-5/2028-06-27/
LOCATION:Modesto Gospel Mission\, 1400 Yosemite Blvd\, Modesto\, CA\, 95354\, United States
END:VEVENT
BEGIN:VEVENT
DTSTART;TZID=UTC:20280725T093000
DTEND;TZID=UTC:20280725T110000
DTSTAMP:20260424T185051
CREATED:20240105T231908Z
LAST-MODIFIED:20260423T153319Z
UID:10004115-1848130200-1848135600@foodinitiative.org
SUMMARY:FIGS Mobile Pantry-4th Tuesday of the Month
DESCRIPTION:
URL:https://foodinitiative.org/event/figs-mobile-pantry-5/2028-07-25/
LOCATION:Modesto Gospel Mission\, 1400 Yosemite Blvd\, Modesto\, CA\, 95354\, United States
END:VEVENT
BEGIN:VEVENT
DTSTART;TZID=UTC:20280822T093000
DTEND;TZID=UTC:20280822T110000
DTSTAMP:20260424T185051
CREATED:20240105T231908Z
LAST-MODIFIED:20260423T153319Z
UID:10004116-1850549400-1850554800@foodinitiative.org
SUMMARY:FIGS Mobile Pantry-4th Tuesday of the Month
DESCRIPTION:
URL:https://foodinitiative.org/event/figs-mobile-pantry-5/2028-08-22/
LOCATION:Modesto Gospel Mission\, 1400 Yosemite Blvd\, Modesto\, CA\, 95354\, United States
END:VEVENT
BEGIN:VEVENT
DTSTART;TZID=UTC:20280926T093000
DTEND;TZID=UTC:20280926T110000
DTSTAMP:20260424T185051
CREATED:20240105T231908Z
LAST-MODIFIED:20260423T153319Z
UID:10004117-1853573400-1853578800@foodinitiative.org
SUMMARY:FIGS Mobile Pantry-4th Tuesday of the Month
DESCRIPTION:
URL:https://foodinitiative.org/event/figs-mobile-pantry-5/2028-09-26/
LOCATION:Modesto Gospel Mission\, 1400 Yosemite Blvd\, Modesto\, CA\, 95354\, United States
END:VEVENT
END:VCALENDAR