BEGIN:VCALENDAR
VERSION:2.0
PRODID:-//The Food Initiative - ECPv6.15.20//NONSGML v1.0//EN
CALSCALE:GREGORIAN
METHOD:PUBLISH
X-WR-CALNAME:The Food Initiative
X-ORIGINAL-URL:https://foodinitiative.org
X-WR-CALDESC:Events for The Food Initiative
REFRESH-INTERVAL;VALUE=DURATION:PT1H
X-Robots-Tag:noindex
X-PUBLISHED-TTL:PT1H
BEGIN:VTIMEZONE
TZID:UTC
BEGIN:STANDARD
TZOFFSETFROM:+0000
TZOFFSETTO:+0000
TZNAME:UTC
DTSTART:20250101T000000
END:STANDARD
END:VTIMEZONE
BEGIN:VEVENT
DTSTART;TZID=UTC:20260505T160000
DTEND;TZID=UTC:20260505T170000
DTSTAMP:20260424T183939
CREATED:20240105T222051Z
LAST-MODIFIED:20250407T205111Z
UID:10000845-1777996800-1778000400@foodinitiative.org
SUMMARY:FIGS Mobile Pantry-1st Tuesday of the Month
DESCRIPTION:
URL:https://foodinitiative.org/event/figs-mobile-pantry-10/2026-05-05/
LOCATION:Johansen High School\, 641 Norseman Dr\, Modesto\, CA\, 95357\, United States
END:VEVENT
BEGIN:VEVENT
DTSTART;TZID=UTC:20260602T160000
DTEND;TZID=UTC:20260602T170000
DTSTAMP:20260424T183939
CREATED:20240105T222051Z
LAST-MODIFIED:20250407T205111Z
UID:10000846-1780416000-1780419600@foodinitiative.org
SUMMARY:FIGS Mobile Pantry-1st Tuesday of the Month
DESCRIPTION:
URL:https://foodinitiative.org/event/figs-mobile-pantry-10/2026-06-02/
LOCATION:Johansen High School\, 641 Norseman Dr\, Modesto\, CA\, 95357\, United States
END:VEVENT
BEGIN:VEVENT
DTSTART;TZID=UTC:20260707T160000
DTEND;TZID=UTC:20260707T170000
DTSTAMP:20260424T183939
CREATED:20240105T222051Z
LAST-MODIFIED:20250407T205111Z
UID:10000847-1783440000-1783443600@foodinitiative.org
SUMMARY:FIGS Mobile Pantry-1st Tuesday of the Month
DESCRIPTION:
URL:https://foodinitiative.org/event/figs-mobile-pantry-10/2026-07-07/
LOCATION:Johansen High School\, 641 Norseman Dr\, Modesto\, CA\, 95357\, United States
END:VEVENT
BEGIN:VEVENT
DTSTART;TZID=UTC:20260804T160000
DTEND;TZID=UTC:20260804T170000
DTSTAMP:20260424T183939
CREATED:20240105T222051Z
LAST-MODIFIED:20250407T205111Z
UID:10000848-1785859200-1785862800@foodinitiative.org
SUMMARY:FIGS Mobile Pantry-1st Tuesday of the Month
DESCRIPTION:
URL:https://foodinitiative.org/event/figs-mobile-pantry-10/2026-08-04/
LOCATION:Johansen High School\, 641 Norseman Dr\, Modesto\, CA\, 95357\, United States
END:VEVENT
BEGIN:VEVENT
DTSTART;TZID=UTC:20260901T160000
DTEND;TZID=UTC:20260901T170000
DTSTAMP:20260424T183939
CREATED:20240105T222051Z
LAST-MODIFIED:20250407T205111Z
UID:10000849-1788278400-1788282000@foodinitiative.org
SUMMARY:FIGS Mobile Pantry-1st Tuesday of the Month
DESCRIPTION:
URL:https://foodinitiative.org/event/figs-mobile-pantry-10/2026-09-01/
LOCATION:Johansen High School\, 641 Norseman Dr\, Modesto\, CA\, 95357\, United States
END:VEVENT
BEGIN:VEVENT
DTSTART;TZID=UTC:20261006T160000
DTEND;TZID=UTC:20261006T170000
DTSTAMP:20260424T183939
CREATED:20240105T222051Z
LAST-MODIFIED:20250407T205111Z
UID:10000850-1791302400-1791306000@foodinitiative.org
SUMMARY:FIGS Mobile Pantry-1st Tuesday of the Month
DESCRIPTION:
URL:https://foodinitiative.org/event/figs-mobile-pantry-10/2026-10-06/
LOCATION:Johansen High School\, 641 Norseman Dr\, Modesto\, CA\, 95357\, United States
END:VEVENT
BEGIN:VEVENT
DTSTART;TZID=UTC:20261103T160000
DTEND;TZID=UTC:20261103T170000
DTSTAMP:20260424T183939
CREATED:20240105T222051Z
LAST-MODIFIED:20250407T205111Z
UID:10000851-1793721600-1793725200@foodinitiative.org
SUMMARY:FIGS Mobile Pantry-1st Tuesday of the Month
DESCRIPTION:
URL:https://foodinitiative.org/event/figs-mobile-pantry-10/2026-11-03/
LOCATION:Johansen High School\, 641 Norseman Dr\, Modesto\, CA\, 95357\, United States
END:VEVENT
BEGIN:VEVENT
DTSTART;TZID=UTC:20261201T160000
DTEND;TZID=UTC:20261201T170000
DTSTAMP:20260424T183939
CREATED:20240105T222051Z
LAST-MODIFIED:20250407T205111Z
UID:10000852-1796140800-1796144400@foodinitiative.org
SUMMARY:FIGS Mobile Pantry-1st Tuesday of the Month
DESCRIPTION:
URL:https://foodinitiative.org/event/figs-mobile-pantry-10/2026-12-01/
LOCATION:Johansen High School\, 641 Norseman Dr\, Modesto\, CA\, 95357\, United States
END:VEVENT
BEGIN:VEVENT
DTSTART;TZID=UTC:20270105T160000
DTEND;TZID=UTC:20270105T170000
DTSTAMP:20260424T183939
CREATED:20240105T222051Z
LAST-MODIFIED:20250407T205111Z
UID:10000853-1799164800-1799168400@foodinitiative.org
SUMMARY:FIGS Mobile Pantry-1st Tuesday of the Month
DESCRIPTION:
URL:https://foodinitiative.org/event/figs-mobile-pantry-10/2027-01-05/
LOCATION:Johansen High School\, 641 Norseman Dr\, Modesto\, CA\, 95357\, United States
END:VEVENT
BEGIN:VEVENT
DTSTART;TZID=UTC:20270202T160000
DTEND;TZID=UTC:20270202T170000
DTSTAMP:20260424T183939
CREATED:20240105T222051Z
LAST-MODIFIED:20250407T205111Z
UID:10000854-1801584000-1801587600@foodinitiative.org
SUMMARY:FIGS Mobile Pantry-1st Tuesday of the Month
DESCRIPTION:
URL:https://foodinitiative.org/event/figs-mobile-pantry-10/2027-02-02/
LOCATION:Johansen High School\, 641 Norseman Dr\, Modesto\, CA\, 95357\, United States
END:VEVENT
BEGIN:VEVENT
DTSTART;TZID=UTC:20270302T160000
DTEND;TZID=UTC:20270302T170000
DTSTAMP:20260424T183939
CREATED:20240105T222051Z
LAST-MODIFIED:20250407T205111Z
UID:10000855-1804003200-1804006800@foodinitiative.org
SUMMARY:FIGS Mobile Pantry-1st Tuesday of the Month
DESCRIPTION:
URL:https://foodinitiative.org/event/figs-mobile-pantry-10/2027-03-02/
LOCATION:Johansen High School\, 641 Norseman Dr\, Modesto\, CA\, 95357\, United States
END:VEVENT
BEGIN:VEVENT
DTSTART;TZID=UTC:20270406T160000
DTEND;TZID=UTC:20270406T170000
DTSTAMP:20260424T183939
CREATED:20240105T222051Z
LAST-MODIFIED:20250407T205111Z
UID:10000856-1807027200-1807030800@foodinitiative.org
SUMMARY:FIGS Mobile Pantry-1st Tuesday of the Month
DESCRIPTION:
URL:https://foodinitiative.org/event/figs-mobile-pantry-10/2027-04-06/
LOCATION:Johansen High School\, 641 Norseman Dr\, Modesto\, CA\, 95357\, United States
END:VEVENT
BEGIN:VEVENT
DTSTART;TZID=UTC:20270504T160000
DTEND;TZID=UTC:20270504T170000
DTSTAMP:20260424T183939
CREATED:20240105T222051Z
LAST-MODIFIED:20250407T205111Z
UID:10000857-1809446400-1809450000@foodinitiative.org
SUMMARY:FIGS Mobile Pantry-1st Tuesday of the Month
DESCRIPTION:
URL:https://foodinitiative.org/event/figs-mobile-pantry-10/2027-05-04/
LOCATION:Johansen High School\, 641 Norseman Dr\, Modesto\, CA\, 95357\, United States
END:VEVENT
BEGIN:VEVENT
DTSTART;TZID=UTC:20270601T160000
DTEND;TZID=UTC:20270601T170000
DTSTAMP:20260424T183939
CREATED:20240105T222051Z
LAST-MODIFIED:20250407T205111Z
UID:10000858-1811865600-1811869200@foodinitiative.org
SUMMARY:FIGS Mobile Pantry-1st Tuesday of the Month
DESCRIPTION:
URL:https://foodinitiative.org/event/figs-mobile-pantry-10/2027-06-01/
LOCATION:Johansen High School\, 641 Norseman Dr\, Modesto\, CA\, 95357\, United States
END:VEVENT
BEGIN:VEVENT
DTSTART;TZID=UTC:20270706T160000
DTEND;TZID=UTC:20270706T170000
DTSTAMP:20260424T183939
CREATED:20240105T222051Z
LAST-MODIFIED:20250407T205111Z
UID:10000859-1814889600-1814893200@foodinitiative.org
SUMMARY:FIGS Mobile Pantry-1st Tuesday of the Month
DESCRIPTION:
URL:https://foodinitiative.org/event/figs-mobile-pantry-10/2027-07-06/
LOCATION:Johansen High School\, 641 Norseman Dr\, Modesto\, CA\, 95357\, United States
END:VEVENT
BEGIN:VEVENT
DTSTART;TZID=UTC:20270803T160000
DTEND;TZID=UTC:20270803T170000
DTSTAMP:20260424T183939
CREATED:20240105T222051Z
LAST-MODIFIED:20250407T205111Z
UID:10000860-1817308800-1817312400@foodinitiative.org
SUMMARY:FIGS Mobile Pantry-1st Tuesday of the Month
DESCRIPTION:
URL:https://foodinitiative.org/event/figs-mobile-pantry-10/2027-08-03/
LOCATION:Johansen High School\, 641 Norseman Dr\, Modesto\, CA\, 95357\, United States
END:VEVENT
BEGIN:VEVENT
DTSTART;TZID=UTC:20270907T160000
DTEND;TZID=UTC:20270907T170000
DTSTAMP:20260424T183939
CREATED:20240105T222051Z
LAST-MODIFIED:20250407T205111Z
UID:10000861-1820332800-1820336400@foodinitiative.org
SUMMARY:FIGS Mobile Pantry-1st Tuesday of the Month
DESCRIPTION:
URL:https://foodinitiative.org/event/figs-mobile-pantry-10/2027-09-07/
LOCATION:Johansen High School\, 641 Norseman Dr\, Modesto\, CA\, 95357\, United States
END:VEVENT
BEGIN:VEVENT
DTSTART;TZID=UTC:20271005T160000
DTEND;TZID=UTC:20271005T170000
DTSTAMP:20260424T183939
CREATED:20240105T222051Z
LAST-MODIFIED:20250407T205111Z
UID:10000862-1822752000-1822755600@foodinitiative.org
SUMMARY:FIGS Mobile Pantry-1st Tuesday of the Month
DESCRIPTION:
URL:https://foodinitiative.org/event/figs-mobile-pantry-10/2027-10-05/
LOCATION:Johansen High School\, 641 Norseman Dr\, Modesto\, CA\, 95357\, United States
END:VEVENT
BEGIN:VEVENT
DTSTART;TZID=UTC:20271102T160000
DTEND;TZID=UTC:20271102T170000
DTSTAMP:20260424T183939
CREATED:20240105T222051Z
LAST-MODIFIED:20250407T205111Z
UID:10000863-1825171200-1825174800@foodinitiative.org
SUMMARY:FIGS Mobile Pantry-1st Tuesday of the Month
DESCRIPTION:
URL:https://foodinitiative.org/event/figs-mobile-pantry-10/2027-11-02/
LOCATION:Johansen High School\, 641 Norseman Dr\, Modesto\, CA\, 95357\, United States
END:VEVENT
BEGIN:VEVENT
DTSTART;TZID=UTC:20271207T160000
DTEND;TZID=UTC:20271207T170000
DTSTAMP:20260424T183939
CREATED:20240105T222051Z
LAST-MODIFIED:20250407T205111Z
UID:10000864-1828195200-1828198800@foodinitiative.org
SUMMARY:FIGS Mobile Pantry-1st Tuesday of the Month
DESCRIPTION:
URL:https://foodinitiative.org/event/figs-mobile-pantry-10/2027-12-07/
LOCATION:Johansen High School\, 641 Norseman Dr\, Modesto\, CA\, 95357\, United States
END:VEVENT
BEGIN:VEVENT
DTSTART;TZID=UTC:20280104T160000
DTEND;TZID=UTC:20280104T170000
DTSTAMP:20260424T183939
CREATED:20240105T222051Z
LAST-MODIFIED:20250407T205111Z
UID:10000865-1830614400-1830618000@foodinitiative.org
SUMMARY:FIGS Mobile Pantry-1st Tuesday of the Month
DESCRIPTION:
URL:https://foodinitiative.org/event/figs-mobile-pantry-10/2028-01-04/
LOCATION:Johansen High School\, 641 Norseman Dr\, Modesto\, CA\, 95357\, United States
END:VEVENT
BEGIN:VEVENT
DTSTART;TZID=UTC:20280201T160000
DTEND;TZID=UTC:20280201T170000
DTSTAMP:20260424T183939
CREATED:20240105T222051Z
LAST-MODIFIED:20250407T205111Z
UID:10000866-1833033600-1833037200@foodinitiative.org
SUMMARY:FIGS Mobile Pantry-1st Tuesday of the Month
DESCRIPTION:
URL:https://foodinitiative.org/event/figs-mobile-pantry-10/2028-02-01/
LOCATION:Johansen High School\, 641 Norseman Dr\, Modesto\, CA\, 95357\, United States
END:VEVENT
BEGIN:VEVENT
DTSTART;TZID=UTC:20280307T160000
DTEND;TZID=UTC:20280307T170000
DTSTAMP:20260424T183939
CREATED:20240105T222051Z
LAST-MODIFIED:20250407T205111Z
UID:10000867-1836057600-1836061200@foodinitiative.org
SUMMARY:FIGS Mobile Pantry-1st Tuesday of the Month
DESCRIPTION:
URL:https://foodinitiative.org/event/figs-mobile-pantry-10/2028-03-07/
LOCATION:Johansen High School\, 641 Norseman Dr\, Modesto\, CA\, 95357\, United States
END:VEVENT
BEGIN:VEVENT
DTSTART;TZID=UTC:20280404T160000
DTEND;TZID=UTC:20280404T170000
DTSTAMP:20260424T183939
CREATED:20240105T222051Z
LAST-MODIFIED:20250407T205111Z
UID:10000868-1838476800-1838480400@foodinitiative.org
SUMMARY:FIGS Mobile Pantry-1st Tuesday of the Month
DESCRIPTION:
URL:https://foodinitiative.org/event/figs-mobile-pantry-10/2028-04-04/
LOCATION:Johansen High School\, 641 Norseman Dr\, Modesto\, CA\, 95357\, United States
END:VEVENT
BEGIN:VEVENT
DTSTART;TZID=UTC:20280502T160000
DTEND;TZID=UTC:20280502T170000
DTSTAMP:20260424T183939
CREATED:20240105T222051Z
LAST-MODIFIED:20250407T205111Z
UID:10000869-1840896000-1840899600@foodinitiative.org
SUMMARY:FIGS Mobile Pantry-1st Tuesday of the Month
DESCRIPTION:
URL:https://foodinitiative.org/event/figs-mobile-pantry-10/2028-05-02/
LOCATION:Johansen High School\, 641 Norseman Dr\, Modesto\, CA\, 95357\, United States
END:VEVENT
BEGIN:VEVENT
DTSTART;TZID=UTC:20280606T160000
DTEND;TZID=UTC:20280606T170000
DTSTAMP:20260424T183939
CREATED:20240105T222051Z
LAST-MODIFIED:20250407T205111Z
UID:10000870-1843920000-1843923600@foodinitiative.org
SUMMARY:FIGS Mobile Pantry-1st Tuesday of the Month
DESCRIPTION:
URL:https://foodinitiative.org/event/figs-mobile-pantry-10/2028-06-06/
LOCATION:Johansen High School\, 641 Norseman Dr\, Modesto\, CA\, 95357\, United States
END:VEVENT
BEGIN:VEVENT
DTSTART;TZID=UTC:20280704T160000
DTEND;TZID=UTC:20280704T170000
DTSTAMP:20260424T183939
CREATED:20240105T222051Z
LAST-MODIFIED:20250407T205111Z
UID:10000871-1846339200-1846342800@foodinitiative.org
SUMMARY:FIGS Mobile Pantry-1st Tuesday of the Month
DESCRIPTION:
URL:https://foodinitiative.org/event/figs-mobile-pantry-10/2028-07-04/
LOCATION:Johansen High School\, 641 Norseman Dr\, Modesto\, CA\, 95357\, United States
END:VEVENT
BEGIN:VEVENT
DTSTART;TZID=UTC:20280801T160000
DTEND;TZID=UTC:20280801T170000
DTSTAMP:20260424T183939
CREATED:20240105T222051Z
LAST-MODIFIED:20250407T205111Z
UID:10000872-1848758400-1848762000@foodinitiative.org
SUMMARY:FIGS Mobile Pantry-1st Tuesday of the Month
DESCRIPTION:
URL:https://foodinitiative.org/event/figs-mobile-pantry-10/2028-08-01/
LOCATION:Johansen High School\, 641 Norseman Dr\, Modesto\, CA\, 95357\, United States
END:VEVENT
BEGIN:VEVENT
DTSTART;TZID=UTC:20280905T160000
DTEND;TZID=UTC:20280905T170000
DTSTAMP:20260424T183939
CREATED:20240105T222051Z
LAST-MODIFIED:20250407T205111Z
UID:10000873-1851782400-1851786000@foodinitiative.org
SUMMARY:FIGS Mobile Pantry-1st Tuesday of the Month
DESCRIPTION:
URL:https://foodinitiative.org/event/figs-mobile-pantry-10/2028-09-05/
LOCATION:Johansen High School\, 641 Norseman Dr\, Modesto\, CA\, 95357\, United States
END:VEVENT
BEGIN:VEVENT
DTSTART;TZID=UTC:20281003T160000
DTEND;TZID=UTC:20281003T170000
DTSTAMP:20260424T183939
CREATED:20240105T222051Z
LAST-MODIFIED:20250407T205111Z
UID:10000874-1854201600-1854205200@foodinitiative.org
SUMMARY:FIGS Mobile Pantry-1st Tuesday of the Month
DESCRIPTION:
URL:https://foodinitiative.org/event/figs-mobile-pantry-10/2028-10-03/
LOCATION:Johansen High School\, 641 Norseman Dr\, Modesto\, CA\, 95357\, United States
END:VEVENT
END:VCALENDAR