BEGIN:VCALENDAR
VERSION:2.0
PRODID:-//The Food Initiative - ECPv6.15.20//NONSGML v1.0//EN
CALSCALE:GREGORIAN
METHOD:PUBLISH
X-WR-CALNAME:The Food Initiative
X-ORIGINAL-URL:https://foodinitiative.org
X-WR-CALDESC:Events for The Food Initiative
REFRESH-INTERVAL;VALUE=DURATION:PT1H
X-Robots-Tag:noindex
X-PUBLISHED-TTL:PT1H
BEGIN:VTIMEZONE
TZID:UTC
BEGIN:STANDARD
TZOFFSETFROM:+0000
TZOFFSETTO:+0000
TZNAME:UTC
DTSTART:20270101T000000
END:STANDARD
END:VTIMEZONE
BEGIN:VEVENT
DTSTART;TZID=UTC:20280107T093000
DTEND;TZID=UTC:20280107T110000
DTSTAMP:20260424T213858
CREATED:20240105T235104Z
LAST-MODIFIED:20260423T153221Z
UID:10003991-1830850200-1830855600@foodinitiative.org
SUMMARY:FIGS Mobile Pantry-1st Friday of the Month
DESCRIPTION:
URL:https://foodinitiative.org/event/figs-mobile-pantry-13/2028-01-07/
LOCATION:Modesto Gospel Mission\, 1400 Yosemite Blvd\, Modesto\, CA\, 95354\, United States
END:VEVENT
BEGIN:VEVENT
DTSTART;TZID=UTC:20280204T093000
DTEND;TZID=UTC:20280204T110000
DTSTAMP:20260424T213858
CREATED:20240105T235104Z
LAST-MODIFIED:20260423T153221Z
UID:10003992-1833269400-1833274800@foodinitiative.org
SUMMARY:FIGS Mobile Pantry-1st Friday of the Month
DESCRIPTION:
URL:https://foodinitiative.org/event/figs-mobile-pantry-13/2028-02-04/
LOCATION:Modesto Gospel Mission\, 1400 Yosemite Blvd\, Modesto\, CA\, 95354\, United States
END:VEVENT
BEGIN:VEVENT
DTSTART;TZID=UTC:20280303T093000
DTEND;TZID=UTC:20280303T110000
DTSTAMP:20260424T213858
CREATED:20240105T235104Z
LAST-MODIFIED:20260423T153221Z
UID:10003993-1835688600-1835694000@foodinitiative.org
SUMMARY:FIGS Mobile Pantry-1st Friday of the Month
DESCRIPTION:
URL:https://foodinitiative.org/event/figs-mobile-pantry-13/2028-03-03/
LOCATION:Modesto Gospel Mission\, 1400 Yosemite Blvd\, Modesto\, CA\, 95354\, United States
END:VEVENT
BEGIN:VEVENT
DTSTART;TZID=UTC:20280407T093000
DTEND;TZID=UTC:20280407T110000
DTSTAMP:20260424T213858
CREATED:20240105T235104Z
LAST-MODIFIED:20260423T153221Z
UID:10003994-1838712600-1838718000@foodinitiative.org
SUMMARY:FIGS Mobile Pantry-1st Friday of the Month
DESCRIPTION:
URL:https://foodinitiative.org/event/figs-mobile-pantry-13/2028-04-07/
LOCATION:Modesto Gospel Mission\, 1400 Yosemite Blvd\, Modesto\, CA\, 95354\, United States
END:VEVENT
BEGIN:VEVENT
DTSTART;TZID=UTC:20280505T093000
DTEND;TZID=UTC:20280505T110000
DTSTAMP:20260424T213858
CREATED:20240105T235104Z
LAST-MODIFIED:20260423T153221Z
UID:10003995-1841131800-1841137200@foodinitiative.org
SUMMARY:FIGS Mobile Pantry-1st Friday of the Month
DESCRIPTION:
URL:https://foodinitiative.org/event/figs-mobile-pantry-13/2028-05-05/
LOCATION:Modesto Gospel Mission\, 1400 Yosemite Blvd\, Modesto\, CA\, 95354\, United States
END:VEVENT
BEGIN:VEVENT
DTSTART;TZID=UTC:20280602T093000
DTEND;TZID=UTC:20280602T110000
DTSTAMP:20260424T213858
CREATED:20240105T235104Z
LAST-MODIFIED:20260423T153221Z
UID:10003996-1843551000-1843556400@foodinitiative.org
SUMMARY:FIGS Mobile Pantry-1st Friday of the Month
DESCRIPTION:
URL:https://foodinitiative.org/event/figs-mobile-pantry-13/2028-06-02/
LOCATION:Modesto Gospel Mission\, 1400 Yosemite Blvd\, Modesto\, CA\, 95354\, United States
END:VEVENT
BEGIN:VEVENT
DTSTART;TZID=UTC:20280707T093000
DTEND;TZID=UTC:20280707T110000
DTSTAMP:20260424T213858
CREATED:20240105T235104Z
LAST-MODIFIED:20260423T153221Z
UID:10003997-1846575000-1846580400@foodinitiative.org
SUMMARY:FIGS Mobile Pantry-1st Friday of the Month
DESCRIPTION:
URL:https://foodinitiative.org/event/figs-mobile-pantry-13/2028-07-07/
LOCATION:Modesto Gospel Mission\, 1400 Yosemite Blvd\, Modesto\, CA\, 95354\, United States
END:VEVENT
BEGIN:VEVENT
DTSTART;TZID=UTC:20280804T093000
DTEND;TZID=UTC:20280804T110000
DTSTAMP:20260424T213858
CREATED:20240105T235104Z
LAST-MODIFIED:20260423T153221Z
UID:10003998-1848994200-1848999600@foodinitiative.org
SUMMARY:FIGS Mobile Pantry-1st Friday of the Month
DESCRIPTION:
URL:https://foodinitiative.org/event/figs-mobile-pantry-13/2028-08-04/
LOCATION:Modesto Gospel Mission\, 1400 Yosemite Blvd\, Modesto\, CA\, 95354\, United States
END:VEVENT
BEGIN:VEVENT
DTSTART;TZID=UTC:20280901T093000
DTEND;TZID=UTC:20280901T110000
DTSTAMP:20260424T213858
CREATED:20240105T235104Z
LAST-MODIFIED:20260423T153221Z
UID:10003999-1851413400-1851418800@foodinitiative.org
SUMMARY:FIGS Mobile Pantry-1st Friday of the Month
DESCRIPTION:
URL:https://foodinitiative.org/event/figs-mobile-pantry-13/2028-09-01/
LOCATION:Modesto Gospel Mission\, 1400 Yosemite Blvd\, Modesto\, CA\, 95354\, United States
END:VEVENT
BEGIN:VEVENT
DTSTART;TZID=UTC:20281006T093000
DTEND;TZID=UTC:20281006T110000
DTSTAMP:20260424T213858
CREATED:20240105T235104Z
LAST-MODIFIED:20260423T153221Z
UID:10004000-1854437400-1854442800@foodinitiative.org
SUMMARY:FIGS Mobile Pantry-1st Friday of the Month
DESCRIPTION:
URL:https://foodinitiative.org/event/figs-mobile-pantry-13/2028-10-06/
LOCATION:Modesto Gospel Mission\, 1400 Yosemite Blvd\, Modesto\, CA\, 95354\, United States
END:VEVENT
BEGIN:VEVENT
DTSTART;TZID=UTC:20281103T093000
DTEND;TZID=UTC:20281103T110000
DTSTAMP:20260424T213858
CREATED:20240105T235104Z
LAST-MODIFIED:20260423T153221Z
UID:10004001-1856856600-1856862000@foodinitiative.org
SUMMARY:FIGS Mobile Pantry-1st Friday of the Month
DESCRIPTION:
URL:https://foodinitiative.org/event/figs-mobile-pantry-13/2028-11-03/
LOCATION:Modesto Gospel Mission\, 1400 Yosemite Blvd\, Modesto\, CA\, 95354\, United States
END:VEVENT
BEGIN:VEVENT
DTSTART;TZID=UTC:20281201T093000
DTEND;TZID=UTC:20281201T110000
DTSTAMP:20260424T213858
CREATED:20240105T235104Z
LAST-MODIFIED:20260423T153221Z
UID:10004002-1859275800-1859281200@foodinitiative.org
SUMMARY:FIGS Mobile Pantry-1st Friday of the Month
DESCRIPTION:
URL:https://foodinitiative.org/event/figs-mobile-pantry-13/2028-12-01/
LOCATION:Modesto Gospel Mission\, 1400 Yosemite Blvd\, Modesto\, CA\, 95354\, United States
END:VEVENT
BEGIN:VEVENT
DTSTART;TZID=UTC:20290105T093000
DTEND;TZID=UTC:20290105T110000
DTSTAMP:20260424T213858
CREATED:20240105T235104Z
LAST-MODIFIED:20260423T153221Z
UID:10004003-1862299800-1862305200@foodinitiative.org
SUMMARY:FIGS Mobile Pantry-1st Friday of the Month
DESCRIPTION:
URL:https://foodinitiative.org/event/figs-mobile-pantry-13/2029-01-05/
LOCATION:Modesto Gospel Mission\, 1400 Yosemite Blvd\, Modesto\, CA\, 95354\, United States
END:VEVENT
BEGIN:VEVENT
DTSTART;TZID=UTC:20290202T093000
DTEND;TZID=UTC:20290202T110000
DTSTAMP:20260424T213858
CREATED:20240105T235104Z
LAST-MODIFIED:20260423T153221Z
UID:10004004-1864719000-1864724400@foodinitiative.org
SUMMARY:FIGS Mobile Pantry-1st Friday of the Month
DESCRIPTION:
URL:https://foodinitiative.org/event/figs-mobile-pantry-13/2029-02-02/
LOCATION:Modesto Gospel Mission\, 1400 Yosemite Blvd\, Modesto\, CA\, 95354\, United States
END:VEVENT
BEGIN:VEVENT
DTSTART;TZID=UTC:20290302T093000
DTEND;TZID=UTC:20290302T110000
DTSTAMP:20260424T213858
CREATED:20240105T235104Z
LAST-MODIFIED:20260423T153221Z
UID:10004005-1867138200-1867143600@foodinitiative.org
SUMMARY:FIGS Mobile Pantry-1st Friday of the Month
DESCRIPTION:
URL:https://foodinitiative.org/event/figs-mobile-pantry-13/2029-03-02/
LOCATION:Modesto Gospel Mission\, 1400 Yosemite Blvd\, Modesto\, CA\, 95354\, United States
END:VEVENT
BEGIN:VEVENT
DTSTART;TZID=UTC:20290406T093000
DTEND;TZID=UTC:20290406T110000
DTSTAMP:20260424T213858
CREATED:20240105T235104Z
LAST-MODIFIED:20260423T153221Z
UID:10004006-1870162200-1870167600@foodinitiative.org
SUMMARY:FIGS Mobile Pantry-1st Friday of the Month
DESCRIPTION:
URL:https://foodinitiative.org/event/figs-mobile-pantry-13/2029-04-06/
LOCATION:Modesto Gospel Mission\, 1400 Yosemite Blvd\, Modesto\, CA\, 95354\, United States
END:VEVENT
BEGIN:VEVENT
DTSTART;TZID=UTC:20290504T093000
DTEND;TZID=UTC:20290504T110000
DTSTAMP:20260424T213858
CREATED:20240105T235104Z
LAST-MODIFIED:20260423T153221Z
UID:10004007-1872581400-1872586800@foodinitiative.org
SUMMARY:FIGS Mobile Pantry-1st Friday of the Month
DESCRIPTION:
URL:https://foodinitiative.org/event/figs-mobile-pantry-13/2029-05-04/
LOCATION:Modesto Gospel Mission\, 1400 Yosemite Blvd\, Modesto\, CA\, 95354\, United States
END:VEVENT
BEGIN:VEVENT
DTSTART;TZID=UTC:20290601T093000
DTEND;TZID=UTC:20290601T110000
DTSTAMP:20260424T213858
CREATED:20240105T235104Z
LAST-MODIFIED:20260423T153221Z
UID:10004008-1875000600-1875006000@foodinitiative.org
SUMMARY:FIGS Mobile Pantry-1st Friday of the Month
DESCRIPTION:
URL:https://foodinitiative.org/event/figs-mobile-pantry-13/2029-06-01/
LOCATION:Modesto Gospel Mission\, 1400 Yosemite Blvd\, Modesto\, CA\, 95354\, United States
END:VEVENT
BEGIN:VEVENT
DTSTART;TZID=UTC:20290706T093000
DTEND;TZID=UTC:20290706T110000
DTSTAMP:20260424T213858
CREATED:20240105T235104Z
LAST-MODIFIED:20260423T153221Z
UID:10004009-1878024600-1878030000@foodinitiative.org
SUMMARY:FIGS Mobile Pantry-1st Friday of the Month
DESCRIPTION:
URL:https://foodinitiative.org/event/figs-mobile-pantry-13/2029-07-06/
LOCATION:Modesto Gospel Mission\, 1400 Yosemite Blvd\, Modesto\, CA\, 95354\, United States
END:VEVENT
BEGIN:VEVENT
DTSTART;TZID=UTC:20290803T093000
DTEND;TZID=UTC:20290803T110000
DTSTAMP:20260424T213858
CREATED:20240105T235104Z
LAST-MODIFIED:20260423T153221Z
UID:10004010-1880443800-1880449200@foodinitiative.org
SUMMARY:FIGS Mobile Pantry-1st Friday of the Month
DESCRIPTION:
URL:https://foodinitiative.org/event/figs-mobile-pantry-13/2029-08-03/
LOCATION:Modesto Gospel Mission\, 1400 Yosemite Blvd\, Modesto\, CA\, 95354\, United States
END:VEVENT
BEGIN:VEVENT
DTSTART;TZID=UTC:20290907T093000
DTEND;TZID=UTC:20290907T110000
DTSTAMP:20260424T213858
CREATED:20240105T235104Z
LAST-MODIFIED:20260423T153221Z
UID:10004011-1883467800-1883473200@foodinitiative.org
SUMMARY:FIGS Mobile Pantry-1st Friday of the Month
DESCRIPTION:
URL:https://foodinitiative.org/event/figs-mobile-pantry-13/2029-09-07/
LOCATION:Modesto Gospel Mission\, 1400 Yosemite Blvd\, Modesto\, CA\, 95354\, United States
END:VEVENT
BEGIN:VEVENT
DTSTART;TZID=UTC:20291005T093000
DTEND;TZID=UTC:20291005T110000
DTSTAMP:20260424T213858
CREATED:20240105T235104Z
LAST-MODIFIED:20260423T153221Z
UID:10004012-1885887000-1885892400@foodinitiative.org
SUMMARY:FIGS Mobile Pantry-1st Friday of the Month
DESCRIPTION:
URL:https://foodinitiative.org/event/figs-mobile-pantry-13/2029-10-05/
LOCATION:Modesto Gospel Mission\, 1400 Yosemite Blvd\, Modesto\, CA\, 95354\, United States
END:VEVENT
BEGIN:VEVENT
DTSTART;TZID=UTC:20291102T093000
DTEND;TZID=UTC:20291102T110000
DTSTAMP:20260424T213858
CREATED:20240105T235104Z
LAST-MODIFIED:20260423T153221Z
UID:10004013-1888306200-1888311600@foodinitiative.org
SUMMARY:FIGS Mobile Pantry-1st Friday of the Month
DESCRIPTION:
URL:https://foodinitiative.org/event/figs-mobile-pantry-13/2029-11-02/
LOCATION:Modesto Gospel Mission\, 1400 Yosemite Blvd\, Modesto\, CA\, 95354\, United States
END:VEVENT
BEGIN:VEVENT
DTSTART;TZID=UTC:20291207T093000
DTEND;TZID=UTC:20291207T110000
DTSTAMP:20260424T213858
CREATED:20240105T235104Z
LAST-MODIFIED:20260423T153221Z
UID:10004014-1891330200-1891335600@foodinitiative.org
SUMMARY:FIGS Mobile Pantry-1st Friday of the Month
DESCRIPTION:
URL:https://foodinitiative.org/event/figs-mobile-pantry-13/2029-12-07/
LOCATION:Modesto Gospel Mission\, 1400 Yosemite Blvd\, Modesto\, CA\, 95354\, United States
END:VEVENT
BEGIN:VEVENT
DTSTART;TZID=UTC:20300104T093000
DTEND;TZID=UTC:20300104T110000
DTSTAMP:20260424T213858
CREATED:20240105T235104Z
LAST-MODIFIED:20260423T153221Z
UID:10004015-1893749400-1893754800@foodinitiative.org
SUMMARY:FIGS Mobile Pantry-1st Friday of the Month
DESCRIPTION:
URL:https://foodinitiative.org/event/figs-mobile-pantry-13/2030-01-04/
LOCATION:Modesto Gospel Mission\, 1400 Yosemite Blvd\, Modesto\, CA\, 95354\, United States
END:VEVENT
BEGIN:VEVENT
DTSTART;TZID=UTC:20300201T093000
DTEND;TZID=UTC:20300201T110000
DTSTAMP:20260424T213858
CREATED:20240105T235104Z
LAST-MODIFIED:20260423T153221Z
UID:10004016-1896168600-1896174000@foodinitiative.org
SUMMARY:FIGS Mobile Pantry-1st Friday of the Month
DESCRIPTION:
URL:https://foodinitiative.org/event/figs-mobile-pantry-13/2030-02-01/
LOCATION:Modesto Gospel Mission\, 1400 Yosemite Blvd\, Modesto\, CA\, 95354\, United States
END:VEVENT
BEGIN:VEVENT
DTSTART;TZID=UTC:20300301T093000
DTEND;TZID=UTC:20300301T110000
DTSTAMP:20260424T213858
CREATED:20240105T235104Z
LAST-MODIFIED:20260423T153221Z
UID:10004017-1898587800-1898593200@foodinitiative.org
SUMMARY:FIGS Mobile Pantry-1st Friday of the Month
DESCRIPTION:
URL:https://foodinitiative.org/event/figs-mobile-pantry-13/2030-03-01/
LOCATION:Modesto Gospel Mission\, 1400 Yosemite Blvd\, Modesto\, CA\, 95354\, United States
END:VEVENT
BEGIN:VEVENT
DTSTART;TZID=UTC:20300405T093000
DTEND;TZID=UTC:20300405T110000
DTSTAMP:20260424T213858
CREATED:20240105T235104Z
LAST-MODIFIED:20260423T153221Z
UID:10004018-1901611800-1901617200@foodinitiative.org
SUMMARY:FIGS Mobile Pantry-1st Friday of the Month
DESCRIPTION:
URL:https://foodinitiative.org/event/figs-mobile-pantry-13/2030-04-05/
LOCATION:Modesto Gospel Mission\, 1400 Yosemite Blvd\, Modesto\, CA\, 95354\, United States
END:VEVENT
BEGIN:VEVENT
DTSTART;TZID=UTC:20300503T093000
DTEND;TZID=UTC:20300503T110000
DTSTAMP:20260424T213858
CREATED:20240105T235104Z
LAST-MODIFIED:20260423T153221Z
UID:10004019-1904031000-1904036400@foodinitiative.org
SUMMARY:FIGS Mobile Pantry-1st Friday of the Month
DESCRIPTION:
URL:https://foodinitiative.org/event/figs-mobile-pantry-13/2030-05-03/
LOCATION:Modesto Gospel Mission\, 1400 Yosemite Blvd\, Modesto\, CA\, 95354\, United States
END:VEVENT
BEGIN:VEVENT
DTSTART;TZID=UTC:20300607T093000
DTEND;TZID=UTC:20300607T110000
DTSTAMP:20260424T213858
CREATED:20240105T235104Z
LAST-MODIFIED:20260423T153221Z
UID:10004020-1907055000-1907060400@foodinitiative.org
SUMMARY:FIGS Mobile Pantry-1st Friday of the Month
DESCRIPTION:
URL:https://foodinitiative.org/event/figs-mobile-pantry-13/2030-06-07/
LOCATION:Modesto Gospel Mission\, 1400 Yosemite Blvd\, Modesto\, CA\, 95354\, United States
END:VEVENT
END:VCALENDAR