BEGIN:VCALENDAR
VERSION:2.0
PRODID:-//The Food Initiative - ECPv6.15.20//NONSGML v1.0//EN
CALSCALE:GREGORIAN
METHOD:PUBLISH
X-ORIGINAL-URL:https://foodinitiative.org
X-WR-CALDESC:Events for The Food Initiative
REFRESH-INTERVAL;VALUE=DURATION:PT1H
X-Robots-Tag:noindex
X-PUBLISHED-TTL:PT1H
BEGIN:VTIMEZONE
TZID:UTC
BEGIN:STANDARD
TZOFFSETFROM:+0000
TZOFFSETTO:+0000
TZNAME:UTC
DTSTART:20250101T000000
END:STANDARD
END:VTIMEZONE
BEGIN:VEVENT
DTSTART;TZID=UTC:20260630T093000
DTEND;TZID=UTC:20260630T110000
DTSTAMP:20260424T234741
CREATED:20240105T232034Z
LAST-MODIFIED:20260423T153248Z
UID:10004041-1782811800-1782817200@foodinitiative.org
SUMMARY:FIGS Mobile Pantry-5th Tuesday of the Month
DESCRIPTION:
URL:https://foodinitiative.org/event/figs-mobile-pantry-6/2026-06-30/
LOCATION:Modesto Gospel Mission\, 1400 Yosemite Blvd\, Modesto\, CA\, 95354\, United States
END:VEVENT
BEGIN:VEVENT
DTSTART;TZID=UTC:20260929T093000
DTEND;TZID=UTC:20260929T110000
DTSTAMP:20260424T234741
CREATED:20240105T232034Z
LAST-MODIFIED:20260423T153248Z
UID:10004042-1790674200-1790679600@foodinitiative.org
SUMMARY:FIGS Mobile Pantry-5th Tuesday of the Month
DESCRIPTION:
URL:https://foodinitiative.org/event/figs-mobile-pantry-6/2026-09-29/
LOCATION:Modesto Gospel Mission\, 1400 Yosemite Blvd\, Modesto\, CA\, 95354\, United States
END:VEVENT
BEGIN:VEVENT
DTSTART;TZID=UTC:20261229T093000
DTEND;TZID=UTC:20261229T110000
DTSTAMP:20260424T234741
CREATED:20240105T232034Z
LAST-MODIFIED:20260423T153248Z
UID:10004043-1798536600-1798542000@foodinitiative.org
SUMMARY:FIGS Mobile Pantry-5th Tuesday of the Month
DESCRIPTION:
URL:https://foodinitiative.org/event/figs-mobile-pantry-6/2026-12-29/
LOCATION:Modesto Gospel Mission\, 1400 Yosemite Blvd\, Modesto\, CA\, 95354\, United States
END:VEVENT
BEGIN:VEVENT
DTSTART;TZID=UTC:20270330T093000
DTEND;TZID=UTC:20270330T110000
DTSTAMP:20260424T234741
CREATED:20240105T232034Z
LAST-MODIFIED:20260423T153248Z
UID:10004044-1806399000-1806404400@foodinitiative.org
SUMMARY:FIGS Mobile Pantry-5th Tuesday of the Month
DESCRIPTION:
URL:https://foodinitiative.org/event/figs-mobile-pantry-6/2027-03-30/
LOCATION:Modesto Gospel Mission\, 1400 Yosemite Blvd\, Modesto\, CA\, 95354\, United States
END:VEVENT
BEGIN:VEVENT
DTSTART;TZID=UTC:20270629T093000
DTEND;TZID=UTC:20270629T110000
DTSTAMP:20260424T234741
CREATED:20240105T232034Z
LAST-MODIFIED:20260423T153248Z
UID:10004045-1814261400-1814266800@foodinitiative.org
SUMMARY:FIGS Mobile Pantry-5th Tuesday of the Month
DESCRIPTION:
URL:https://foodinitiative.org/event/figs-mobile-pantry-6/2027-06-29/
LOCATION:Modesto Gospel Mission\, 1400 Yosemite Blvd\, Modesto\, CA\, 95354\, United States
END:VEVENT
BEGIN:VEVENT
DTSTART;TZID=UTC:20270831T093000
DTEND;TZID=UTC:20270831T110000
DTSTAMP:20260424T234741
CREATED:20240105T232034Z
LAST-MODIFIED:20260423T153248Z
UID:10004046-1819704600-1819710000@foodinitiative.org
SUMMARY:FIGS Mobile Pantry-5th Tuesday of the Month
DESCRIPTION:
URL:https://foodinitiative.org/event/figs-mobile-pantry-6/2027-08-31/
LOCATION:Modesto Gospel Mission\, 1400 Yosemite Blvd\, Modesto\, CA\, 95354\, United States
END:VEVENT
BEGIN:VEVENT
DTSTART;TZID=UTC:20271130T093000
DTEND;TZID=UTC:20271130T110000
DTSTAMP:20260424T234741
CREATED:20240105T232034Z
LAST-MODIFIED:20260423T153248Z
UID:10004047-1827567000-1827572400@foodinitiative.org
SUMMARY:FIGS Mobile Pantry-5th Tuesday of the Month
DESCRIPTION:
URL:https://foodinitiative.org/event/figs-mobile-pantry-6/2027-11-30/
LOCATION:Modesto Gospel Mission\, 1400 Yosemite Blvd\, Modesto\, CA\, 95354\, United States
END:VEVENT
BEGIN:VEVENT
DTSTART;TZID=UTC:20280229T093000
DTEND;TZID=UTC:20280229T110000
DTSTAMP:20260424T234741
CREATED:20240105T232034Z
LAST-MODIFIED:20260423T153248Z
UID:10004048-1835429400-1835434800@foodinitiative.org
SUMMARY:FIGS Mobile Pantry-5th Tuesday of the Month
DESCRIPTION:
URL:https://foodinitiative.org/event/figs-mobile-pantry-6/2028-02-29/
LOCATION:Modesto Gospel Mission\, 1400 Yosemite Blvd\, Modesto\, CA\, 95354\, United States
END:VEVENT
BEGIN:VEVENT
DTSTART;TZID=UTC:20280530T093000
DTEND;TZID=UTC:20280530T110000
DTSTAMP:20260424T234741
CREATED:20240105T232034Z
LAST-MODIFIED:20260423T153248Z
UID:10004049-1843291800-1843297200@foodinitiative.org
SUMMARY:FIGS Mobile Pantry-5th Tuesday of the Month
DESCRIPTION:
URL:https://foodinitiative.org/event/figs-mobile-pantry-6/2028-05-30/
LOCATION:Modesto Gospel Mission\, 1400 Yosemite Blvd\, Modesto\, CA\, 95354\, United States
END:VEVENT
BEGIN:VEVENT
DTSTART;TZID=UTC:20280829T093000
DTEND;TZID=UTC:20280829T110000
DTSTAMP:20260424T234741
CREATED:20240105T232034Z
LAST-MODIFIED:20260423T153248Z
UID:10004050-1851154200-1851159600@foodinitiative.org
SUMMARY:FIGS Mobile Pantry-5th Tuesday of the Month
DESCRIPTION:
URL:https://foodinitiative.org/event/figs-mobile-pantry-6/2028-08-29/
LOCATION:Modesto Gospel Mission\, 1400 Yosemite Blvd\, Modesto\, CA\, 95354\, United States
END:VEVENT
BEGIN:VEVENT
DTSTART;TZID=UTC:20281031T093000
DTEND;TZID=UTC:20281031T110000
DTSTAMP:20260424T234741
CREATED:20240105T232034Z
LAST-MODIFIED:20260423T153248Z
UID:10004051-1856597400-1856602800@foodinitiative.org
SUMMARY:FIGS Mobile Pantry-5th Tuesday of the Month
DESCRIPTION:
URL:https://foodinitiative.org/event/figs-mobile-pantry-6/2028-10-31/
LOCATION:Modesto Gospel Mission\, 1400 Yosemite Blvd\, Modesto\, CA\, 95354\, United States
END:VEVENT
BEGIN:VEVENT
DTSTART;TZID=UTC:20290130T093000
DTEND;TZID=UTC:20290130T110000
DTSTAMP:20260424T234741
CREATED:20240105T232034Z
LAST-MODIFIED:20260423T153248Z
UID:10004052-1864459800-1864465200@foodinitiative.org
SUMMARY:FIGS Mobile Pantry-5th Tuesday of the Month
DESCRIPTION:
URL:https://foodinitiative.org/event/figs-mobile-pantry-6/2029-01-30/
LOCATION:Modesto Gospel Mission\, 1400 Yosemite Blvd\, Modesto\, CA\, 95354\, United States
END:VEVENT
BEGIN:VEVENT
DTSTART;TZID=UTC:20290529T093000
DTEND;TZID=UTC:20290529T110000
DTSTAMP:20260424T234741
CREATED:20240105T232034Z
LAST-MODIFIED:20260423T153248Z
UID:10004053-1874741400-1874746800@foodinitiative.org
SUMMARY:FIGS Mobile Pantry-5th Tuesday of the Month
DESCRIPTION:
URL:https://foodinitiative.org/event/figs-mobile-pantry-6/2029-05-29/
LOCATION:Modesto Gospel Mission\, 1400 Yosemite Blvd\, Modesto\, CA\, 95354\, United States
END:VEVENT
BEGIN:VEVENT
DTSTART;TZID=UTC:20290731T093000
DTEND;TZID=UTC:20290731T110000
DTSTAMP:20260424T234741
CREATED:20240105T232034Z
LAST-MODIFIED:20260423T153248Z
UID:10004054-1880184600-1880190000@foodinitiative.org
SUMMARY:FIGS Mobile Pantry-5th Tuesday of the Month
DESCRIPTION:
URL:https://foodinitiative.org/event/figs-mobile-pantry-6/2029-07-31/
LOCATION:Modesto Gospel Mission\, 1400 Yosemite Blvd\, Modesto\, CA\, 95354\, United States
END:VEVENT
BEGIN:VEVENT
DTSTART;TZID=UTC:20291030T093000
DTEND;TZID=UTC:20291030T110000
DTSTAMP:20260424T234741
CREATED:20240105T232034Z
LAST-MODIFIED:20260423T153248Z
UID:10004055-1888047000-1888052400@foodinitiative.org
SUMMARY:FIGS Mobile Pantry-5th Tuesday of the Month
DESCRIPTION:
URL:https://foodinitiative.org/event/figs-mobile-pantry-6/2029-10-30/
LOCATION:Modesto Gospel Mission\, 1400 Yosemite Blvd\, Modesto\, CA\, 95354\, United States
END:VEVENT
BEGIN:VEVENT
DTSTART;TZID=UTC:20300129T093000
DTEND;TZID=UTC:20300129T110000
DTSTAMP:20260424T234741
CREATED:20240105T232034Z
LAST-MODIFIED:20260423T153248Z
UID:10004056-1895909400-1895914800@foodinitiative.org
SUMMARY:FIGS Mobile Pantry-5th Tuesday of the Month
DESCRIPTION:
URL:https://foodinitiative.org/event/figs-mobile-pantry-6/2030-01-29/
LOCATION:Modesto Gospel Mission\, 1400 Yosemite Blvd\, Modesto\, CA\, 95354\, United States
END:VEVENT
BEGIN:VEVENT
DTSTART;TZID=UTC:20300430T093000
DTEND;TZID=UTC:20300430T110000
DTSTAMP:20260424T234741
CREATED:20240105T232034Z
LAST-MODIFIED:20260423T153248Z
UID:10004057-1903771800-1903777200@foodinitiative.org
SUMMARY:FIGS Mobile Pantry-5th Tuesday of the Month
DESCRIPTION:
URL:https://foodinitiative.org/event/figs-mobile-pantry-6/2030-04-30/
LOCATION:Modesto Gospel Mission\, 1400 Yosemite Blvd\, Modesto\, CA\, 95354\, United States
END:VEVENT
BEGIN:VEVENT
DTSTART;TZID=UTC:20300730T093000
DTEND;TZID=UTC:20300730T110000
DTSTAMP:20260424T234741
CREATED:20240105T232034Z
LAST-MODIFIED:20260423T153248Z
UID:10004058-1911634200-1911639600@foodinitiative.org
SUMMARY:FIGS Mobile Pantry-5th Tuesday of the Month
DESCRIPTION:
URL:https://foodinitiative.org/event/figs-mobile-pantry-6/2030-07-30/
LOCATION:Modesto Gospel Mission\, 1400 Yosemite Blvd\, Modesto\, CA\, 95354\, United States
END:VEVENT
BEGIN:VEVENT
DTSTART;TZID=UTC:20301029T093000
DTEND;TZID=UTC:20301029T110000
DTSTAMP:20260424T234741
CREATED:20240105T232034Z
LAST-MODIFIED:20260423T153248Z
UID:10004059-1919496600-1919502000@foodinitiative.org
SUMMARY:FIGS Mobile Pantry-5th Tuesday of the Month
DESCRIPTION:
URL:https://foodinitiative.org/event/figs-mobile-pantry-6/2030-10-29/
LOCATION:Modesto Gospel Mission\, 1400 Yosemite Blvd\, Modesto\, CA\, 95354\, United States
END:VEVENT
BEGIN:VEVENT
DTSTART;TZID=UTC:20301231T093000
DTEND;TZID=UTC:20301231T110000
DTSTAMP:20260424T234741
CREATED:20240105T232034Z
LAST-MODIFIED:20260423T153248Z
UID:10004060-1924939800-1924945200@foodinitiative.org
SUMMARY:FIGS Mobile Pantry-5th Tuesday of the Month
DESCRIPTION:
URL:https://foodinitiative.org/event/figs-mobile-pantry-6/2030-12-31/
LOCATION:Modesto Gospel Mission\, 1400 Yosemite Blvd\, Modesto\, CA\, 95354\, United States
END:VEVENT
END:VCALENDAR