BEGIN:VCALENDAR
VERSION:2.0
PRODID:-//The Food Initiative - ECPv6.15.20//NONSGML v1.0//EN
CALSCALE:GREGORIAN
METHOD:PUBLISH
X-ORIGINAL-URL:https://foodinitiative.org
X-WR-CALDESC:Events for The Food Initiative
REFRESH-INTERVAL;VALUE=DURATION:PT1H
X-Robots-Tag:noindex
X-PUBLISHED-TTL:PT1H
BEGIN:VTIMEZONE
TZID:UTC
BEGIN:STANDARD
TZOFFSETFROM:+0000
TZOFFSETTO:+0000
TZNAME:UTC
DTSTART:20270101T000000
END:STANDARD
END:VTIMEZONE
BEGIN:VEVENT
DTSTART;TZID=UTC:20280831T093000
DTEND;TZID=UTC:20280831T110000
DTSTAMP:20260424T202654
CREATED:20240105T234938Z
LAST-MODIFIED:20260423T153155Z
UID:10003933-1851327000-1851332400@foodinitiative.org
SUMMARY:FIGS Mobile Pantry-5th Thursday of the Month
DESCRIPTION:
URL:https://foodinitiative.org/event/figs-mobile-pantry-7/2028-08-31/
LOCATION:Modesto Gospel Mission\, 1400 Yosemite Blvd\, Modesto\, CA\, 95354\, United States
END:VEVENT
BEGIN:VEVENT
DTSTART;TZID=UTC:20281130T093000
DTEND;TZID=UTC:20281130T110000
DTSTAMP:20260424T202654
CREATED:20240105T234938Z
LAST-MODIFIED:20260423T153155Z
UID:10003934-1859189400-1859194800@foodinitiative.org
SUMMARY:FIGS Mobile Pantry-5th Thursday of the Month
DESCRIPTION:
URL:https://foodinitiative.org/event/figs-mobile-pantry-7/2028-11-30/
LOCATION:Modesto Gospel Mission\, 1400 Yosemite Blvd\, Modesto\, CA\, 95354\, United States
END:VEVENT
BEGIN:VEVENT
DTSTART;TZID=UTC:20290329T093000
DTEND;TZID=UTC:20290329T110000
DTSTAMP:20260424T202654
CREATED:20240105T234938Z
LAST-MODIFIED:20260423T153155Z
UID:10003935-1869471000-1869476400@foodinitiative.org
SUMMARY:FIGS Mobile Pantry-5th Thursday of the Month
DESCRIPTION:
URL:https://foodinitiative.org/event/figs-mobile-pantry-7/2029-03-29/
LOCATION:Modesto Gospel Mission\, 1400 Yosemite Blvd\, Modesto\, CA\, 95354\, United States
END:VEVENT
BEGIN:VEVENT
DTSTART;TZID=UTC:20290531T093000
DTEND;TZID=UTC:20290531T110000
DTSTAMP:20260424T202654
CREATED:20240105T234938Z
LAST-MODIFIED:20260423T153155Z
UID:10003936-1874914200-1874919600@foodinitiative.org
SUMMARY:FIGS Mobile Pantry-5th Thursday of the Month
DESCRIPTION:
URL:https://foodinitiative.org/event/figs-mobile-pantry-7/2029-05-31/
LOCATION:Modesto Gospel Mission\, 1400 Yosemite Blvd\, Modesto\, CA\, 95354\, United States
END:VEVENT
BEGIN:VEVENT
DTSTART;TZID=UTC:20290830T093000
DTEND;TZID=UTC:20290830T110000
DTSTAMP:20260424T202654
CREATED:20240105T234938Z
LAST-MODIFIED:20260423T153155Z
UID:10003937-1882776600-1882782000@foodinitiative.org
SUMMARY:FIGS Mobile Pantry-5th Thursday of the Month
DESCRIPTION:
URL:https://foodinitiative.org/event/figs-mobile-pantry-7/2029-08-30/
LOCATION:Modesto Gospel Mission\, 1400 Yosemite Blvd\, Modesto\, CA\, 95354\, United States
END:VEVENT
BEGIN:VEVENT
DTSTART;TZID=UTC:20291129T093000
DTEND;TZID=UTC:20291129T110000
DTSTAMP:20260424T202654
CREATED:20240105T234938Z
LAST-MODIFIED:20260423T153155Z
UID:10003938-1890639000-1890644400@foodinitiative.org
SUMMARY:FIGS Mobile Pantry-5th Thursday of the Month
DESCRIPTION:
URL:https://foodinitiative.org/event/figs-mobile-pantry-7/2029-11-29/
LOCATION:Modesto Gospel Mission\, 1400 Yosemite Blvd\, Modesto\, CA\, 95354\, United States
END:VEVENT
BEGIN:VEVENT
DTSTART;TZID=UTC:20300131T093000
DTEND;TZID=UTC:20300131T110000
DTSTAMP:20260424T202654
CREATED:20240105T234938Z
LAST-MODIFIED:20260423T153155Z
UID:10003939-1896082200-1896087600@foodinitiative.org
SUMMARY:FIGS Mobile Pantry-5th Thursday of the Month
DESCRIPTION:
URL:https://foodinitiative.org/event/figs-mobile-pantry-7/2030-01-31/
LOCATION:Modesto Gospel Mission\, 1400 Yosemite Blvd\, Modesto\, CA\, 95354\, United States
END:VEVENT
BEGIN:VEVENT
DTSTART;TZID=UTC:20300530T093000
DTEND;TZID=UTC:20300530T110000
DTSTAMP:20260424T202654
CREATED:20240105T234938Z
LAST-MODIFIED:20260423T153155Z
UID:10003940-1906363800-1906369200@foodinitiative.org
SUMMARY:FIGS Mobile Pantry-5th Thursday of the Month
DESCRIPTION:
URL:https://foodinitiative.org/event/figs-mobile-pantry-7/2030-05-30/
LOCATION:Modesto Gospel Mission\, 1400 Yosemite Blvd\, Modesto\, CA\, 95354\, United States
END:VEVENT
BEGIN:VEVENT
DTSTART;TZID=UTC:20300829T093000
DTEND;TZID=UTC:20300829T110000
DTSTAMP:20260424T202654
CREATED:20240105T234938Z
LAST-MODIFIED:20260423T153155Z
UID:10003941-1914226200-1914231600@foodinitiative.org
SUMMARY:FIGS Mobile Pantry-5th Thursday of the Month
DESCRIPTION:
URL:https://foodinitiative.org/event/figs-mobile-pantry-7/2030-08-29/
LOCATION:Modesto Gospel Mission\, 1400 Yosemite Blvd\, Modesto\, CA\, 95354\, United States
END:VEVENT
BEGIN:VEVENT
DTSTART;TZID=UTC:20301031T093000
DTEND;TZID=UTC:20301031T110000
DTSTAMP:20260424T202654
CREATED:20240105T234938Z
LAST-MODIFIED:20260423T153155Z
UID:10003942-1919669400-1919674800@foodinitiative.org
SUMMARY:FIGS Mobile Pantry-5th Thursday of the Month
DESCRIPTION:
URL:https://foodinitiative.org/event/figs-mobile-pantry-7/2030-10-31/
LOCATION:Modesto Gospel Mission\, 1400 Yosemite Blvd\, Modesto\, CA\, 95354\, United States
END:VEVENT
BEGIN:VEVENT
DTSTART;TZID=UTC:20310130T093000
DTEND;TZID=UTC:20310130T110000
DTSTAMP:20260424T202654
CREATED:20240105T234938Z
LAST-MODIFIED:20260423T153155Z
UID:10003943-1927531800-1927537200@foodinitiative.org
SUMMARY:FIGS Mobile Pantry-5th Thursday of the Month
DESCRIPTION:
URL:https://foodinitiative.org/event/figs-mobile-pantry-7/2031-01-30/
LOCATION:Modesto Gospel Mission\, 1400 Yosemite Blvd\, Modesto\, CA\, 95354\, United States
END:VEVENT
END:VCALENDAR