BEGIN:VCALENDAR
VERSION:2.0
PRODID:-//The Food Initiative - ECPv6.15.20//NONSGML v1.0//EN
CALSCALE:GREGORIAN
METHOD:PUBLISH
X-ORIGINAL-URL:https://foodinitiative.org
X-WR-CALDESC:Events for The Food Initiative
REFRESH-INTERVAL;VALUE=DURATION:PT1H
X-Robots-Tag:noindex
X-PUBLISHED-TTL:PT1H
BEGIN:VTIMEZONE
TZID:UTC
BEGIN:STANDARD
TZOFFSETFROM:+0000
TZOFFSETTO:+0000
TZNAME:UTC
DTSTART:20270101T000000
END:STANDARD
END:VTIMEZONE
BEGIN:VEVENT
DTSTART;TZID=UTC:20280120T093000
DTEND;TZID=UTC:20280120T110000
DTSTAMP:20260424T235758
CREATED:20240520T213643Z
LAST-MODIFIED:20250407T193446Z
UID:10002875-1831973400-1831978800@foodinitiative.org
SUMMARY:FIGS Mobile Pantry-3rd Thursday of the Month
DESCRIPTION:
URL:https://foodinitiative.org/event/figs-mobile-pantry-25/2028-01-20/
LOCATION:Everett Elementary School\, 1530 Mt. Vernon Dr\, Modesto\, 95350\, United States
END:VEVENT
BEGIN:VEVENT
DTSTART;TZID=UTC:20280217T093000
DTEND;TZID=UTC:20280217T110000
DTSTAMP:20260424T235758
CREATED:20240520T213643Z
LAST-MODIFIED:20250407T193446Z
UID:10002876-1834392600-1834398000@foodinitiative.org
SUMMARY:FIGS Mobile Pantry-3rd Thursday of the Month
DESCRIPTION:
URL:https://foodinitiative.org/event/figs-mobile-pantry-25/2028-02-17/
LOCATION:Everett Elementary School\, 1530 Mt. Vernon Dr\, Modesto\, 95350\, United States
END:VEVENT
BEGIN:VEVENT
DTSTART;TZID=UTC:20280316T093000
DTEND;TZID=UTC:20280316T110000
DTSTAMP:20260424T235758
CREATED:20240520T213643Z
LAST-MODIFIED:20250407T193446Z
UID:10002877-1836811800-1836817200@foodinitiative.org
SUMMARY:FIGS Mobile Pantry-3rd Thursday of the Month
DESCRIPTION:
URL:https://foodinitiative.org/event/figs-mobile-pantry-25/2028-03-16/
LOCATION:Everett Elementary School\, 1530 Mt. Vernon Dr\, Modesto\, 95350\, United States
END:VEVENT
BEGIN:VEVENT
DTSTART;TZID=UTC:20280420T093000
DTEND;TZID=UTC:20280420T110000
DTSTAMP:20260424T235758
CREATED:20240520T213643Z
LAST-MODIFIED:20250407T193446Z
UID:10002878-1839835800-1839841200@foodinitiative.org
SUMMARY:FIGS Mobile Pantry-3rd Thursday of the Month
DESCRIPTION:
URL:https://foodinitiative.org/event/figs-mobile-pantry-25/2028-04-20/
LOCATION:Everett Elementary School\, 1530 Mt. Vernon Dr\, Modesto\, 95350\, United States
END:VEVENT
BEGIN:VEVENT
DTSTART;TZID=UTC:20280518T093000
DTEND;TZID=UTC:20280518T110000
DTSTAMP:20260424T235758
CREATED:20240520T213643Z
LAST-MODIFIED:20250407T193446Z
UID:10002879-1842255000-1842260400@foodinitiative.org
SUMMARY:FIGS Mobile Pantry-3rd Thursday of the Month
DESCRIPTION:
URL:https://foodinitiative.org/event/figs-mobile-pantry-25/2028-05-18/
LOCATION:Everett Elementary School\, 1530 Mt. Vernon Dr\, Modesto\, 95350\, United States
END:VEVENT
BEGIN:VEVENT
DTSTART;TZID=UTC:20280615T093000
DTEND;TZID=UTC:20280615T110000
DTSTAMP:20260424T235758
CREATED:20240520T213643Z
LAST-MODIFIED:20250407T193446Z
UID:10002880-1844674200-1844679600@foodinitiative.org
SUMMARY:FIGS Mobile Pantry-3rd Thursday of the Month
DESCRIPTION:
URL:https://foodinitiative.org/event/figs-mobile-pantry-25/2028-06-15/
LOCATION:Everett Elementary School\, 1530 Mt. Vernon Dr\, Modesto\, 95350\, United States
END:VEVENT
BEGIN:VEVENT
DTSTART;TZID=UTC:20280720T093000
DTEND;TZID=UTC:20280720T110000
DTSTAMP:20260424T235758
CREATED:20240520T213643Z
LAST-MODIFIED:20250407T193446Z
UID:10002881-1847698200-1847703600@foodinitiative.org
SUMMARY:FIGS Mobile Pantry-3rd Thursday of the Month
DESCRIPTION:
URL:https://foodinitiative.org/event/figs-mobile-pantry-25/2028-07-20/
LOCATION:Everett Elementary School\, 1530 Mt. Vernon Dr\, Modesto\, 95350\, United States
END:VEVENT
BEGIN:VEVENT
DTSTART;TZID=UTC:20280817T093000
DTEND;TZID=UTC:20280817T110000
DTSTAMP:20260424T235758
CREATED:20240520T213643Z
LAST-MODIFIED:20250407T193446Z
UID:10002882-1850117400-1850122800@foodinitiative.org
SUMMARY:FIGS Mobile Pantry-3rd Thursday of the Month
DESCRIPTION:
URL:https://foodinitiative.org/event/figs-mobile-pantry-25/2028-08-17/
LOCATION:Everett Elementary School\, 1530 Mt. Vernon Dr\, Modesto\, 95350\, United States
END:VEVENT
BEGIN:VEVENT
DTSTART;TZID=UTC:20280921T093000
DTEND;TZID=UTC:20280921T110000
DTSTAMP:20260424T235758
CREATED:20240520T213643Z
LAST-MODIFIED:20250407T193446Z
UID:10002883-1853141400-1853146800@foodinitiative.org
SUMMARY:FIGS Mobile Pantry-3rd Thursday of the Month
DESCRIPTION:
URL:https://foodinitiative.org/event/figs-mobile-pantry-25/2028-09-21/
LOCATION:Everett Elementary School\, 1530 Mt. Vernon Dr\, Modesto\, 95350\, United States
END:VEVENT
BEGIN:VEVENT
DTSTART;TZID=UTC:20281019T093000
DTEND;TZID=UTC:20281019T110000
DTSTAMP:20260424T235758
CREATED:20240520T213643Z
LAST-MODIFIED:20250407T193446Z
UID:10002884-1855560600-1855566000@foodinitiative.org
SUMMARY:FIGS Mobile Pantry-3rd Thursday of the Month
DESCRIPTION:
URL:https://foodinitiative.org/event/figs-mobile-pantry-25/2028-10-19/
LOCATION:Everett Elementary School\, 1530 Mt. Vernon Dr\, Modesto\, 95350\, United States
END:VEVENT
BEGIN:VEVENT
DTSTART;TZID=UTC:20281116T093000
DTEND;TZID=UTC:20281116T110000
DTSTAMP:20260424T235758
CREATED:20240520T213643Z
LAST-MODIFIED:20250407T193446Z
UID:10002885-1857979800-1857985200@foodinitiative.org
SUMMARY:FIGS Mobile Pantry-3rd Thursday of the Month
DESCRIPTION:
URL:https://foodinitiative.org/event/figs-mobile-pantry-25/2028-11-16/
LOCATION:Everett Elementary School\, 1530 Mt. Vernon Dr\, Modesto\, 95350\, United States
END:VEVENT
BEGIN:VEVENT
DTSTART;TZID=UTC:20281221T093000
DTEND;TZID=UTC:20281221T110000
DTSTAMP:20260424T235758
CREATED:20240520T213643Z
LAST-MODIFIED:20250407T193446Z
UID:10002886-1861003800-1861009200@foodinitiative.org
SUMMARY:FIGS Mobile Pantry-3rd Thursday of the Month
DESCRIPTION:
URL:https://foodinitiative.org/event/figs-mobile-pantry-25/2028-12-21/
LOCATION:Everett Elementary School\, 1530 Mt. Vernon Dr\, Modesto\, 95350\, United States
END:VEVENT
BEGIN:VEVENT
DTSTART;TZID=UTC:20290118T093000
DTEND;TZID=UTC:20290118T110000
DTSTAMP:20260424T235758
CREATED:20240520T213643Z
LAST-MODIFIED:20250407T193446Z
UID:10002887-1863423000-1863428400@foodinitiative.org
SUMMARY:FIGS Mobile Pantry-3rd Thursday of the Month
DESCRIPTION:
URL:https://foodinitiative.org/event/figs-mobile-pantry-25/2029-01-18/
LOCATION:Everett Elementary School\, 1530 Mt. Vernon Dr\, Modesto\, 95350\, United States
END:VEVENT
BEGIN:VEVENT
DTSTART;TZID=UTC:20290215T093000
DTEND;TZID=UTC:20290215T110000
DTSTAMP:20260424T235758
CREATED:20240520T213643Z
LAST-MODIFIED:20250407T193446Z
UID:10002888-1865842200-1865847600@foodinitiative.org
SUMMARY:FIGS Mobile Pantry-3rd Thursday of the Month
DESCRIPTION:
URL:https://foodinitiative.org/event/figs-mobile-pantry-25/2029-02-15/
LOCATION:Everett Elementary School\, 1530 Mt. Vernon Dr\, Modesto\, 95350\, United States
END:VEVENT
BEGIN:VEVENT
DTSTART;TZID=UTC:20290315T093000
DTEND;TZID=UTC:20290315T110000
DTSTAMP:20260424T235758
CREATED:20240520T213643Z
LAST-MODIFIED:20250407T193446Z
UID:10002889-1868261400-1868266800@foodinitiative.org
SUMMARY:FIGS Mobile Pantry-3rd Thursday of the Month
DESCRIPTION:
URL:https://foodinitiative.org/event/figs-mobile-pantry-25/2029-03-15/
LOCATION:Everett Elementary School\, 1530 Mt. Vernon Dr\, Modesto\, 95350\, United States
END:VEVENT
BEGIN:VEVENT
DTSTART;TZID=UTC:20290419T093000
DTEND;TZID=UTC:20290419T110000
DTSTAMP:20260424T235758
CREATED:20240520T213643Z
LAST-MODIFIED:20250407T193446Z
UID:10002890-1871285400-1871290800@foodinitiative.org
SUMMARY:FIGS Mobile Pantry-3rd Thursday of the Month
DESCRIPTION:
URL:https://foodinitiative.org/event/figs-mobile-pantry-25/2029-04-19/
LOCATION:Everett Elementary School\, 1530 Mt. Vernon Dr\, Modesto\, 95350\, United States
END:VEVENT
BEGIN:VEVENT
DTSTART;TZID=UTC:20290517T093000
DTEND;TZID=UTC:20290517T110000
DTSTAMP:20260424T235758
CREATED:20240520T213643Z
LAST-MODIFIED:20250407T193446Z
UID:10002891-1873704600-1873710000@foodinitiative.org
SUMMARY:FIGS Mobile Pantry-3rd Thursday of the Month
DESCRIPTION:
URL:https://foodinitiative.org/event/figs-mobile-pantry-25/2029-05-17/
LOCATION:Everett Elementary School\, 1530 Mt. Vernon Dr\, Modesto\, 95350\, United States
END:VEVENT
BEGIN:VEVENT
DTSTART;TZID=UTC:20290621T093000
DTEND;TZID=UTC:20290621T110000
DTSTAMP:20260424T235758
CREATED:20240520T213643Z
LAST-MODIFIED:20250407T193446Z
UID:10003221-1876728600-1876734000@foodinitiative.org
SUMMARY:FIGS Mobile Pantry-3rd Thursday of the Month
DESCRIPTION:
URL:https://foodinitiative.org/event/figs-mobile-pantry-25/2029-06-21/
LOCATION:Everett Elementary School\, 1530 Mt. Vernon Dr\, Modesto\, 95350\, United States
END:VEVENT
BEGIN:VEVENT
DTSTART;TZID=UTC:20290719T093000
DTEND;TZID=UTC:20290719T110000
DTSTAMP:20260424T235758
CREATED:20240520T213643Z
LAST-MODIFIED:20250407T193446Z
UID:10003222-1879147800-1879153200@foodinitiative.org
SUMMARY:FIGS Mobile Pantry-3rd Thursday of the Month
DESCRIPTION:
URL:https://foodinitiative.org/event/figs-mobile-pantry-25/2029-07-19/
LOCATION:Everett Elementary School\, 1530 Mt. Vernon Dr\, Modesto\, 95350\, United States
END:VEVENT
BEGIN:VEVENT
DTSTART;TZID=UTC:20290816T093000
DTEND;TZID=UTC:20290816T110000
DTSTAMP:20260424T235758
CREATED:20240520T213643Z
LAST-MODIFIED:20250407T193446Z
UID:10003223-1881567000-1881572400@foodinitiative.org
SUMMARY:FIGS Mobile Pantry-3rd Thursday of the Month
DESCRIPTION:
URL:https://foodinitiative.org/event/figs-mobile-pantry-25/2029-08-16/
LOCATION:Everett Elementary School\, 1530 Mt. Vernon Dr\, Modesto\, 95350\, United States
END:VEVENT
BEGIN:VEVENT
DTSTART;TZID=UTC:20290920T093000
DTEND;TZID=UTC:20290920T110000
DTSTAMP:20260424T235758
CREATED:20240520T213643Z
LAST-MODIFIED:20250407T193446Z
UID:10003224-1884591000-1884596400@foodinitiative.org
SUMMARY:FIGS Mobile Pantry-3rd Thursday of the Month
DESCRIPTION:
URL:https://foodinitiative.org/event/figs-mobile-pantry-25/2029-09-20/
LOCATION:Everett Elementary School\, 1530 Mt. Vernon Dr\, Modesto\, 95350\, United States
END:VEVENT
BEGIN:VEVENT
DTSTART;TZID=UTC:20291018T093000
DTEND;TZID=UTC:20291018T110000
DTSTAMP:20260424T235758
CREATED:20240520T213643Z
LAST-MODIFIED:20250407T193446Z
UID:10003225-1887010200-1887015600@foodinitiative.org
SUMMARY:FIGS Mobile Pantry-3rd Thursday of the Month
DESCRIPTION:
URL:https://foodinitiative.org/event/figs-mobile-pantry-25/2029-10-18/
LOCATION:Everett Elementary School\, 1530 Mt. Vernon Dr\, Modesto\, 95350\, United States
END:VEVENT
BEGIN:VEVENT
DTSTART;TZID=UTC:20291115T093000
DTEND;TZID=UTC:20291115T110000
DTSTAMP:20260424T235758
CREATED:20240520T213643Z
LAST-MODIFIED:20250407T193446Z
UID:10003226-1889429400-1889434800@foodinitiative.org
SUMMARY:FIGS Mobile Pantry-3rd Thursday of the Month
DESCRIPTION:
URL:https://foodinitiative.org/event/figs-mobile-pantry-25/2029-11-15/
LOCATION:Everett Elementary School\, 1530 Mt. Vernon Dr\, Modesto\, 95350\, United States
END:VEVENT
BEGIN:VEVENT
DTSTART;TZID=UTC:20291220T093000
DTEND;TZID=UTC:20291220T110000
DTSTAMP:20260424T235758
CREATED:20240520T213643Z
LAST-MODIFIED:20250407T193446Z
UID:10003227-1892453400-1892458800@foodinitiative.org
SUMMARY:FIGS Mobile Pantry-3rd Thursday of the Month
DESCRIPTION:
URL:https://foodinitiative.org/event/figs-mobile-pantry-25/2029-12-20/
LOCATION:Everett Elementary School\, 1530 Mt. Vernon Dr\, Modesto\, 95350\, United States
END:VEVENT
BEGIN:VEVENT
DTSTART;TZID=UTC:20300117T093000
DTEND;TZID=UTC:20300117T110000
DTSTAMP:20260424T235758
CREATED:20240520T213643Z
LAST-MODIFIED:20250407T193446Z
UID:10003228-1894872600-1894878000@foodinitiative.org
SUMMARY:FIGS Mobile Pantry-3rd Thursday of the Month
DESCRIPTION:
URL:https://foodinitiative.org/event/figs-mobile-pantry-25/2030-01-17/
LOCATION:Everett Elementary School\, 1530 Mt. Vernon Dr\, Modesto\, 95350\, United States
END:VEVENT
BEGIN:VEVENT
DTSTART;TZID=UTC:20300221T093000
DTEND;TZID=UTC:20300221T110000
DTSTAMP:20260424T235758
CREATED:20240520T213643Z
LAST-MODIFIED:20250407T193446Z
UID:10003229-1897896600-1897902000@foodinitiative.org
SUMMARY:FIGS Mobile Pantry-3rd Thursday of the Month
DESCRIPTION:
URL:https://foodinitiative.org/event/figs-mobile-pantry-25/2030-02-21/
LOCATION:Everett Elementary School\, 1530 Mt. Vernon Dr\, Modesto\, 95350\, United States
END:VEVENT
BEGIN:VEVENT
DTSTART;TZID=UTC:20300321T093000
DTEND;TZID=UTC:20300321T110000
DTSTAMP:20260424T235758
CREATED:20240520T213643Z
LAST-MODIFIED:20250407T193446Z
UID:10003230-1900315800-1900321200@foodinitiative.org
SUMMARY:FIGS Mobile Pantry-3rd Thursday of the Month
DESCRIPTION:
URL:https://foodinitiative.org/event/figs-mobile-pantry-25/2030-03-21/
LOCATION:Everett Elementary School\, 1530 Mt. Vernon Dr\, Modesto\, 95350\, United States
END:VEVENT
END:VCALENDAR