BEGIN:VCALENDAR
VERSION:2.0
PRODID:-//The Food Initiative - ECPv6.15.20//NONSGML v1.0//EN
CALSCALE:GREGORIAN
METHOD:PUBLISH
X-WR-CALNAME:The Food Initiative
X-ORIGINAL-URL:https://foodinitiative.org
X-WR-CALDESC:Events for The Food Initiative
REFRESH-INTERVAL;VALUE=DURATION:PT1H
X-Robots-Tag:noindex
X-PUBLISHED-TTL:PT1H
BEGIN:VTIMEZONE
TZID:UTC
BEGIN:STANDARD
TZOFFSETFROM:+0000
TZOFFSETTO:+0000
TZNAME:UTC
DTSTART:20250101T000000
END:STANDARD
END:VTIMEZONE
BEGIN:VEVENT
DTSTART;TZID=UTC:20260521T093000
DTEND;TZID=UTC:20260521T110000
DTSTAMP:20260424T215908
CREATED:20240520T213643Z
LAST-MODIFIED:20250407T193446Z
UID:10002855-1779355800-1779361200@foodinitiative.org
SUMMARY:FIGS Mobile Pantry-3rd Thursday of the Month
DESCRIPTION:
URL:https://foodinitiative.org/event/figs-mobile-pantry-25/2026-05-21/
LOCATION:Everett Elementary School\, 1530 Mt. Vernon Dr\, Modesto\, 95350\, United States
END:VEVENT
BEGIN:VEVENT
DTSTART;TZID=UTC:20260618T093000
DTEND;TZID=UTC:20260618T110000
DTSTAMP:20260424T215908
CREATED:20240520T213643Z
LAST-MODIFIED:20250407T193446Z
UID:10002856-1781775000-1781780400@foodinitiative.org
SUMMARY:FIGS Mobile Pantry-3rd Thursday of the Month
DESCRIPTION:
URL:https://foodinitiative.org/event/figs-mobile-pantry-25/2026-06-18/
LOCATION:Everett Elementary School\, 1530 Mt. Vernon Dr\, Modesto\, 95350\, United States
END:VEVENT
BEGIN:VEVENT
DTSTART;TZID=UTC:20260716T093000
DTEND;TZID=UTC:20260716T110000
DTSTAMP:20260424T215908
CREATED:20240520T213643Z
LAST-MODIFIED:20250407T193446Z
UID:10002857-1784194200-1784199600@foodinitiative.org
SUMMARY:FIGS Mobile Pantry-3rd Thursday of the Month
DESCRIPTION:
URL:https://foodinitiative.org/event/figs-mobile-pantry-25/2026-07-16/
LOCATION:Everett Elementary School\, 1530 Mt. Vernon Dr\, Modesto\, 95350\, United States
END:VEVENT
BEGIN:VEVENT
DTSTART;TZID=UTC:20260820T093000
DTEND;TZID=UTC:20260820T110000
DTSTAMP:20260424T215908
CREATED:20240520T213643Z
LAST-MODIFIED:20250407T193446Z
UID:10002858-1787218200-1787223600@foodinitiative.org
SUMMARY:FIGS Mobile Pantry-3rd Thursday of the Month
DESCRIPTION:
URL:https://foodinitiative.org/event/figs-mobile-pantry-25/2026-08-20/
LOCATION:Everett Elementary School\, 1530 Mt. Vernon Dr\, Modesto\, 95350\, United States
END:VEVENT
BEGIN:VEVENT
DTSTART;TZID=UTC:20260917T093000
DTEND;TZID=UTC:20260917T110000
DTSTAMP:20260424T215908
CREATED:20240520T213643Z
LAST-MODIFIED:20250407T193446Z
UID:10002859-1789637400-1789642800@foodinitiative.org
SUMMARY:FIGS Mobile Pantry-3rd Thursday of the Month
DESCRIPTION:
URL:https://foodinitiative.org/event/figs-mobile-pantry-25/2026-09-17/
LOCATION:Everett Elementary School\, 1530 Mt. Vernon Dr\, Modesto\, 95350\, United States
END:VEVENT
BEGIN:VEVENT
DTSTART;TZID=UTC:20261015T093000
DTEND;TZID=UTC:20261015T110000
DTSTAMP:20260424T215908
CREATED:20240520T213643Z
LAST-MODIFIED:20250407T193446Z
UID:10002860-1792056600-1792062000@foodinitiative.org
SUMMARY:FIGS Mobile Pantry-3rd Thursday of the Month
DESCRIPTION:
URL:https://foodinitiative.org/event/figs-mobile-pantry-25/2026-10-15/
LOCATION:Everett Elementary School\, 1530 Mt. Vernon Dr\, Modesto\, 95350\, United States
END:VEVENT
BEGIN:VEVENT
DTSTART;TZID=UTC:20261119T093000
DTEND;TZID=UTC:20261119T110000
DTSTAMP:20260424T215908
CREATED:20240520T213643Z
LAST-MODIFIED:20250407T193446Z
UID:10002861-1795080600-1795086000@foodinitiative.org
SUMMARY:FIGS Mobile Pantry-3rd Thursday of the Month
DESCRIPTION:
URL:https://foodinitiative.org/event/figs-mobile-pantry-25/2026-11-19/
LOCATION:Everett Elementary School\, 1530 Mt. Vernon Dr\, Modesto\, 95350\, United States
END:VEVENT
BEGIN:VEVENT
DTSTART;TZID=UTC:20261217T093000
DTEND;TZID=UTC:20261217T110000
DTSTAMP:20260424T215908
CREATED:20240520T213643Z
LAST-MODIFIED:20250407T193446Z
UID:10002862-1797499800-1797505200@foodinitiative.org
SUMMARY:FIGS Mobile Pantry-3rd Thursday of the Month
DESCRIPTION:
URL:https://foodinitiative.org/event/figs-mobile-pantry-25/2026-12-17/
LOCATION:Everett Elementary School\, 1530 Mt. Vernon Dr\, Modesto\, 95350\, United States
END:VEVENT
BEGIN:VEVENT
DTSTART;TZID=UTC:20270121T093000
DTEND;TZID=UTC:20270121T110000
DTSTAMP:20260424T215908
CREATED:20240520T213643Z
LAST-MODIFIED:20250407T193446Z
UID:10002863-1800523800-1800529200@foodinitiative.org
SUMMARY:FIGS Mobile Pantry-3rd Thursday of the Month
DESCRIPTION:
URL:https://foodinitiative.org/event/figs-mobile-pantry-25/2027-01-21/
LOCATION:Everett Elementary School\, 1530 Mt. Vernon Dr\, Modesto\, 95350\, United States
END:VEVENT
BEGIN:VEVENT
DTSTART;TZID=UTC:20270218T093000
DTEND;TZID=UTC:20270218T110000
DTSTAMP:20260424T215908
CREATED:20240520T213643Z
LAST-MODIFIED:20250407T193446Z
UID:10002864-1802943000-1802948400@foodinitiative.org
SUMMARY:FIGS Mobile Pantry-3rd Thursday of the Month
DESCRIPTION:
URL:https://foodinitiative.org/event/figs-mobile-pantry-25/2027-02-18/
LOCATION:Everett Elementary School\, 1530 Mt. Vernon Dr\, Modesto\, 95350\, United States
END:VEVENT
BEGIN:VEVENT
DTSTART;TZID=UTC:20270318T093000
DTEND;TZID=UTC:20270318T110000
DTSTAMP:20260424T215908
CREATED:20240520T213643Z
LAST-MODIFIED:20250407T193446Z
UID:10002865-1805362200-1805367600@foodinitiative.org
SUMMARY:FIGS Mobile Pantry-3rd Thursday of the Month
DESCRIPTION:
URL:https://foodinitiative.org/event/figs-mobile-pantry-25/2027-03-18/
LOCATION:Everett Elementary School\, 1530 Mt. Vernon Dr\, Modesto\, 95350\, United States
END:VEVENT
BEGIN:VEVENT
DTSTART;TZID=UTC:20270415T093000
DTEND;TZID=UTC:20270415T110000
DTSTAMP:20260424T215908
CREATED:20240520T213643Z
LAST-MODIFIED:20250407T193446Z
UID:10002866-1807781400-1807786800@foodinitiative.org
SUMMARY:FIGS Mobile Pantry-3rd Thursday of the Month
DESCRIPTION:
URL:https://foodinitiative.org/event/figs-mobile-pantry-25/2027-04-15/
LOCATION:Everett Elementary School\, 1530 Mt. Vernon Dr\, Modesto\, 95350\, United States
END:VEVENT
BEGIN:VEVENT
DTSTART;TZID=UTC:20270520T093000
DTEND;TZID=UTC:20270520T110000
DTSTAMP:20260424T215908
CREATED:20240520T213643Z
LAST-MODIFIED:20250407T193446Z
UID:10002867-1810805400-1810810800@foodinitiative.org
SUMMARY:FIGS Mobile Pantry-3rd Thursday of the Month
DESCRIPTION:
URL:https://foodinitiative.org/event/figs-mobile-pantry-25/2027-05-20/
LOCATION:Everett Elementary School\, 1530 Mt. Vernon Dr\, Modesto\, 95350\, United States
END:VEVENT
BEGIN:VEVENT
DTSTART;TZID=UTC:20270617T093000
DTEND;TZID=UTC:20270617T110000
DTSTAMP:20260424T215908
CREATED:20240520T213643Z
LAST-MODIFIED:20250407T193446Z
UID:10002868-1813224600-1813230000@foodinitiative.org
SUMMARY:FIGS Mobile Pantry-3rd Thursday of the Month
DESCRIPTION:
URL:https://foodinitiative.org/event/figs-mobile-pantry-25/2027-06-17/
LOCATION:Everett Elementary School\, 1530 Mt. Vernon Dr\, Modesto\, 95350\, United States
END:VEVENT
BEGIN:VEVENT
DTSTART;TZID=UTC:20270715T093000
DTEND;TZID=UTC:20270715T110000
DTSTAMP:20260424T215908
CREATED:20240520T213643Z
LAST-MODIFIED:20250407T193446Z
UID:10002869-1815643800-1815649200@foodinitiative.org
SUMMARY:FIGS Mobile Pantry-3rd Thursday of the Month
DESCRIPTION:
URL:https://foodinitiative.org/event/figs-mobile-pantry-25/2027-07-15/
LOCATION:Everett Elementary School\, 1530 Mt. Vernon Dr\, Modesto\, 95350\, United States
END:VEVENT
BEGIN:VEVENT
DTSTART;TZID=UTC:20270819T093000
DTEND;TZID=UTC:20270819T110000
DTSTAMP:20260424T215908
CREATED:20240520T213643Z
LAST-MODIFIED:20250407T193446Z
UID:10002870-1818667800-1818673200@foodinitiative.org
SUMMARY:FIGS Mobile Pantry-3rd Thursday of the Month
DESCRIPTION:
URL:https://foodinitiative.org/event/figs-mobile-pantry-25/2027-08-19/
LOCATION:Everett Elementary School\, 1530 Mt. Vernon Dr\, Modesto\, 95350\, United States
END:VEVENT
BEGIN:VEVENT
DTSTART;TZID=UTC:20270916T093000
DTEND;TZID=UTC:20270916T110000
DTSTAMP:20260424T215908
CREATED:20240520T213643Z
LAST-MODIFIED:20250407T193446Z
UID:10002871-1821087000-1821092400@foodinitiative.org
SUMMARY:FIGS Mobile Pantry-3rd Thursday of the Month
DESCRIPTION:
URL:https://foodinitiative.org/event/figs-mobile-pantry-25/2027-09-16/
LOCATION:Everett Elementary School\, 1530 Mt. Vernon Dr\, Modesto\, 95350\, United States
END:VEVENT
BEGIN:VEVENT
DTSTART;TZID=UTC:20271021T093000
DTEND;TZID=UTC:20271021T110000
DTSTAMP:20260424T215908
CREATED:20240520T213643Z
LAST-MODIFIED:20250407T193446Z
UID:10002872-1824111000-1824116400@foodinitiative.org
SUMMARY:FIGS Mobile Pantry-3rd Thursday of the Month
DESCRIPTION:
URL:https://foodinitiative.org/event/figs-mobile-pantry-25/2027-10-21/
LOCATION:Everett Elementary School\, 1530 Mt. Vernon Dr\, Modesto\, 95350\, United States
END:VEVENT
BEGIN:VEVENT
DTSTART;TZID=UTC:20271118T093000
DTEND;TZID=UTC:20271118T110000
DTSTAMP:20260424T215908
CREATED:20240520T213643Z
LAST-MODIFIED:20250407T193446Z
UID:10002873-1826530200-1826535600@foodinitiative.org
SUMMARY:FIGS Mobile Pantry-3rd Thursday of the Month
DESCRIPTION:
URL:https://foodinitiative.org/event/figs-mobile-pantry-25/2027-11-18/
LOCATION:Everett Elementary School\, 1530 Mt. Vernon Dr\, Modesto\, 95350\, United States
END:VEVENT
BEGIN:VEVENT
DTSTART;TZID=UTC:20271216T093000
DTEND;TZID=UTC:20271216T110000
DTSTAMP:20260424T215908
CREATED:20240520T213643Z
LAST-MODIFIED:20250407T193446Z
UID:10002874-1828949400-1828954800@foodinitiative.org
SUMMARY:FIGS Mobile Pantry-3rd Thursday of the Month
DESCRIPTION:
URL:https://foodinitiative.org/event/figs-mobile-pantry-25/2027-12-16/
LOCATION:Everett Elementary School\, 1530 Mt. Vernon Dr\, Modesto\, 95350\, United States
END:VEVENT
BEGIN:VEVENT
DTSTART;TZID=UTC:20280120T093000
DTEND;TZID=UTC:20280120T110000
DTSTAMP:20260424T215908
CREATED:20240520T213643Z
LAST-MODIFIED:20250407T193446Z
UID:10002875-1831973400-1831978800@foodinitiative.org
SUMMARY:FIGS Mobile Pantry-3rd Thursday of the Month
DESCRIPTION:
URL:https://foodinitiative.org/event/figs-mobile-pantry-25/2028-01-20/
LOCATION:Everett Elementary School\, 1530 Mt. Vernon Dr\, Modesto\, 95350\, United States
END:VEVENT
BEGIN:VEVENT
DTSTART;TZID=UTC:20280217T093000
DTEND;TZID=UTC:20280217T110000
DTSTAMP:20260424T215908
CREATED:20240520T213643Z
LAST-MODIFIED:20250407T193446Z
UID:10002876-1834392600-1834398000@foodinitiative.org
SUMMARY:FIGS Mobile Pantry-3rd Thursday of the Month
DESCRIPTION:
URL:https://foodinitiative.org/event/figs-mobile-pantry-25/2028-02-17/
LOCATION:Everett Elementary School\, 1530 Mt. Vernon Dr\, Modesto\, 95350\, United States
END:VEVENT
BEGIN:VEVENT
DTSTART;TZID=UTC:20280316T093000
DTEND;TZID=UTC:20280316T110000
DTSTAMP:20260424T215908
CREATED:20240520T213643Z
LAST-MODIFIED:20250407T193446Z
UID:10002877-1836811800-1836817200@foodinitiative.org
SUMMARY:FIGS Mobile Pantry-3rd Thursday of the Month
DESCRIPTION:
URL:https://foodinitiative.org/event/figs-mobile-pantry-25/2028-03-16/
LOCATION:Everett Elementary School\, 1530 Mt. Vernon Dr\, Modesto\, 95350\, United States
END:VEVENT
BEGIN:VEVENT
DTSTART;TZID=UTC:20280420T093000
DTEND;TZID=UTC:20280420T110000
DTSTAMP:20260424T215908
CREATED:20240520T213643Z
LAST-MODIFIED:20250407T193446Z
UID:10002878-1839835800-1839841200@foodinitiative.org
SUMMARY:FIGS Mobile Pantry-3rd Thursday of the Month
DESCRIPTION:
URL:https://foodinitiative.org/event/figs-mobile-pantry-25/2028-04-20/
LOCATION:Everett Elementary School\, 1530 Mt. Vernon Dr\, Modesto\, 95350\, United States
END:VEVENT
BEGIN:VEVENT
DTSTART;TZID=UTC:20280518T093000
DTEND;TZID=UTC:20280518T110000
DTSTAMP:20260424T215908
CREATED:20240520T213643Z
LAST-MODIFIED:20250407T193446Z
UID:10002879-1842255000-1842260400@foodinitiative.org
SUMMARY:FIGS Mobile Pantry-3rd Thursday of the Month
DESCRIPTION:
URL:https://foodinitiative.org/event/figs-mobile-pantry-25/2028-05-18/
LOCATION:Everett Elementary School\, 1530 Mt. Vernon Dr\, Modesto\, 95350\, United States
END:VEVENT
BEGIN:VEVENT
DTSTART;TZID=UTC:20280615T093000
DTEND;TZID=UTC:20280615T110000
DTSTAMP:20260424T215908
CREATED:20240520T213643Z
LAST-MODIFIED:20250407T193446Z
UID:10002880-1844674200-1844679600@foodinitiative.org
SUMMARY:FIGS Mobile Pantry-3rd Thursday of the Month
DESCRIPTION:
URL:https://foodinitiative.org/event/figs-mobile-pantry-25/2028-06-15/
LOCATION:Everett Elementary School\, 1530 Mt. Vernon Dr\, Modesto\, 95350\, United States
END:VEVENT
BEGIN:VEVENT
DTSTART;TZID=UTC:20280720T093000
DTEND;TZID=UTC:20280720T110000
DTSTAMP:20260424T215908
CREATED:20240520T213643Z
LAST-MODIFIED:20250407T193446Z
UID:10002881-1847698200-1847703600@foodinitiative.org
SUMMARY:FIGS Mobile Pantry-3rd Thursday of the Month
DESCRIPTION:
URL:https://foodinitiative.org/event/figs-mobile-pantry-25/2028-07-20/
LOCATION:Everett Elementary School\, 1530 Mt. Vernon Dr\, Modesto\, 95350\, United States
END:VEVENT
BEGIN:VEVENT
DTSTART;TZID=UTC:20280817T093000
DTEND;TZID=UTC:20280817T110000
DTSTAMP:20260424T215908
CREATED:20240520T213643Z
LAST-MODIFIED:20250407T193446Z
UID:10002882-1850117400-1850122800@foodinitiative.org
SUMMARY:FIGS Mobile Pantry-3rd Thursday of the Month
DESCRIPTION:
URL:https://foodinitiative.org/event/figs-mobile-pantry-25/2028-08-17/
LOCATION:Everett Elementary School\, 1530 Mt. Vernon Dr\, Modesto\, 95350\, United States
END:VEVENT
BEGIN:VEVENT
DTSTART;TZID=UTC:20280921T093000
DTEND;TZID=UTC:20280921T110000
DTSTAMP:20260424T215908
CREATED:20240520T213643Z
LAST-MODIFIED:20250407T193446Z
UID:10002883-1853141400-1853146800@foodinitiative.org
SUMMARY:FIGS Mobile Pantry-3rd Thursday of the Month
DESCRIPTION:
URL:https://foodinitiative.org/event/figs-mobile-pantry-25/2028-09-21/
LOCATION:Everett Elementary School\, 1530 Mt. Vernon Dr\, Modesto\, 95350\, United States
END:VEVENT
BEGIN:VEVENT
DTSTART;TZID=UTC:20281019T093000
DTEND;TZID=UTC:20281019T110000
DTSTAMP:20260424T215908
CREATED:20240520T213643Z
LAST-MODIFIED:20250407T193446Z
UID:10002884-1855560600-1855566000@foodinitiative.org
SUMMARY:FIGS Mobile Pantry-3rd Thursday of the Month
DESCRIPTION:
URL:https://foodinitiative.org/event/figs-mobile-pantry-25/2028-10-19/
LOCATION:Everett Elementary School\, 1530 Mt. Vernon Dr\, Modesto\, 95350\, United States
END:VEVENT
END:VCALENDAR