BEGIN:VCALENDAR
VERSION:2.0
PRODID:-//The Food Initiative - ECPv6.15.20//NONSGML v1.0//EN
CALSCALE:GREGORIAN
METHOD:PUBLISH
X-ORIGINAL-URL:https://foodinitiative.org
X-WR-CALDESC:Events for The Food Initiative
REFRESH-INTERVAL;VALUE=DURATION:PT1H
X-Robots-Tag:noindex
X-PUBLISHED-TTL:PT1H
BEGIN:VTIMEZONE
TZID:UTC
BEGIN:STANDARD
TZOFFSETFROM:+0000
TZOFFSETTO:+0000
TZNAME:UTC
DTSTART:20260101T000000
END:STANDARD
END:VTIMEZONE
BEGIN:VEVENT
DTSTART;TZID=UTC:20270302T093000
DTEND;TZID=UTC:20270302T110000
DTSTAMP:20260424T204040
CREATED:20250407T204228Z
LAST-MODIFIED:20250407T204645Z
UID:10003400-1803979800-1803985200@foodinitiative.org
SUMMARY:FIGS Mobile Pantry-1st Tuesday of the Month
DESCRIPTION:
URL:https://foodinitiative.org/event/figs-mobile-pantry-1st-tuesday-of-the-month/2027-03-02/
LOCATION:Elliot Alternative High School\, 1440 Sunrise Ave.\, Modesto\, CA\, 95350\, United States
END:VEVENT
BEGIN:VEVENT
DTSTART;TZID=UTC:20270406T093000
DTEND;TZID=UTC:20270406T110000
DTSTAMP:20260424T204040
CREATED:20250407T204228Z
LAST-MODIFIED:20250407T204645Z
UID:10003401-1807003800-1807009200@foodinitiative.org
SUMMARY:FIGS Mobile Pantry-1st Tuesday of the Month
DESCRIPTION:
URL:https://foodinitiative.org/event/figs-mobile-pantry-1st-tuesday-of-the-month/2027-04-06/
LOCATION:Elliot Alternative High School\, 1440 Sunrise Ave.\, Modesto\, CA\, 95350\, United States
END:VEVENT
BEGIN:VEVENT
DTSTART;TZID=UTC:20270504T093000
DTEND;TZID=UTC:20270504T110000
DTSTAMP:20260424T204040
CREATED:20250407T204228Z
LAST-MODIFIED:20250407T204645Z
UID:10003402-1809423000-1809428400@foodinitiative.org
SUMMARY:FIGS Mobile Pantry-1st Tuesday of the Month
DESCRIPTION:
URL:https://foodinitiative.org/event/figs-mobile-pantry-1st-tuesday-of-the-month/2027-05-04/
LOCATION:Elliot Alternative High School\, 1440 Sunrise Ave.\, Modesto\, CA\, 95350\, United States
END:VEVENT
BEGIN:VEVENT
DTSTART;TZID=UTC:20270601T093000
DTEND;TZID=UTC:20270601T110000
DTSTAMP:20260424T204040
CREATED:20250407T204228Z
LAST-MODIFIED:20250407T204645Z
UID:10003403-1811842200-1811847600@foodinitiative.org
SUMMARY:FIGS Mobile Pantry-1st Tuesday of the Month
DESCRIPTION:
URL:https://foodinitiative.org/event/figs-mobile-pantry-1st-tuesday-of-the-month/2027-06-01/
LOCATION:Elliot Alternative High School\, 1440 Sunrise Ave.\, Modesto\, CA\, 95350\, United States
END:VEVENT
BEGIN:VEVENT
DTSTART;TZID=UTC:20270706T093000
DTEND;TZID=UTC:20270706T110000
DTSTAMP:20260424T204040
CREATED:20250407T204228Z
LAST-MODIFIED:20250407T204645Z
UID:10003404-1814866200-1814871600@foodinitiative.org
SUMMARY:FIGS Mobile Pantry-1st Tuesday of the Month
DESCRIPTION:
URL:https://foodinitiative.org/event/figs-mobile-pantry-1st-tuesday-of-the-month/2027-07-06/
LOCATION:Elliot Alternative High School\, 1440 Sunrise Ave.\, Modesto\, CA\, 95350\, United States
END:VEVENT
BEGIN:VEVENT
DTSTART;TZID=UTC:20270803T093000
DTEND;TZID=UTC:20270803T110000
DTSTAMP:20260424T204040
CREATED:20250407T204228Z
LAST-MODIFIED:20250407T204645Z
UID:10003405-1817285400-1817290800@foodinitiative.org
SUMMARY:FIGS Mobile Pantry-1st Tuesday of the Month
DESCRIPTION:
URL:https://foodinitiative.org/event/figs-mobile-pantry-1st-tuesday-of-the-month/2027-08-03/
LOCATION:Elliot Alternative High School\, 1440 Sunrise Ave.\, Modesto\, CA\, 95350\, United States
END:VEVENT
BEGIN:VEVENT
DTSTART;TZID=UTC:20270907T093000
DTEND;TZID=UTC:20270907T110000
DTSTAMP:20260424T204040
CREATED:20250407T204228Z
LAST-MODIFIED:20250407T204645Z
UID:10003406-1820309400-1820314800@foodinitiative.org
SUMMARY:FIGS Mobile Pantry-1st Tuesday of the Month
DESCRIPTION:
URL:https://foodinitiative.org/event/figs-mobile-pantry-1st-tuesday-of-the-month/2027-09-07/
LOCATION:Elliot Alternative High School\, 1440 Sunrise Ave.\, Modesto\, CA\, 95350\, United States
END:VEVENT
BEGIN:VEVENT
DTSTART;TZID=UTC:20271005T093000
DTEND;TZID=UTC:20271005T110000
DTSTAMP:20260424T204040
CREATED:20250407T204228Z
LAST-MODIFIED:20250407T204645Z
UID:10003407-1822728600-1822734000@foodinitiative.org
SUMMARY:FIGS Mobile Pantry-1st Tuesday of the Month
DESCRIPTION:
URL:https://foodinitiative.org/event/figs-mobile-pantry-1st-tuesday-of-the-month/2027-10-05/
LOCATION:Elliot Alternative High School\, 1440 Sunrise Ave.\, Modesto\, CA\, 95350\, United States
END:VEVENT
BEGIN:VEVENT
DTSTART;TZID=UTC:20271102T093000
DTEND;TZID=UTC:20271102T110000
DTSTAMP:20260424T204040
CREATED:20250407T204228Z
LAST-MODIFIED:20250407T204645Z
UID:10003408-1825147800-1825153200@foodinitiative.org
SUMMARY:FIGS Mobile Pantry-1st Tuesday of the Month
DESCRIPTION:
URL:https://foodinitiative.org/event/figs-mobile-pantry-1st-tuesday-of-the-month/2027-11-02/
LOCATION:Elliot Alternative High School\, 1440 Sunrise Ave.\, Modesto\, CA\, 95350\, United States
END:VEVENT
BEGIN:VEVENT
DTSTART;TZID=UTC:20271207T093000
DTEND;TZID=UTC:20271207T110000
DTSTAMP:20260424T204040
CREATED:20250407T204228Z
LAST-MODIFIED:20250407T204645Z
UID:10003409-1828171800-1828177200@foodinitiative.org
SUMMARY:FIGS Mobile Pantry-1st Tuesday of the Month
DESCRIPTION:
URL:https://foodinitiative.org/event/figs-mobile-pantry-1st-tuesday-of-the-month/2027-12-07/
LOCATION:Elliot Alternative High School\, 1440 Sunrise Ave.\, Modesto\, CA\, 95350\, United States
END:VEVENT
BEGIN:VEVENT
DTSTART;TZID=UTC:20280104T093000
DTEND;TZID=UTC:20280104T110000
DTSTAMP:20260424T204040
CREATED:20250407T204228Z
LAST-MODIFIED:20250407T204645Z
UID:10003410-1830591000-1830596400@foodinitiative.org
SUMMARY:FIGS Mobile Pantry-1st Tuesday of the Month
DESCRIPTION:
URL:https://foodinitiative.org/event/figs-mobile-pantry-1st-tuesday-of-the-month/2028-01-04/
LOCATION:Elliot Alternative High School\, 1440 Sunrise Ave.\, Modesto\, CA\, 95350\, United States
END:VEVENT
BEGIN:VEVENT
DTSTART;TZID=UTC:20280201T093000
DTEND;TZID=UTC:20280201T110000
DTSTAMP:20260424T204040
CREATED:20250407T204228Z
LAST-MODIFIED:20250407T204645Z
UID:10003411-1833010200-1833015600@foodinitiative.org
SUMMARY:FIGS Mobile Pantry-1st Tuesday of the Month
DESCRIPTION:
URL:https://foodinitiative.org/event/figs-mobile-pantry-1st-tuesday-of-the-month/2028-02-01/
LOCATION:Elliot Alternative High School\, 1440 Sunrise Ave.\, Modesto\, CA\, 95350\, United States
END:VEVENT
BEGIN:VEVENT
DTSTART;TZID=UTC:20280307T093000
DTEND;TZID=UTC:20280307T110000
DTSTAMP:20260424T204040
CREATED:20250407T204228Z
LAST-MODIFIED:20250407T204645Z
UID:10003412-1836034200-1836039600@foodinitiative.org
SUMMARY:FIGS Mobile Pantry-1st Tuesday of the Month
DESCRIPTION:
URL:https://foodinitiative.org/event/figs-mobile-pantry-1st-tuesday-of-the-month/2028-03-07/
LOCATION:Elliot Alternative High School\, 1440 Sunrise Ave.\, Modesto\, CA\, 95350\, United States
END:VEVENT
BEGIN:VEVENT
DTSTART;TZID=UTC:20280404T093000
DTEND;TZID=UTC:20280404T110000
DTSTAMP:20260424T204040
CREATED:20250407T204228Z
LAST-MODIFIED:20250407T204645Z
UID:10003413-1838453400-1838458800@foodinitiative.org
SUMMARY:FIGS Mobile Pantry-1st Tuesday of the Month
DESCRIPTION:
URL:https://foodinitiative.org/event/figs-mobile-pantry-1st-tuesday-of-the-month/2028-04-04/
LOCATION:Elliot Alternative High School\, 1440 Sunrise Ave.\, Modesto\, CA\, 95350\, United States
END:VEVENT
BEGIN:VEVENT
DTSTART;TZID=UTC:20280502T093000
DTEND;TZID=UTC:20280502T110000
DTSTAMP:20260424T204040
CREATED:20250407T204228Z
LAST-MODIFIED:20250407T204645Z
UID:10003414-1840872600-1840878000@foodinitiative.org
SUMMARY:FIGS Mobile Pantry-1st Tuesday of the Month
DESCRIPTION:
URL:https://foodinitiative.org/event/figs-mobile-pantry-1st-tuesday-of-the-month/2028-05-02/
LOCATION:Elliot Alternative High School\, 1440 Sunrise Ave.\, Modesto\, CA\, 95350\, United States
END:VEVENT
BEGIN:VEVENT
DTSTART;TZID=UTC:20280606T093000
DTEND;TZID=UTC:20280606T110000
DTSTAMP:20260424T204040
CREATED:20250407T204228Z
LAST-MODIFIED:20250407T204645Z
UID:10003415-1843896600-1843902000@foodinitiative.org
SUMMARY:FIGS Mobile Pantry-1st Tuesday of the Month
DESCRIPTION:
URL:https://foodinitiative.org/event/figs-mobile-pantry-1st-tuesday-of-the-month/2028-06-06/
LOCATION:Elliot Alternative High School\, 1440 Sunrise Ave.\, Modesto\, CA\, 95350\, United States
END:VEVENT
BEGIN:VEVENT
DTSTART;TZID=UTC:20280704T093000
DTEND;TZID=UTC:20280704T110000
DTSTAMP:20260424T204040
CREATED:20250407T204228Z
LAST-MODIFIED:20250407T204645Z
UID:10003416-1846315800-1846321200@foodinitiative.org
SUMMARY:FIGS Mobile Pantry-1st Tuesday of the Month
DESCRIPTION:
URL:https://foodinitiative.org/event/figs-mobile-pantry-1st-tuesday-of-the-month/2028-07-04/
LOCATION:Elliot Alternative High School\, 1440 Sunrise Ave.\, Modesto\, CA\, 95350\, United States
END:VEVENT
BEGIN:VEVENT
DTSTART;TZID=UTC:20280801T093000
DTEND;TZID=UTC:20280801T110000
DTSTAMP:20260424T204040
CREATED:20250407T204228Z
LAST-MODIFIED:20250407T204645Z
UID:10003417-1848735000-1848740400@foodinitiative.org
SUMMARY:FIGS Mobile Pantry-1st Tuesday of the Month
DESCRIPTION:
URL:https://foodinitiative.org/event/figs-mobile-pantry-1st-tuesday-of-the-month/2028-08-01/
LOCATION:Elliot Alternative High School\, 1440 Sunrise Ave.\, Modesto\, CA\, 95350\, United States
END:VEVENT
BEGIN:VEVENT
DTSTART;TZID=UTC:20280905T093000
DTEND;TZID=UTC:20280905T110000
DTSTAMP:20260424T204040
CREATED:20250407T204228Z
LAST-MODIFIED:20250407T204645Z
UID:10003418-1851759000-1851764400@foodinitiative.org
SUMMARY:FIGS Mobile Pantry-1st Tuesday of the Month
DESCRIPTION:
URL:https://foodinitiative.org/event/figs-mobile-pantry-1st-tuesday-of-the-month/2028-09-05/
LOCATION:Elliot Alternative High School\, 1440 Sunrise Ave.\, Modesto\, CA\, 95350\, United States
END:VEVENT
BEGIN:VEVENT
DTSTART;TZID=UTC:20281003T093000
DTEND;TZID=UTC:20281003T110000
DTSTAMP:20260424T204040
CREATED:20250407T204228Z
LAST-MODIFIED:20250407T204645Z
UID:10003419-1854178200-1854183600@foodinitiative.org
SUMMARY:FIGS Mobile Pantry-1st Tuesday of the Month
DESCRIPTION:
URL:https://foodinitiative.org/event/figs-mobile-pantry-1st-tuesday-of-the-month/2028-10-03/
LOCATION:Elliot Alternative High School\, 1440 Sunrise Ave.\, Modesto\, CA\, 95350\, United States
END:VEVENT
BEGIN:VEVENT
DTSTART;TZID=UTC:20281107T093000
DTEND;TZID=UTC:20281107T110000
DTSTAMP:20260424T204040
CREATED:20250407T204228Z
LAST-MODIFIED:20250407T204645Z
UID:10003420-1857202200-1857207600@foodinitiative.org
SUMMARY:FIGS Mobile Pantry-1st Tuesday of the Month
DESCRIPTION:
URL:https://foodinitiative.org/event/figs-mobile-pantry-1st-tuesday-of-the-month/2028-11-07/
LOCATION:Elliot Alternative High School\, 1440 Sunrise Ave.\, Modesto\, CA\, 95350\, United States
END:VEVENT
BEGIN:VEVENT
DTSTART;TZID=UTC:20281205T093000
DTEND;TZID=UTC:20281205T110000
DTSTAMP:20260424T204040
CREATED:20250407T204228Z
LAST-MODIFIED:20250407T204645Z
UID:10003421-1859621400-1859626800@foodinitiative.org
SUMMARY:FIGS Mobile Pantry-1st Tuesday of the Month
DESCRIPTION:
URL:https://foodinitiative.org/event/figs-mobile-pantry-1st-tuesday-of-the-month/2028-12-05/
LOCATION:Elliot Alternative High School\, 1440 Sunrise Ave.\, Modesto\, CA\, 95350\, United States
END:VEVENT
BEGIN:VEVENT
DTSTART;TZID=UTC:20290102T093000
DTEND;TZID=UTC:20290102T110000
DTSTAMP:20260424T204040
CREATED:20250407T204228Z
LAST-MODIFIED:20250407T204645Z
UID:10003422-1862040600-1862046000@foodinitiative.org
SUMMARY:FIGS Mobile Pantry-1st Tuesday of the Month
DESCRIPTION:
URL:https://foodinitiative.org/event/figs-mobile-pantry-1st-tuesday-of-the-month/2029-01-02/
LOCATION:Elliot Alternative High School\, 1440 Sunrise Ave.\, Modesto\, CA\, 95350\, United States
END:VEVENT
BEGIN:VEVENT
DTSTART;TZID=UTC:20290206T093000
DTEND;TZID=UTC:20290206T110000
DTSTAMP:20260424T204040
CREATED:20250407T204228Z
LAST-MODIFIED:20250407T204645Z
UID:10003423-1865064600-1865070000@foodinitiative.org
SUMMARY:FIGS Mobile Pantry-1st Tuesday of the Month
DESCRIPTION:
URL:https://foodinitiative.org/event/figs-mobile-pantry-1st-tuesday-of-the-month/2029-02-06/
LOCATION:Elliot Alternative High School\, 1440 Sunrise Ave.\, Modesto\, CA\, 95350\, United States
END:VEVENT
BEGIN:VEVENT
DTSTART;TZID=UTC:20290306T093000
DTEND;TZID=UTC:20290306T110000
DTSTAMP:20260424T204040
CREATED:20250407T204228Z
LAST-MODIFIED:20250407T204645Z
UID:10003424-1867483800-1867489200@foodinitiative.org
SUMMARY:FIGS Mobile Pantry-1st Tuesday of the Month
DESCRIPTION:
URL:https://foodinitiative.org/event/figs-mobile-pantry-1st-tuesday-of-the-month/2029-03-06/
LOCATION:Elliot Alternative High School\, 1440 Sunrise Ave.\, Modesto\, CA\, 95350\, United States
END:VEVENT
BEGIN:VEVENT
DTSTART;TZID=UTC:20290403T093000
DTEND;TZID=UTC:20290403T110000
DTSTAMP:20260424T204040
CREATED:20250407T204228Z
LAST-MODIFIED:20250407T204645Z
UID:10003425-1869903000-1869908400@foodinitiative.org
SUMMARY:FIGS Mobile Pantry-1st Tuesday of the Month
DESCRIPTION:
URL:https://foodinitiative.org/event/figs-mobile-pantry-1st-tuesday-of-the-month/2029-04-03/
LOCATION:Elliot Alternative High School\, 1440 Sunrise Ave.\, Modesto\, CA\, 95350\, United States
END:VEVENT
BEGIN:VEVENT
DTSTART;TZID=UTC:20290501T093000
DTEND;TZID=UTC:20290501T110000
DTSTAMP:20260424T204040
CREATED:20250407T204228Z
LAST-MODIFIED:20250407T204645Z
UID:10003426-1872322200-1872327600@foodinitiative.org
SUMMARY:FIGS Mobile Pantry-1st Tuesday of the Month
DESCRIPTION:
URL:https://foodinitiative.org/event/figs-mobile-pantry-1st-tuesday-of-the-month/2029-05-01/
LOCATION:Elliot Alternative High School\, 1440 Sunrise Ave.\, Modesto\, CA\, 95350\, United States
END:VEVENT
BEGIN:VEVENT
DTSTART;TZID=UTC:20290605T093000
DTEND;TZID=UTC:20290605T110000
DTSTAMP:20260424T204040
CREATED:20250407T204228Z
LAST-MODIFIED:20250407T204645Z
UID:10003427-1875346200-1875351600@foodinitiative.org
SUMMARY:FIGS Mobile Pantry-1st Tuesday of the Month
DESCRIPTION:
URL:https://foodinitiative.org/event/figs-mobile-pantry-1st-tuesday-of-the-month/2029-06-05/
LOCATION:Elliot Alternative High School\, 1440 Sunrise Ave.\, Modesto\, CA\, 95350\, United States
END:VEVENT
BEGIN:VEVENT
DTSTART;TZID=UTC:20290703T093000
DTEND;TZID=UTC:20290703T110000
DTSTAMP:20260424T204040
CREATED:20250407T204228Z
LAST-MODIFIED:20250407T204645Z
UID:10003428-1877765400-1877770800@foodinitiative.org
SUMMARY:FIGS Mobile Pantry-1st Tuesday of the Month
DESCRIPTION:
URL:https://foodinitiative.org/event/figs-mobile-pantry-1st-tuesday-of-the-month/2029-07-03/
LOCATION:Elliot Alternative High School\, 1440 Sunrise Ave.\, Modesto\, CA\, 95350\, United States
END:VEVENT
BEGIN:VEVENT
DTSTART;TZID=UTC:20290807T093000
DTEND;TZID=UTC:20290807T110000
DTSTAMP:20260424T204040
CREATED:20250407T204228Z
LAST-MODIFIED:20250407T204645Z
UID:10003429-1880789400-1880794800@foodinitiative.org
SUMMARY:FIGS Mobile Pantry-1st Tuesday of the Month
DESCRIPTION:
URL:https://foodinitiative.org/event/figs-mobile-pantry-1st-tuesday-of-the-month/2029-08-07/
LOCATION:Elliot Alternative High School\, 1440 Sunrise Ave.\, Modesto\, CA\, 95350\, United States
END:VEVENT
END:VCALENDAR