BEGIN:VCALENDAR
VERSION:2.0
PRODID:-//The Food Initiative - ECPv6.15.20//NONSGML v1.0//EN
CALSCALE:GREGORIAN
METHOD:PUBLISH
X-WR-CALNAME:The Food Initiative
X-ORIGINAL-URL:https://foodinitiative.org
X-WR-CALDESC:Events for The Food Initiative
REFRESH-INTERVAL;VALUE=DURATION:PT1H
X-Robots-Tag:noindex
X-PUBLISHED-TTL:PT1H
BEGIN:VTIMEZONE
TZID:UTC
BEGIN:STANDARD
TZOFFSETFROM:+0000
TZOFFSETTO:+0000
TZNAME:UTC
DTSTART:20290101T000000
END:STANDARD
END:VTIMEZONE
BEGIN:VEVENT
DTSTART;TZID=UTC:20300711T093000
DTEND;TZID=UTC:20300711T110000
DTSTAMP:20260426T001301
CREATED:20250407T221317Z
LAST-MODIFIED:20260423T153030Z
UID:10003874-1909992600-1909998000@foodinitiative.org
SUMMARY:FIGS Mobile Pantry-2nd Thursday of the Month
DESCRIPTION:
URL:https://foodinitiative.org/event/figs-mobile-pantry-2nd-thursday-of-the-month/2030-07-11/
LOCATION:Modesto Gospel Mission\, 1400 Yosemite Blvd\, Modesto\, CA\, 95354\, United States
END:VEVENT
BEGIN:VEVENT
DTSTART;TZID=UTC:20300808T093000
DTEND;TZID=UTC:20300808T110000
DTSTAMP:20260426T001301
CREATED:20250407T221317Z
LAST-MODIFIED:20260423T153030Z
UID:10003875-1912411800-1912417200@foodinitiative.org
SUMMARY:FIGS Mobile Pantry-2nd Thursday of the Month
DESCRIPTION:
URL:https://foodinitiative.org/event/figs-mobile-pantry-2nd-thursday-of-the-month/2030-08-08/
LOCATION:Modesto Gospel Mission\, 1400 Yosemite Blvd\, Modesto\, CA\, 95354\, United States
END:VEVENT
BEGIN:VEVENT
DTSTART;TZID=UTC:20300912T093000
DTEND;TZID=UTC:20300912T110000
DTSTAMP:20260426T001301
CREATED:20250407T221317Z
LAST-MODIFIED:20260423T153030Z
UID:10003876-1915435800-1915441200@foodinitiative.org
SUMMARY:FIGS Mobile Pantry-2nd Thursday of the Month
DESCRIPTION:
URL:https://foodinitiative.org/event/figs-mobile-pantry-2nd-thursday-of-the-month/2030-09-12/
LOCATION:Modesto Gospel Mission\, 1400 Yosemite Blvd\, Modesto\, CA\, 95354\, United States
END:VEVENT
BEGIN:VEVENT
DTSTART;TZID=UTC:20301010T093000
DTEND;TZID=UTC:20301010T110000
DTSTAMP:20260426T001301
CREATED:20250407T221317Z
LAST-MODIFIED:20260423T153030Z
UID:10003877-1917855000-1917860400@foodinitiative.org
SUMMARY:FIGS Mobile Pantry-2nd Thursday of the Month
DESCRIPTION:
URL:https://foodinitiative.org/event/figs-mobile-pantry-2nd-thursday-of-the-month/2030-10-10/
LOCATION:Modesto Gospel Mission\, 1400 Yosemite Blvd\, Modesto\, CA\, 95354\, United States
END:VEVENT
BEGIN:VEVENT
DTSTART;TZID=UTC:20301114T093000
DTEND;TZID=UTC:20301114T110000
DTSTAMP:20260426T001301
CREATED:20250407T221317Z
LAST-MODIFIED:20260423T153030Z
UID:10003878-1920879000-1920884400@foodinitiative.org
SUMMARY:FIGS Mobile Pantry-2nd Thursday of the Month
DESCRIPTION:
URL:https://foodinitiative.org/event/figs-mobile-pantry-2nd-thursday-of-the-month/2030-11-14/
LOCATION:Modesto Gospel Mission\, 1400 Yosemite Blvd\, Modesto\, CA\, 95354\, United States
END:VEVENT
BEGIN:VEVENT
DTSTART;TZID=UTC:20301212T093000
DTEND;TZID=UTC:20301212T110000
DTSTAMP:20260426T001301
CREATED:20250407T221317Z
LAST-MODIFIED:20260423T153030Z
UID:10003879-1923298200-1923303600@foodinitiative.org
SUMMARY:FIGS Mobile Pantry-2nd Thursday of the Month
DESCRIPTION:
URL:https://foodinitiative.org/event/figs-mobile-pantry-2nd-thursday-of-the-month/2030-12-12/
LOCATION:Modesto Gospel Mission\, 1400 Yosemite Blvd\, Modesto\, CA\, 95354\, United States
END:VEVENT
BEGIN:VEVENT
DTSTART;TZID=UTC:20310109T093000
DTEND;TZID=UTC:20310109T110000
DTSTAMP:20260426T001301
CREATED:20250407T221317Z
LAST-MODIFIED:20260423T153030Z
UID:10003880-1925717400-1925722800@foodinitiative.org
SUMMARY:FIGS Mobile Pantry-2nd Thursday of the Month
DESCRIPTION:
URL:https://foodinitiative.org/event/figs-mobile-pantry-2nd-thursday-of-the-month/2031-01-09/
LOCATION:Modesto Gospel Mission\, 1400 Yosemite Blvd\, Modesto\, CA\, 95354\, United States
END:VEVENT
BEGIN:VEVENT
DTSTART;TZID=UTC:20310213T093000
DTEND;TZID=UTC:20310213T110000
DTSTAMP:20260426T001301
CREATED:20250407T221317Z
LAST-MODIFIED:20260423T153030Z
UID:10003881-1928741400-1928746800@foodinitiative.org
SUMMARY:FIGS Mobile Pantry-2nd Thursday of the Month
DESCRIPTION:
URL:https://foodinitiative.org/event/figs-mobile-pantry-2nd-thursday-of-the-month/2031-02-13/
LOCATION:Modesto Gospel Mission\, 1400 Yosemite Blvd\, Modesto\, CA\, 95354\, United States
END:VEVENT
BEGIN:VEVENT
DTSTART;TZID=UTC:20310313T093000
DTEND;TZID=UTC:20310313T110000
DTSTAMP:20260426T001301
CREATED:20250407T221317Z
LAST-MODIFIED:20260423T153030Z
UID:10003882-1931160600-1931166000@foodinitiative.org
SUMMARY:FIGS Mobile Pantry-2nd Thursday of the Month
DESCRIPTION:
URL:https://foodinitiative.org/event/figs-mobile-pantry-2nd-thursday-of-the-month/2031-03-13/
LOCATION:Modesto Gospel Mission\, 1400 Yosemite Blvd\, Modesto\, CA\, 95354\, United States
END:VEVENT
BEGIN:VEVENT
DTSTART;TZID=UTC:20310410T093000
DTEND;TZID=UTC:20310410T110000
DTSTAMP:20260426T001301
CREATED:20250407T221317Z
LAST-MODIFIED:20260423T153030Z
UID:10003883-1933579800-1933585200@foodinitiative.org
SUMMARY:FIGS Mobile Pantry-2nd Thursday of the Month
DESCRIPTION:
URL:https://foodinitiative.org/event/figs-mobile-pantry-2nd-thursday-of-the-month/2031-04-10/
LOCATION:Modesto Gospel Mission\, 1400 Yosemite Blvd\, Modesto\, CA\, 95354\, United States
END:VEVENT
END:VCALENDAR