BEGIN:VCALENDAR
VERSION:2.0
PRODID:-//The Food Initiative - ECPv6.15.20//NONSGML v1.0//EN
CALSCALE:GREGORIAN
METHOD:PUBLISH
X-WR-CALNAME:The Food Initiative
X-ORIGINAL-URL:https://foodinitiative.org
X-WR-CALDESC:Events for The Food Initiative
REFRESH-INTERVAL;VALUE=DURATION:PT1H
X-Robots-Tag:noindex
X-PUBLISHED-TTL:PT1H
BEGIN:VTIMEZONE
TZID:UTC
BEGIN:STANDARD
TZOFFSETFROM:+0000
TZOFFSETTO:+0000
TZNAME:UTC
DTSTART:20250101T000000
END:STANDARD
END:VTIMEZONE
BEGIN:VEVENT
DTSTART;TZID=UTC:20260522T100000
DTEND;TZID=UTC:20260522T113000
DTSTAMP:20260424T202556
CREATED:20241223T161620Z
LAST-MODIFIED:20250407T193309Z
UID:10003094-1779444000-1779449400@foodinitiative.org
SUMMARY:FIGS Mobile Pantry-4th Friday of the Month
DESCRIPTION:
URL:https://foodinitiative.org/event/figs-mobile-pantry-16-2/2026-05-22/
LOCATION:Franklin Elementary Child Develpment\, 905 Byron Lane\, Modesto\, California\, 95351
END:VEVENT
BEGIN:VEVENT
DTSTART;TZID=UTC:20260528T100000
DTEND;TZID=UTC:20260528T110000
DTSTAMP:20260424T202556
CREATED:20241216T195748Z
LAST-MODIFIED:20250407T193343Z
UID:10000153-1779962400-1779966000@foodinitiative.org
SUMMARY:FIGS Mobile Pantry-4th Thursday of the Month
DESCRIPTION:
URL:https://foodinitiative.org/event/figs-mobile-pantry-2-2-2/2026-05-28/
LOCATION:Orville Wright Elementary Child Develpment\, 805 Empire Ave\, Modesto\, California\, 95354
END:VEVENT
BEGIN:VEVENT
DTSTART;TZID=UTC:20260625T100000
DTEND;TZID=UTC:20260625T110000
DTSTAMP:20260424T202556
CREATED:20241216T195748Z
LAST-MODIFIED:20250407T193343Z
UID:10000154-1782381600-1782385200@foodinitiative.org
SUMMARY:FIGS Mobile Pantry-4th Thursday of the Month
DESCRIPTION:
URL:https://foodinitiative.org/event/figs-mobile-pantry-2-2-2/2026-06-25/
LOCATION:Orville Wright Elementary Child Develpment\, 805 Empire Ave\, Modesto\, California\, 95354
END:VEVENT
BEGIN:VEVENT
DTSTART;TZID=UTC:20260626T100000
DTEND;TZID=UTC:20260626T113000
DTSTAMP:20260424T202556
CREATED:20241223T161620Z
LAST-MODIFIED:20250407T193309Z
UID:10003095-1782468000-1782473400@foodinitiative.org
SUMMARY:FIGS Mobile Pantry-4th Friday of the Month
DESCRIPTION:
URL:https://foodinitiative.org/event/figs-mobile-pantry-16-2/2026-06-26/
LOCATION:Franklin Elementary Child Develpment\, 905 Byron Lane\, Modesto\, California\, 95351
END:VEVENT
BEGIN:VEVENT
DTSTART;TZID=UTC:20260723T100000
DTEND;TZID=UTC:20260723T110000
DTSTAMP:20260424T202556
CREATED:20241216T195748Z
LAST-MODIFIED:20250407T193343Z
UID:10000155-1784800800-1784804400@foodinitiative.org
SUMMARY:FIGS Mobile Pantry-4th Thursday of the Month
DESCRIPTION:
URL:https://foodinitiative.org/event/figs-mobile-pantry-2-2-2/2026-07-23/
LOCATION:Orville Wright Elementary Child Develpment\, 805 Empire Ave\, Modesto\, California\, 95354
END:VEVENT
BEGIN:VEVENT
DTSTART;TZID=UTC:20260724T100000
DTEND;TZID=UTC:20260724T113000
DTSTAMP:20260424T202556
CREATED:20241223T161620Z
LAST-MODIFIED:20250407T193309Z
UID:10003096-1784887200-1784892600@foodinitiative.org
SUMMARY:FIGS Mobile Pantry-4th Friday of the Month
DESCRIPTION:
URL:https://foodinitiative.org/event/figs-mobile-pantry-16-2/2026-07-24/
LOCATION:Franklin Elementary Child Develpment\, 905 Byron Lane\, Modesto\, California\, 95351
END:VEVENT
BEGIN:VEVENT
DTSTART;TZID=UTC:20260827T100000
DTEND;TZID=UTC:20260827T110000
DTSTAMP:20260424T202556
CREATED:20241216T195748Z
LAST-MODIFIED:20250407T193343Z
UID:10000156-1787824800-1787828400@foodinitiative.org
SUMMARY:FIGS Mobile Pantry-4th Thursday of the Month
DESCRIPTION:
URL:https://foodinitiative.org/event/figs-mobile-pantry-2-2-2/2026-08-27/
LOCATION:Orville Wright Elementary Child Develpment\, 805 Empire Ave\, Modesto\, California\, 95354
END:VEVENT
BEGIN:VEVENT
DTSTART;TZID=UTC:20260828T100000
DTEND;TZID=UTC:20260828T113000
DTSTAMP:20260424T202556
CREATED:20241223T161620Z
LAST-MODIFIED:20250407T193309Z
UID:10003097-1787911200-1787916600@foodinitiative.org
SUMMARY:FIGS Mobile Pantry-4th Friday of the Month
DESCRIPTION:
URL:https://foodinitiative.org/event/figs-mobile-pantry-16-2/2026-08-28/
LOCATION:Franklin Elementary Child Develpment\, 905 Byron Lane\, Modesto\, California\, 95351
END:VEVENT
BEGIN:VEVENT
DTSTART;TZID=UTC:20260924T100000
DTEND;TZID=UTC:20260924T110000
DTSTAMP:20260424T202556
CREATED:20241216T195748Z
LAST-MODIFIED:20250407T193343Z
UID:10000157-1790244000-1790247600@foodinitiative.org
SUMMARY:FIGS Mobile Pantry-4th Thursday of the Month
DESCRIPTION:
URL:https://foodinitiative.org/event/figs-mobile-pantry-2-2-2/2026-09-24/
LOCATION:Orville Wright Elementary Child Develpment\, 805 Empire Ave\, Modesto\, California\, 95354
END:VEVENT
BEGIN:VEVENT
DTSTART;TZID=UTC:20260925T100000
DTEND;TZID=UTC:20260925T113000
DTSTAMP:20260424T202556
CREATED:20241223T161620Z
LAST-MODIFIED:20250407T193309Z
UID:10003098-1790330400-1790335800@foodinitiative.org
SUMMARY:FIGS Mobile Pantry-4th Friday of the Month
DESCRIPTION:
URL:https://foodinitiative.org/event/figs-mobile-pantry-16-2/2026-09-25/
LOCATION:Franklin Elementary Child Develpment\, 905 Byron Lane\, Modesto\, California\, 95351
END:VEVENT
BEGIN:VEVENT
DTSTART;TZID=UTC:20261022T100000
DTEND;TZID=UTC:20261022T110000
DTSTAMP:20260424T202556
CREATED:20241216T195748Z
LAST-MODIFIED:20250407T193343Z
UID:10000158-1792663200-1792666800@foodinitiative.org
SUMMARY:FIGS Mobile Pantry-4th Thursday of the Month
DESCRIPTION:
URL:https://foodinitiative.org/event/figs-mobile-pantry-2-2-2/2026-10-22/
LOCATION:Orville Wright Elementary Child Develpment\, 805 Empire Ave\, Modesto\, California\, 95354
END:VEVENT
BEGIN:VEVENT
DTSTART;TZID=UTC:20261023T100000
DTEND;TZID=UTC:20261023T113000
DTSTAMP:20260424T202556
CREATED:20241223T161620Z
LAST-MODIFIED:20250407T193309Z
UID:10003099-1792749600-1792755000@foodinitiative.org
SUMMARY:FIGS Mobile Pantry-4th Friday of the Month
DESCRIPTION:
URL:https://foodinitiative.org/event/figs-mobile-pantry-16-2/2026-10-23/
LOCATION:Franklin Elementary Child Develpment\, 905 Byron Lane\, Modesto\, California\, 95351
END:VEVENT
BEGIN:VEVENT
DTSTART;TZID=UTC:20261126T100000
DTEND;TZID=UTC:20261126T110000
DTSTAMP:20260424T202556
CREATED:20241216T195748Z
LAST-MODIFIED:20250407T193343Z
UID:10000159-1795687200-1795690800@foodinitiative.org
SUMMARY:FIGS Mobile Pantry-4th Thursday of the Month
DESCRIPTION:
URL:https://foodinitiative.org/event/figs-mobile-pantry-2-2-2/2026-11-26/
LOCATION:Orville Wright Elementary Child Develpment\, 805 Empire Ave\, Modesto\, California\, 95354
END:VEVENT
BEGIN:VEVENT
DTSTART;TZID=UTC:20261127T100000
DTEND;TZID=UTC:20261127T113000
DTSTAMP:20260424T202556
CREATED:20241223T161620Z
LAST-MODIFIED:20250407T193309Z
UID:10003100-1795773600-1795779000@foodinitiative.org
SUMMARY:FIGS Mobile Pantry-4th Friday of the Month
DESCRIPTION:
URL:https://foodinitiative.org/event/figs-mobile-pantry-16-2/2026-11-27/
LOCATION:Franklin Elementary Child Develpment\, 905 Byron Lane\, Modesto\, California\, 95351
END:VEVENT
BEGIN:VEVENT
DTSTART;TZID=UTC:20261224T100000
DTEND;TZID=UTC:20261224T110000
DTSTAMP:20260424T202556
CREATED:20241216T195748Z
LAST-MODIFIED:20250407T193343Z
UID:10000160-1798106400-1798110000@foodinitiative.org
SUMMARY:FIGS Mobile Pantry-4th Thursday of the Month
DESCRIPTION:
URL:https://foodinitiative.org/event/figs-mobile-pantry-2-2-2/2026-12-24/
LOCATION:Orville Wright Elementary Child Develpment\, 805 Empire Ave\, Modesto\, California\, 95354
END:VEVENT
BEGIN:VEVENT
DTSTART;TZID=UTC:20261225T100000
DTEND;TZID=UTC:20261225T113000
DTSTAMP:20260424T202556
CREATED:20241223T161620Z
LAST-MODIFIED:20250407T193309Z
UID:10003101-1798192800-1798198200@foodinitiative.org
SUMMARY:FIGS Mobile Pantry-4th Friday of the Month
DESCRIPTION:
URL:https://foodinitiative.org/event/figs-mobile-pantry-16-2/2026-12-25/
LOCATION:Franklin Elementary Child Develpment\, 905 Byron Lane\, Modesto\, California\, 95351
END:VEVENT
BEGIN:VEVENT
DTSTART;TZID=UTC:20270122T100000
DTEND;TZID=UTC:20270122T113000
DTSTAMP:20260424T202556
CREATED:20241223T161620Z
LAST-MODIFIED:20250407T193309Z
UID:10003102-1800612000-1800617400@foodinitiative.org
SUMMARY:FIGS Mobile Pantry-4th Friday of the Month
DESCRIPTION:
URL:https://foodinitiative.org/event/figs-mobile-pantry-16-2/2027-01-22/
LOCATION:Franklin Elementary Child Develpment\, 905 Byron Lane\, Modesto\, California\, 95351
END:VEVENT
BEGIN:VEVENT
DTSTART;TZID=UTC:20270128T100000
DTEND;TZID=UTC:20270128T110000
DTSTAMP:20260424T202556
CREATED:20241216T195748Z
LAST-MODIFIED:20250407T193343Z
UID:10000161-1801130400-1801134000@foodinitiative.org
SUMMARY:FIGS Mobile Pantry-4th Thursday of the Month
DESCRIPTION:
URL:https://foodinitiative.org/event/figs-mobile-pantry-2-2-2/2027-01-28/
LOCATION:Orville Wright Elementary Child Develpment\, 805 Empire Ave\, Modesto\, California\, 95354
END:VEVENT
BEGIN:VEVENT
DTSTART;TZID=UTC:20270225T100000
DTEND;TZID=UTC:20270225T110000
DTSTAMP:20260424T202556
CREATED:20241216T195748Z
LAST-MODIFIED:20250407T193343Z
UID:10000162-1803549600-1803553200@foodinitiative.org
SUMMARY:FIGS Mobile Pantry-4th Thursday of the Month
DESCRIPTION:
URL:https://foodinitiative.org/event/figs-mobile-pantry-2-2-2/2027-02-25/
LOCATION:Orville Wright Elementary Child Develpment\, 805 Empire Ave\, Modesto\, California\, 95354
END:VEVENT
BEGIN:VEVENT
DTSTART;TZID=UTC:20270226T100000
DTEND;TZID=UTC:20270226T113000
DTSTAMP:20260424T202556
CREATED:20241223T161620Z
LAST-MODIFIED:20250407T193309Z
UID:10003103-1803636000-1803641400@foodinitiative.org
SUMMARY:FIGS Mobile Pantry-4th Friday of the Month
DESCRIPTION:
URL:https://foodinitiative.org/event/figs-mobile-pantry-16-2/2027-02-26/
LOCATION:Franklin Elementary Child Develpment\, 905 Byron Lane\, Modesto\, California\, 95351
END:VEVENT
BEGIN:VEVENT
DTSTART;TZID=UTC:20270325T100000
DTEND;TZID=UTC:20270325T110000
DTSTAMP:20260424T202556
CREATED:20241216T195748Z
LAST-MODIFIED:20250407T193343Z
UID:10000163-1805968800-1805972400@foodinitiative.org
SUMMARY:FIGS Mobile Pantry-4th Thursday of the Month
DESCRIPTION:
URL:https://foodinitiative.org/event/figs-mobile-pantry-2-2-2/2027-03-25/
LOCATION:Orville Wright Elementary Child Develpment\, 805 Empire Ave\, Modesto\, California\, 95354
END:VEVENT
BEGIN:VEVENT
DTSTART;TZID=UTC:20270326T100000
DTEND;TZID=UTC:20270326T113000
DTSTAMP:20260424T202556
CREATED:20241223T161620Z
LAST-MODIFIED:20250407T193309Z
UID:10003104-1806055200-1806060600@foodinitiative.org
SUMMARY:FIGS Mobile Pantry-4th Friday of the Month
DESCRIPTION:
URL:https://foodinitiative.org/event/figs-mobile-pantry-16-2/2027-03-26/
LOCATION:Franklin Elementary Child Develpment\, 905 Byron Lane\, Modesto\, California\, 95351
END:VEVENT
BEGIN:VEVENT
DTSTART;TZID=UTC:20270422T100000
DTEND;TZID=UTC:20270422T110000
DTSTAMP:20260424T202556
CREATED:20241216T195748Z
LAST-MODIFIED:20250407T193343Z
UID:10000164-1808388000-1808391600@foodinitiative.org
SUMMARY:FIGS Mobile Pantry-4th Thursday of the Month
DESCRIPTION:
URL:https://foodinitiative.org/event/figs-mobile-pantry-2-2-2/2027-04-22/
LOCATION:Orville Wright Elementary Child Develpment\, 805 Empire Ave\, Modesto\, California\, 95354
END:VEVENT
BEGIN:VEVENT
DTSTART;TZID=UTC:20270423T100000
DTEND;TZID=UTC:20270423T113000
DTSTAMP:20260424T202556
CREATED:20241223T161620Z
LAST-MODIFIED:20250407T193309Z
UID:10003105-1808474400-1808479800@foodinitiative.org
SUMMARY:FIGS Mobile Pantry-4th Friday of the Month
DESCRIPTION:
URL:https://foodinitiative.org/event/figs-mobile-pantry-16-2/2027-04-23/
LOCATION:Franklin Elementary Child Develpment\, 905 Byron Lane\, Modesto\, California\, 95351
END:VEVENT
BEGIN:VEVENT
DTSTART;TZID=UTC:20270527T100000
DTEND;TZID=UTC:20270527T110000
DTSTAMP:20260424T202556
CREATED:20241216T195748Z
LAST-MODIFIED:20250407T193343Z
UID:10000165-1811412000-1811415600@foodinitiative.org
SUMMARY:FIGS Mobile Pantry-4th Thursday of the Month
DESCRIPTION:
URL:https://foodinitiative.org/event/figs-mobile-pantry-2-2-2/2027-05-27/
LOCATION:Orville Wright Elementary Child Develpment\, 805 Empire Ave\, Modesto\, California\, 95354
END:VEVENT
BEGIN:VEVENT
DTSTART;TZID=UTC:20270528T100000
DTEND;TZID=UTC:20270528T113000
DTSTAMP:20260424T202556
CREATED:20241223T161620Z
LAST-MODIFIED:20250407T193309Z
UID:10003106-1811498400-1811503800@foodinitiative.org
SUMMARY:FIGS Mobile Pantry-4th Friday of the Month
DESCRIPTION:
URL:https://foodinitiative.org/event/figs-mobile-pantry-16-2/2027-05-28/
LOCATION:Franklin Elementary Child Develpment\, 905 Byron Lane\, Modesto\, California\, 95351
END:VEVENT
BEGIN:VEVENT
DTSTART;TZID=UTC:20270624T100000
DTEND;TZID=UTC:20270624T110000
DTSTAMP:20260424T202556
CREATED:20241216T195748Z
LAST-MODIFIED:20250407T193343Z
UID:10000166-1813831200-1813834800@foodinitiative.org
SUMMARY:FIGS Mobile Pantry-4th Thursday of the Month
DESCRIPTION:
URL:https://foodinitiative.org/event/figs-mobile-pantry-2-2-2/2027-06-24/
LOCATION:Orville Wright Elementary Child Develpment\, 805 Empire Ave\, Modesto\, California\, 95354
END:VEVENT
BEGIN:VEVENT
DTSTART;TZID=UTC:20270625T100000
DTEND;TZID=UTC:20270625T113000
DTSTAMP:20260424T202556
CREATED:20241223T161620Z
LAST-MODIFIED:20250407T193309Z
UID:10003107-1813917600-1813923000@foodinitiative.org
SUMMARY:FIGS Mobile Pantry-4th Friday of the Month
DESCRIPTION:
URL:https://foodinitiative.org/event/figs-mobile-pantry-16-2/2027-06-25/
LOCATION:Franklin Elementary Child Develpment\, 905 Byron Lane\, Modesto\, California\, 95351
END:VEVENT
BEGIN:VEVENT
DTSTART;TZID=UTC:20270722T100000
DTEND;TZID=UTC:20270722T110000
DTSTAMP:20260424T202556
CREATED:20241216T195748Z
LAST-MODIFIED:20250407T193343Z
UID:10000167-1816250400-1816254000@foodinitiative.org
SUMMARY:FIGS Mobile Pantry-4th Thursday of the Month
DESCRIPTION:
URL:https://foodinitiative.org/event/figs-mobile-pantry-2-2-2/2027-07-22/
LOCATION:Orville Wright Elementary Child Develpment\, 805 Empire Ave\, Modesto\, California\, 95354
END:VEVENT
BEGIN:VEVENT
DTSTART;TZID=UTC:20270723T100000
DTEND;TZID=UTC:20270723T113000
DTSTAMP:20260424T202556
CREATED:20241223T161620Z
LAST-MODIFIED:20250407T193309Z
UID:10003108-1816336800-1816342200@foodinitiative.org
SUMMARY:FIGS Mobile Pantry-4th Friday of the Month
DESCRIPTION:
URL:https://foodinitiative.org/event/figs-mobile-pantry-16-2/2027-07-23/
LOCATION:Franklin Elementary Child Develpment\, 905 Byron Lane\, Modesto\, California\, 95351
END:VEVENT
END:VCALENDAR