BEGIN:VCALENDAR
VERSION:2.0
PRODID:-//The Food Initiative - ECPv6.15.20//NONSGML v1.0//EN
CALSCALE:GREGORIAN
METHOD:PUBLISH
X-WR-CALNAME:The Food Initiative
X-ORIGINAL-URL:https://foodinitiative.org
X-WR-CALDESC:Events for The Food Initiative
REFRESH-INTERVAL;VALUE=DURATION:PT1H
X-Robots-Tag:noindex
X-PUBLISHED-TTL:PT1H
BEGIN:VTIMEZONE
TZID:UTC
BEGIN:STANDARD
TZOFFSETFROM:+0000
TZOFFSETTO:+0000
TZNAME:UTC
DTSTART:20250101T000000
END:STANDARD
END:VTIMEZONE
BEGIN:VEVENT
DTSTART;TZID=UTC:20260707T160000
DTEND;TZID=UTC:20260707T170000
DTSTAMP:20260425T152044
CREATED:20240105T222051Z
LAST-MODIFIED:20250407T205111Z
UID:10000847-1783440000-1783443600@foodinitiative.org
SUMMARY:FIGS Mobile Pantry-1st Tuesday of the Month
DESCRIPTION:
URL:https://foodinitiative.org/event/figs-mobile-pantry-10/2026-07-07/
LOCATION:Johansen High School\, 641 Norseman Dr\, Modesto\, CA\, 95357\, United States
END:VEVENT
BEGIN:VEVENT
DTSTART;TZID=UTC:20260707T093000
DTEND;TZID=UTC:20260707T110000
DTSTAMP:20260425T152044
CREATED:20250407T204228Z
LAST-MODIFIED:20250407T204645Z
UID:10003392-1783416600-1783422000@foodinitiative.org
SUMMARY:FIGS Mobile Pantry-1st Tuesday of the Month
DESCRIPTION:
URL:https://foodinitiative.org/event/figs-mobile-pantry-1st-tuesday-of-the-month/2026-07-07/
LOCATION:Elliot Alternative High School\, 1440 Sunrise Ave.\, Modesto\, CA\, 95350\, United States
END:VEVENT
BEGIN:VEVENT
DTSTART;TZID=UTC:20260703T093000
DTEND;TZID=UTC:20260703T110000
DTSTAMP:20260425T152044
CREATED:20240105T235104Z
LAST-MODIFIED:20260423T153221Z
UID:10003973-1783071000-1783076400@foodinitiative.org
SUMMARY:FIGS Mobile Pantry-1st Friday of the Month
DESCRIPTION:
URL:https://foodinitiative.org/event/figs-mobile-pantry-13/2026-07-03/
LOCATION:Modesto Gospel Mission\, 1400 Yosemite Blvd\, Modesto\, CA\, 95354\, United States
END:VEVENT
BEGIN:VEVENT
DTSTART;TZID=UTC:20260702T150000
DTEND;TZID=UTC:20260702T160000
DTSTAMP:20260425T152044
CREATED:20240105T232548Z
LAST-MODIFIED:20250923T162157Z
UID:10001281-1783004400-1783008000@foodinitiative.org
SUMMARY:FIGS Mobile Pantry-1st Thursday of the Month
DESCRIPTION:
URL:https://foodinitiative.org/event/figs-mobile-pantry-12/2026-07-02/
LOCATION:St. Matthias Anglican Church\, 101 S. First Avenue\, OAKDALE\, CA\, 95361\, United States
END:VEVENT
BEGIN:VEVENT
DTSTART;TZID=UTC:20260702T093000
DTEND;TZID=UTC:20260702T110000
DTSTAMP:20260425T152044
CREATED:20250407T195914Z
LAST-MODIFIED:20250407T195914Z
UID:10003250-1782984600-1782990000@foodinitiative.org
SUMMARY:FIGS Mobile Pantry-1st Thursday of the Month
DESCRIPTION:
URL:https://foodinitiative.org/event/figs-mobile-pantry-22-2-2/2026-07-02/
LOCATION:Harriette Kirschen Elementary\, 1900 Kirschen Dr\, Modesto\, California\, 95351
END:VEVENT
BEGIN:VEVENT
DTSTART;TZID=UTC:20260630T093000
DTEND;TZID=UTC:20260630T110000
DTSTAMP:20260425T152044
CREATED:20240105T232034Z
LAST-MODIFIED:20260423T153248Z
UID:10004041-1782811800-1782817200@foodinitiative.org
SUMMARY:FIGS Mobile Pantry-5th Tuesday of the Month
DESCRIPTION:
URL:https://foodinitiative.org/event/figs-mobile-pantry-6/2026-06-30/
LOCATION:Modesto Gospel Mission\, 1400 Yosemite Blvd\, Modesto\, CA\, 95354\, United States
END:VEVENT
BEGIN:VEVENT
DTSTART;TZID=UTC:20260627T090000
DTEND;TZID=UTC:20260627T103000
DTSTAMP:20260425T152044
CREATED:20241216T200349Z
LAST-MODIFIED:20250324T190638Z
UID:10002977-1782550800-1782556200@foodinitiative.org
SUMMARY:Figs Mobile Pantry- 4th Saturday of the Month
DESCRIPTION:
URL:https://foodinitiative.org/event/figs-mobile-pantry-4th-saturday-of-the-month/2026-06-27/
LOCATION:Church of the Brethren\, 2301 Woodland Ave\, Modesto\, CA\, 95358\, United States
END:VEVENT
BEGIN:VEVENT
DTSTART;TZID=UTC:20260626T100000
DTEND;TZID=UTC:20260626T113000
DTSTAMP:20260425T152044
CREATED:20241223T161620Z
LAST-MODIFIED:20250407T193309Z
UID:10003095-1782468000-1782473400@foodinitiative.org
SUMMARY:FIGS Mobile Pantry-4th Friday of the Month
DESCRIPTION:
URL:https://foodinitiative.org/event/figs-mobile-pantry-16-2/2026-06-26/
LOCATION:Franklin Elementary Child Develpment\, 905 Byron Lane\, Modesto\, California\, 95351
END:VEVENT
BEGIN:VEVENT
DTSTART;TZID=UTC:20260625T100000
DTEND;TZID=UTC:20260625T110000
DTSTAMP:20260425T152044
CREATED:20241216T195748Z
LAST-MODIFIED:20250407T193343Z
UID:10000154-1782381600-1782385200@foodinitiative.org
SUMMARY:FIGS Mobile Pantry-4th Thursday of the Month
DESCRIPTION:
URL:https://foodinitiative.org/event/figs-mobile-pantry-2-2-2/2026-06-25/
LOCATION:Orville Wright Elementary Child Develpment\, 805 Empire Ave\, Modesto\, California\, 95354
END:VEVENT
BEGIN:VEVENT
DTSTART;TZID=UTC:20260624T100000
DTEND;TZID=UTC:20260624T110000
DTSTAMP:20260425T152044
CREATED:20240105T234550Z
LAST-MODIFIED:20250407T205856Z
UID:10000095-1782295200-1782298800@foodinitiative.org
SUMMARY:FIGS Mobile Pantry-4th Wednesday of the Month
DESCRIPTION:
URL:https://foodinitiative.org/event/figs-mobile-pantry-2/2026-06-24/
LOCATION:Empire Church of Christ\, 434 Church Street\, Empire\, CA\, United States
END:VEVENT
BEGIN:VEVENT
DTSTART;TZID=UTC:20260623T093000
DTEND;TZID=UTC:20260623T110000
DTSTAMP:20260425T152044
CREATED:20240105T231908Z
LAST-MODIFIED:20260423T153319Z
UID:10004090-1782207000-1782212400@foodinitiative.org
SUMMARY:FIGS Mobile Pantry-4th Tuesday of the Month
DESCRIPTION:
URL:https://foodinitiative.org/event/figs-mobile-pantry-5/2026-06-23/
LOCATION:Modesto Gospel Mission\, 1400 Yosemite Blvd\, Modesto\, CA\, 95354\, United States
END:VEVENT
BEGIN:VEVENT
DTSTART;TZID=UTC:20260620T090000
DTEND;TZID=UTC:20260620T103000
DTSTAMP:20260425T152044
CREATED:20250501T180111Z
LAST-MODIFIED:20250923T162551Z
UID:10000764-1781946000-1781951400@foodinitiative.org
SUMMARY:FIGS Mobile Pantry-3rd Saturday of the Month
DESCRIPTION:
URL:https://foodinitiative.org/event/figs-mobile-pantry-4-2/2026-06-20/
LOCATION:Children’s Garden\, 3525 Pelandale Ave\, Modesto\, CA\, 95356\, United States
END:VEVENT
BEGIN:VEVENT
DTSTART;TZID=UTC:20260619T100000
DTEND;TZID=UTC:20260619T120000
DTSTAMP:20260425T152044
CREATED:20240126T190521Z
LAST-MODIFIED:20250407T203116Z
UID:10002077-1781863200-1781870400@foodinitiative.org
SUMMARY:FIGS Mobile Pantry-3rd Friday of the Month
DESCRIPTION:
URL:https://foodinitiative.org/event/figs-mobile-pantry-17/2026-06-19/
LOCATION:The Well Community Fellowship\, 2500 Claus Rd\, Modesto\, 95355\, United States
END:VEVENT
BEGIN:VEVENT
DTSTART;TZID=UTC:20260618T093000
DTEND;TZID=UTC:20260618T110000
DTSTAMP:20260425T152044
CREATED:20240520T213643Z
LAST-MODIFIED:20250407T193446Z
UID:10002856-1781775000-1781780400@foodinitiative.org
SUMMARY:FIGS Mobile Pantry-3rd Thursday of the Month
DESCRIPTION:
URL:https://foodinitiative.org/event/figs-mobile-pantry-25/2026-06-18/
LOCATION:Everett Elementary School\, 1530 Mt. Vernon Dr\, Modesto\, 95350\, United States
END:VEVENT
BEGIN:VEVENT
DTSTART;TZID=UTC:20260617T093000
DTEND;TZID=UTC:20260617T110000
DTSTAMP:20260425T152044
CREATED:20240131T004740Z
LAST-MODIFIED:20250407T202118Z
UID:10002428-1781688600-1781694000@foodinitiative.org
SUMMARY:FIGS Mobile Pantry-3rd Wednesday of the Month
DESCRIPTION:
URL:https://foodinitiative.org/event/figs-mobile-pantry-19/2026-06-17/
LOCATION:International Rescue Committee (IRC)\, 3446 N. Golden State Blvd.\, Turlock\, 95380\, United States
END:VEVENT
BEGIN:VEVENT
DTSTART;TZID=UTC:20260616T093000
DTEND;TZID=UTC:20260616T103000
DTSTAMP:20260425T152044
CREATED:20240105T222218Z
LAST-MODIFIED:20260423T153348Z
UID:10004177-1781602200-1781605800@foodinitiative.org
SUMMARY:FIGS Mobile Pantry-3rd Tuesday of the Month
DESCRIPTION:
URL:https://foodinitiative.org/event/figs-mobile-pantry-11/2026-06-16/
LOCATION:Johansen High School\, 641 Norseman Dr\, Modesto\, CA\, 95357\, United States
END:VEVENT
BEGIN:VEVENT
DTSTART;TZID=UTC:20260612T093000
DTEND;TZID=UTC:20260612T110000
DTSTAMP:20260425T152044
CREATED:20250407T190230Z
LAST-MODIFIED:20250407T204721Z
UID:10003166-1781256600-1781262000@foodinitiative.org
SUMMARY:FIGS Mobile Food Pantry-2nd Friday of the Month
DESCRIPTION:
URL:https://foodinitiative.org/event/figs-mobile-food-pantry/2026-06-12/
LOCATION:Hanshaw Middle School\, 1724 Las Vegas St\, Modesto\, CA\, 95358\, United States
END:VEVENT
BEGIN:VEVENT
DTSTART;TZID=UTC:20260611T093000
DTEND;TZID=UTC:20260611T110000
DTSTAMP:20260425T152044
CREATED:20250407T221317Z
LAST-MODIFIED:20260423T153030Z
UID:10003825-1781170200-1781175600@foodinitiative.org
SUMMARY:FIGS Mobile Pantry-2nd Thursday of the Month
DESCRIPTION:
URL:https://foodinitiative.org/event/figs-mobile-pantry-2nd-thursday-of-the-month/2026-06-11/
LOCATION:Modesto Gospel Mission\, 1400 Yosemite Blvd\, Modesto\, CA\, 95354\, United States
END:VEVENT
BEGIN:VEVENT
DTSTART;TZID=UTC:20260609T133000
DTEND;TZID=UTC:20260609T150000
DTSTAMP:20260425T152044
CREATED:20250811T193642Z
LAST-MODIFIED:20250811T194637Z
UID:10003751-1781011800-1781017200@foodinitiative.org
SUMMARY:FIGS Mobile Pantry-2nd Tuesday of the Month
DESCRIPTION:
URL:https://foodinitiative.org/event/figs-mobile-pantry-2nd-tuesday-of-the-month/2026-06-09/
LOCATION:Sierra Vista\, 906 Imperial Ave\, Modesto\, CA\, 95358\, United States
END:VEVENT
BEGIN:VEVENT
DTSTART;TZID=UTC:20260609T093000
DTEND;TZID=UTC:20260609T110000
DTSTAMP:20260425T152044
CREATED:20240325T220617Z
LAST-MODIFIED:20250407T194959Z
UID:10002670-1780997400-1781002800@foodinitiative.org
SUMMARY:FIGS Mobile Pantry-2nd Tuesday of the Month
DESCRIPTION:
URL:https://foodinitiative.org/event/figs-mobile-pantry-24/2026-06-09/
LOCATION:West Modesto Community Collaborative\, 601 S Martin Luther King Drive\, Modesto\, CA\, 95351
END:VEVENT
BEGIN:VEVENT
DTSTART;TZID=UTC:20260605T093000
DTEND;TZID=UTC:20260605T110000
DTSTAMP:20260425T152044
CREATED:20240105T235104Z
LAST-MODIFIED:20260423T153221Z
UID:10003972-1780651800-1780657200@foodinitiative.org
SUMMARY:FIGS Mobile Pantry-1st Friday of the Month
DESCRIPTION:
URL:https://foodinitiative.org/event/figs-mobile-pantry-13/2026-06-05/
LOCATION:Modesto Gospel Mission\, 1400 Yosemite Blvd\, Modesto\, CA\, 95354\, United States
END:VEVENT
BEGIN:VEVENT
DTSTART;TZID=UTC:20260604T150000
DTEND;TZID=UTC:20260604T160000
DTSTAMP:20260425T152044
CREATED:20240105T232548Z
LAST-MODIFIED:20250923T162157Z
UID:10001280-1780585200-1780588800@foodinitiative.org
SUMMARY:FIGS Mobile Pantry-1st Thursday of the Month
DESCRIPTION:
URL:https://foodinitiative.org/event/figs-mobile-pantry-12/2026-06-04/
LOCATION:St. Matthias Anglican Church\, 101 S. First Avenue\, OAKDALE\, CA\, 95361\, United States
END:VEVENT
BEGIN:VEVENT
DTSTART;TZID=UTC:20260604T093000
DTEND;TZID=UTC:20260604T110000
DTSTAMP:20260425T152044
CREATED:20250407T195914Z
LAST-MODIFIED:20250407T195914Z
UID:10002488-1780565400-1780570800@foodinitiative.org
SUMMARY:FIGS Mobile Pantry-1st Thursday of the Month
DESCRIPTION:
URL:https://foodinitiative.org/event/figs-mobile-pantry-22-2-2/2026-06-04/
LOCATION:Harriette Kirschen Elementary\, 1900 Kirschen Dr\, Modesto\, California\, 95351
END:VEVENT
BEGIN:VEVENT
DTSTART;TZID=UTC:20260602T160000
DTEND;TZID=UTC:20260602T170000
DTSTAMP:20260425T152044
CREATED:20240105T222051Z
LAST-MODIFIED:20250407T205111Z
UID:10000846-1780416000-1780419600@foodinitiative.org
SUMMARY:FIGS Mobile Pantry-1st Tuesday of the Month
DESCRIPTION:
URL:https://foodinitiative.org/event/figs-mobile-pantry-10/2026-06-02/
LOCATION:Johansen High School\, 641 Norseman Dr\, Modesto\, CA\, 95357\, United States
END:VEVENT
BEGIN:VEVENT
DTSTART;TZID=UTC:20260602T093000
DTEND;TZID=UTC:20260602T110000
DTSTAMP:20260425T152044
CREATED:20250407T204228Z
LAST-MODIFIED:20250407T204645Z
UID:10003391-1780392600-1780398000@foodinitiative.org
SUMMARY:FIGS Mobile Pantry-1st Tuesday of the Month
DESCRIPTION:
URL:https://foodinitiative.org/event/figs-mobile-pantry-1st-tuesday-of-the-month/2026-06-02/
LOCATION:Elliot Alternative High School\, 1440 Sunrise Ave.\, Modesto\, CA\, 95350\, United States
END:VEVENT
BEGIN:VEVENT
DTSTART;TZID=UTC:20260529T093000
DTEND;TZID=UTC:20260529T110000
DTSTAMP:20260425T152044
CREATED:20250407T201439Z
LAST-MODIFIED:20260423T153121Z
UID:10003893-1780047000-1780052400@foodinitiative.org
SUMMARY:FIGS Mobile Pantry-5th Friday of the Month
DESCRIPTION:
URL:https://foodinitiative.org/event/figs-mobile-pantry-5th-friday-of-the-month/2026-05-29/
LOCATION:Modesto Gospel Mission\, 1400 Yosemite Blvd\, Modesto\, CA\, 95354\, United States
END:VEVENT
BEGIN:VEVENT
DTSTART;TZID=UTC:20260528T100000
DTEND;TZID=UTC:20260528T110000
DTSTAMP:20260425T152044
CREATED:20241216T195748Z
LAST-MODIFIED:20250407T193343Z
UID:10000153-1779962400-1779966000@foodinitiative.org
SUMMARY:FIGS Mobile Pantry-4th Thursday of the Month
DESCRIPTION:
URL:https://foodinitiative.org/event/figs-mobile-pantry-2-2-2/2026-05-28/
LOCATION:Orville Wright Elementary Child Develpment\, 805 Empire Ave\, Modesto\, California\, 95354
END:VEVENT
BEGIN:VEVENT
DTSTART;TZID=UTC:20260527T100000
DTEND;TZID=UTC:20260527T110000
DTSTAMP:20260425T152044
CREATED:20240105T234550Z
LAST-MODIFIED:20250407T205856Z
UID:10000094-1779876000-1779879600@foodinitiative.org
SUMMARY:FIGS Mobile Pantry-4th Wednesday of the Month
DESCRIPTION:
URL:https://foodinitiative.org/event/figs-mobile-pantry-2/2026-05-27/
LOCATION:Empire Church of Christ\, 434 Church Street\, Empire\, CA\, United States
END:VEVENT
BEGIN:VEVENT
DTSTART;TZID=UTC:20260526T093000
DTEND;TZID=UTC:20260526T110000
DTSTAMP:20260425T152044
CREATED:20240105T231908Z
LAST-MODIFIED:20260423T153319Z
UID:10004089-1779787800-1779793200@foodinitiative.org
SUMMARY:FIGS Mobile Pantry-4th Tuesday of the Month
DESCRIPTION:
URL:https://foodinitiative.org/event/figs-mobile-pantry-5/2026-05-26/
LOCATION:Modesto Gospel Mission\, 1400 Yosemite Blvd\, Modesto\, CA\, 95354\, United States
END:VEVENT
BEGIN:VEVENT
DTSTART;TZID=UTC:20260523T090000
DTEND;TZID=UTC:20260523T103000
DTSTAMP:20260425T152044
CREATED:20241216T200349Z
LAST-MODIFIED:20250324T190638Z
UID:10002976-1779526800-1779532200@foodinitiative.org
SUMMARY:Figs Mobile Pantry- 4th Saturday of the Month
DESCRIPTION:
URL:https://foodinitiative.org/event/figs-mobile-pantry-4th-saturday-of-the-month/2026-05-23/
LOCATION:Church of the Brethren\, 2301 Woodland Ave\, Modesto\, CA\, 95358\, United States
END:VEVENT
END:VCALENDAR