BEGIN:VCALENDAR
VERSION:2.0
PRODID:-//The Food Initiative - ECPv6.15.20//NONSGML v1.0//EN
CALSCALE:GREGORIAN
METHOD:PUBLISH
X-WR-CALNAME:The Food Initiative
X-ORIGINAL-URL:https://foodinitiative.org
X-WR-CALDESC:Events for The Food Initiative
REFRESH-INTERVAL;VALUE=DURATION:PT1H
X-Robots-Tag:noindex
X-PUBLISHED-TTL:PT1H
BEGIN:VTIMEZONE
TZID:UTC
BEGIN:STANDARD
TZOFFSETFROM:+0000
TZOFFSETTO:+0000
TZNAME:UTC
DTSTART:20240101T000000
END:STANDARD
END:VTIMEZONE
BEGIN:VEVENT
DTSTART;TZID=UTC:20250424T100000
DTEND;TZID=UTC:20250424T110000
DTSTAMP:20260426T004152
CREATED:20241216T195748Z
LAST-MODIFIED:20250407T193343Z
UID:10000140-1745488800-1745492400@foodinitiative.org
SUMMARY:FIGS Mobile Pantry-4th Thursday of the Month
DESCRIPTION:
URL:https://foodinitiative.org/event/figs-mobile-pantry-2-2-2/2025-04-24/
LOCATION:Orville Wright Elementary Child Develpment\, 805 Empire Ave\, Modesto\, California\, 95354
END:VEVENT
BEGIN:VEVENT
DTSTART;TZID=UTC:20250423T100000
DTEND;TZID=UTC:20250423T110000
DTSTAMP:20260426T004152
CREATED:20240105T234550Z
LAST-MODIFIED:20250407T205856Z
UID:10000081-1745402400-1745406000@foodinitiative.org
SUMMARY:FIGS Mobile Pantry-4th Wednesday of the Month
DESCRIPTION:
URL:https://foodinitiative.org/event/figs-mobile-pantry-2/2025-04-23/
LOCATION:Empire Church of Christ\, 434 Church Street\, Empire\, CA\, United States
END:VEVENT
BEGIN:VEVENT
DTSTART;TZID=UTC:20250422T093000
DTEND;TZID=UTC:20250422T110000
DTSTAMP:20260426T004152
CREATED:20240105T231908Z
LAST-MODIFIED:20260423T153319Z
UID:10004076-1745314200-1745319600@foodinitiative.org
SUMMARY:FIGS Mobile Pantry-4th Tuesday of the Month
DESCRIPTION:
URL:https://foodinitiative.org/event/figs-mobile-pantry-5/2025-04-22/
LOCATION:Modesto Gospel Mission\, 1400 Yosemite Blvd\, Modesto\, CA\, 95354\, United States
END:VEVENT
BEGIN:VEVENT
DTSTART;TZID=UTC:20250418T100000
DTEND;TZID=UTC:20250418T120000
DTSTAMP:20260426T004152
CREATED:20240126T190521Z
LAST-MODIFIED:20250407T203116Z
UID:10002063-1744970400-1744977600@foodinitiative.org
SUMMARY:FIGS Mobile Pantry-3rd Friday of the Month
DESCRIPTION:
URL:https://foodinitiative.org/event/figs-mobile-pantry-17/2025-04-18/
LOCATION:The Well Community Fellowship\, 2500 Claus Rd\, Modesto\, 95355\, United States
END:VEVENT
BEGIN:VEVENT
DTSTART;TZID=UTC:20250417T093000
DTEND;TZID=UTC:20250417T110000
DTSTAMP:20260426T004152
CREATED:20240520T213643Z
LAST-MODIFIED:20250407T193446Z
UID:10002842-1744882200-1744887600@foodinitiative.org
SUMMARY:FIGS Mobile Pantry-3rd Thursday of the Month
DESCRIPTION:
URL:https://foodinitiative.org/event/figs-mobile-pantry-25/2025-04-17/
LOCATION:Everett Elementary School\, 1530 Mt. Vernon Dr\, Modesto\, 95350\, United States
END:VEVENT
BEGIN:VEVENT
DTSTART;TZID=UTC:20250416T093000
DTEND;TZID=UTC:20250416T110000
DTSTAMP:20260426T004152
CREATED:20240131T004740Z
LAST-MODIFIED:20250407T202118Z
UID:10002414-1744795800-1744801200@foodinitiative.org
SUMMARY:FIGS Mobile Pantry-3rd Wednesday of the Month
DESCRIPTION:
URL:https://foodinitiative.org/event/figs-mobile-pantry-19/2025-04-16/
LOCATION:International Rescue Committee (IRC)\, 3446 N. Golden State Blvd.\, Turlock\, 95380\, United States
END:VEVENT
BEGIN:VEVENT
DTSTART;TZID=UTC:20250415T093000
DTEND;TZID=UTC:20250415T103000
DTSTAMP:20260426T004152
CREATED:20240105T222218Z
LAST-MODIFIED:20260423T153348Z
UID:10004163-1744709400-1744713000@foodinitiative.org
SUMMARY:FIGS Mobile Pantry-3rd Tuesday of the Month
DESCRIPTION:
URL:https://foodinitiative.org/event/figs-mobile-pantry-11/2025-04-15/
LOCATION:Johansen High School\, 641 Norseman Dr\, Modesto\, CA\, 95357\, United States
END:VEVENT
BEGIN:VEVENT
DTSTART;TZID=UTC:20250410T093000
DTEND;TZID=UTC:20250410T110000
DTSTAMP:20260426T004152
CREATED:20250407T221317Z
LAST-MODIFIED:20260423T153030Z
UID:10003811-1744277400-1744282800@foodinitiative.org
SUMMARY:FIGS Mobile Pantry-2nd Thursday of the Month
DESCRIPTION:
URL:https://foodinitiative.org/event/figs-mobile-pantry-2nd-thursday-of-the-month/2025-04-10/
LOCATION:Modesto Gospel Mission\, 1400 Yosemite Blvd\, Modesto\, CA\, 95354\, United States
END:VEVENT
BEGIN:VEVENT
DTSTART;TZID=UTC:20250408T093000
DTEND;TZID=UTC:20250408T110000
DTSTAMP:20260426T004152
CREATED:20240325T220617Z
LAST-MODIFIED:20250407T194959Z
UID:10002656-1744104600-1744110000@foodinitiative.org
SUMMARY:FIGS Mobile Pantry-2nd Tuesday of the Month
DESCRIPTION:
URL:https://foodinitiative.org/event/figs-mobile-pantry-24/2025-04-08/
LOCATION:West Modesto Community Collaborative\, 601 S Martin Luther King Drive\, Modesto\, CA\, 95351
END:VEVENT
BEGIN:VEVENT
DTSTART;TZID=UTC:20250404T093000
DTEND;TZID=UTC:20250404T110000
DTSTAMP:20260426T004152
CREATED:20240105T235104Z
LAST-MODIFIED:20260423T153221Z
UID:10003958-1743759000-1743764400@foodinitiative.org
SUMMARY:FIGS Mobile Pantry-1st Friday of the Month
DESCRIPTION:
URL:https://foodinitiative.org/event/figs-mobile-pantry-13/2025-04-04/
LOCATION:Modesto Gospel Mission\, 1400 Yosemite Blvd\, Modesto\, CA\, 95354\, United States
END:VEVENT
BEGIN:VEVENT
DTSTART;TZID=UTC:20250403T150000
DTEND;TZID=UTC:20250403T160000
DTSTAMP:20260426T004152
CREATED:20240105T232548Z
LAST-MODIFIED:20250923T162157Z
UID:10001266-1743692400-1743696000@foodinitiative.org
SUMMARY:FIGS Mobile Pantry-1st Thursday of the Month
DESCRIPTION:
URL:https://foodinitiative.org/event/figs-mobile-pantry-12/2025-04-03/
LOCATION:St. Matthias Anglican Church\, 101 S. First Avenue\, OAKDALE\, CA\, 95361\, United States
END:VEVENT
BEGIN:VEVENT
DTSTART;TZID=UTC:20250401T160000
DTEND;TZID=UTC:20250401T170000
DTSTAMP:20260426T004152
CREATED:20240105T222051Z
LAST-MODIFIED:20250407T205111Z
UID:10000832-1743523200-1743526800@foodinitiative.org
SUMMARY:FIGS Mobile Pantry-1st Tuesday of the Month
DESCRIPTION:
URL:https://foodinitiative.org/event/figs-mobile-pantry-10/2025-04-01/
LOCATION:Johansen High School\, 641 Norseman Dr\, Modesto\, CA\, 95357\, United States
END:VEVENT
BEGIN:VEVENT
DTSTART;TZID=UTC:20250328T100000
DTEND;TZID=UTC:20250328T113000
DTSTAMP:20260426T004152
CREATED:20241223T161620Z
LAST-MODIFIED:20250407T193309Z
UID:10003080-1743156000-1743161400@foodinitiative.org
SUMMARY:FIGS Mobile Pantry-4th Friday of the Month
DESCRIPTION:
URL:https://foodinitiative.org/event/figs-mobile-pantry-16-2/2025-03-28/
LOCATION:Franklin Elementary Child Develpment\, 905 Byron Lane\, Modesto\, California\, 95351
END:VEVENT
BEGIN:VEVENT
DTSTART;TZID=UTC:20250327T100000
DTEND;TZID=UTC:20250327T110000
DTSTAMP:20260426T004152
CREATED:20241216T195748Z
LAST-MODIFIED:20250407T193343Z
UID:10000139-1743069600-1743073200@foodinitiative.org
SUMMARY:FIGS Mobile Pantry-4th Thursday of the Month
DESCRIPTION:
URL:https://foodinitiative.org/event/figs-mobile-pantry-2-2-2/2025-03-27/
LOCATION:Orville Wright Elementary Child Develpment\, 805 Empire Ave\, Modesto\, California\, 95354
END:VEVENT
BEGIN:VEVENT
DTSTART;TZID=UTC:20250326T100000
DTEND;TZID=UTC:20250326T110000
DTSTAMP:20260426T004152
CREATED:20240105T234550Z
LAST-MODIFIED:20250407T205856Z
UID:10000080-1742983200-1742986800@foodinitiative.org
SUMMARY:FIGS Mobile Pantry-4th Wednesday of the Month
DESCRIPTION:
URL:https://foodinitiative.org/event/figs-mobile-pantry-2/2025-03-26/
LOCATION:Empire Church of Christ\, 434 Church Street\, Empire\, CA\, United States
END:VEVENT
BEGIN:VEVENT
DTSTART;TZID=UTC:20250325T093000
DTEND;TZID=UTC:20250325T110000
DTSTAMP:20260426T004152
CREATED:20240105T231908Z
LAST-MODIFIED:20260423T153319Z
UID:10004075-1742895000-1742900400@foodinitiative.org
SUMMARY:FIGS Mobile Pantry-4th Tuesday of the Month
DESCRIPTION:
URL:https://foodinitiative.org/event/figs-mobile-pantry-5/2025-03-25/
LOCATION:Modesto Gospel Mission\, 1400 Yosemite Blvd\, Modesto\, CA\, 95354\, United States
END:VEVENT
BEGIN:VEVENT
DTSTART;TZID=UTC:20250322T090000
DTEND;TZID=UTC:20250322T103000
DTSTAMP:20260426T004152
CREATED:20241216T200349Z
LAST-MODIFIED:20250324T190638Z
UID:10002962-1742634000-1742639400@foodinitiative.org
SUMMARY:Figs Mobile Pantry- 4th Saturday of the Month
DESCRIPTION:
URL:https://foodinitiative.org/event/figs-mobile-pantry-4th-saturday-of-the-month/2025-03-22/
LOCATION:Church of the Brethren\, 2301 Woodland Ave\, Modesto\, CA\, 95358\, United States
END:VEVENT
BEGIN:VEVENT
DTSTART;TZID=UTC:20250321T100000
DTEND;TZID=UTC:20250321T120000
DTSTAMP:20260426T004152
CREATED:20240126T190521Z
LAST-MODIFIED:20250407T203116Z
UID:10002062-1742551200-1742558400@foodinitiative.org
SUMMARY:FIGS Mobile Pantry-3rd Friday of the Month
DESCRIPTION:
URL:https://foodinitiative.org/event/figs-mobile-pantry-17/2025-03-21/
LOCATION:The Well Community Fellowship\, 2500 Claus Rd\, Modesto\, 95355\, United States
END:VEVENT
BEGIN:VEVENT
DTSTART;TZID=UTC:20250320T093000
DTEND;TZID=UTC:20250320T110000
DTSTAMP:20260426T004152
CREATED:20240520T213643Z
LAST-MODIFIED:20250407T193446Z
UID:10002841-1742463000-1742468400@foodinitiative.org
SUMMARY:FIGS Mobile Pantry-3rd Thursday of the Month
DESCRIPTION:
URL:https://foodinitiative.org/event/figs-mobile-pantry-25/2025-03-20/
LOCATION:Everett Elementary School\, 1530 Mt. Vernon Dr\, Modesto\, 95350\, United States
END:VEVENT
BEGIN:VEVENT
DTSTART;TZID=UTC:20250319T093000
DTEND;TZID=UTC:20250319T110000
DTSTAMP:20260426T004152
CREATED:20240131T004740Z
LAST-MODIFIED:20250407T202118Z
UID:10002413-1742376600-1742382000@foodinitiative.org
SUMMARY:FIGS Mobile Pantry-3rd Wednesday of the Month
DESCRIPTION:
URL:https://foodinitiative.org/event/figs-mobile-pantry-19/2025-03-19/
LOCATION:International Rescue Committee (IRC)\, 3446 N. Golden State Blvd.\, Turlock\, 95380\, United States
END:VEVENT
BEGIN:VEVENT
DTSTART;TZID=UTC:20250318T093000
DTEND;TZID=UTC:20250318T103000
DTSTAMP:20260426T004152
CREATED:20240105T222218Z
LAST-MODIFIED:20260423T153348Z
UID:10004162-1742290200-1742293800@foodinitiative.org
SUMMARY:FIGS Mobile Pantry-3rd Tuesday of the Month
DESCRIPTION:
URL:https://foodinitiative.org/event/figs-mobile-pantry-11/2025-03-18/
LOCATION:Johansen High School\, 641 Norseman Dr\, Modesto\, CA\, 95357\, United States
END:VEVENT
BEGIN:VEVENT
DTSTART;TZID=UTC:20250311T093000
DTEND;TZID=UTC:20250311T110000
DTSTAMP:20260426T004152
CREATED:20240325T220617Z
LAST-MODIFIED:20250407T194959Z
UID:10002655-1741685400-1741690800@foodinitiative.org
SUMMARY:FIGS Mobile Pantry-2nd Tuesday of the Month
DESCRIPTION:
URL:https://foodinitiative.org/event/figs-mobile-pantry-24/2025-03-11/
LOCATION:West Modesto Community Collaborative\, 601 S Martin Luther King Drive\, Modesto\, CA\, 95351
END:VEVENT
BEGIN:VEVENT
DTSTART;TZID=UTC:20250307T093000
DTEND;TZID=UTC:20250307T110000
DTSTAMP:20260426T004152
CREATED:20240105T235104Z
LAST-MODIFIED:20260423T153221Z
UID:10003957-1741339800-1741345200@foodinitiative.org
SUMMARY:FIGS Mobile Pantry-1st Friday of the Month
DESCRIPTION:
URL:https://foodinitiative.org/event/figs-mobile-pantry-13/2025-03-07/
LOCATION:Modesto Gospel Mission\, 1400 Yosemite Blvd\, Modesto\, CA\, 95354\, United States
END:VEVENT
BEGIN:VEVENT
DTSTART;TZID=UTC:20250306T150000
DTEND;TZID=UTC:20250306T160000
DTSTAMP:20260426T004152
CREATED:20240105T232548Z
LAST-MODIFIED:20250923T162157Z
UID:10001265-1741273200-1741276800@foodinitiative.org
SUMMARY:FIGS Mobile Pantry-1st Thursday of the Month
DESCRIPTION:
URL:https://foodinitiative.org/event/figs-mobile-pantry-12/2025-03-06/
LOCATION:St. Matthias Anglican Church\, 101 S. First Avenue\, OAKDALE\, CA\, 95361\, United States
END:VEVENT
BEGIN:VEVENT
DTSTART;TZID=UTC:20250304T160000
DTEND;TZID=UTC:20250304T170000
DTSTAMP:20260426T004152
CREATED:20240105T222051Z
LAST-MODIFIED:20250407T205111Z
UID:10000831-1741104000-1741107600@foodinitiative.org
SUMMARY:FIGS Mobile Pantry-1st Tuesday of the Month
DESCRIPTION:
URL:https://foodinitiative.org/event/figs-mobile-pantry-10/2025-03-04/
LOCATION:Johansen High School\, 641 Norseman Dr\, Modesto\, CA\, 95357\, United States
END:VEVENT
BEGIN:VEVENT
DTSTART;TZID=UTC:20250228T100000
DTEND;TZID=UTC:20250228T113000
DTSTAMP:20260426T004152
CREATED:20241223T161620Z
LAST-MODIFIED:20250407T193309Z
UID:10003079-1740736800-1740742200@foodinitiative.org
SUMMARY:FIGS Mobile Pantry-4th Friday of the Month
DESCRIPTION:
URL:https://foodinitiative.org/event/figs-mobile-pantry-16-2/2025-02-28/
LOCATION:Franklin Elementary Child Develpment\, 905 Byron Lane\, Modesto\, California\, 95351
END:VEVENT
BEGIN:VEVENT
DTSTART;TZID=UTC:20250227T100000
DTEND;TZID=UTC:20250227T110000
DTSTAMP:20260426T004152
CREATED:20241216T195748Z
LAST-MODIFIED:20250407T193343Z
UID:10000138-1740650400-1740654000@foodinitiative.org
SUMMARY:FIGS Mobile Pantry-4th Thursday of the Month
DESCRIPTION:
URL:https://foodinitiative.org/event/figs-mobile-pantry-2-2-2/2025-02-27/
LOCATION:Orville Wright Elementary Child Develpment\, 805 Empire Ave\, Modesto\, California\, 95354
END:VEVENT
BEGIN:VEVENT
DTSTART;TZID=UTC:20250226T100000
DTEND;TZID=UTC:20250226T110000
DTSTAMP:20260426T004152
CREATED:20240105T234550Z
LAST-MODIFIED:20250407T205856Z
UID:10000079-1740564000-1740567600@foodinitiative.org
SUMMARY:FIGS Mobile Pantry-4th Wednesday of the Month
DESCRIPTION:
URL:https://foodinitiative.org/event/figs-mobile-pantry-2/2025-02-26/
LOCATION:Empire Church of Christ\, 434 Church Street\, Empire\, CA\, United States
END:VEVENT
BEGIN:VEVENT
DTSTART;TZID=UTC:20250225T093000
DTEND;TZID=UTC:20250225T110000
DTSTAMP:20260426T004152
CREATED:20240105T231908Z
LAST-MODIFIED:20260423T153319Z
UID:10004074-1740475800-1740481200@foodinitiative.org
SUMMARY:FIGS Mobile Pantry-4th Tuesday of the Month
DESCRIPTION:
URL:https://foodinitiative.org/event/figs-mobile-pantry-5/2025-02-25/
LOCATION:Modesto Gospel Mission\, 1400 Yosemite Blvd\, Modesto\, CA\, 95354\, United States
END:VEVENT
BEGIN:VEVENT
DTSTART;TZID=UTC:20250222T090000
DTEND;TZID=UTC:20250222T103000
DTSTAMP:20260426T004152
CREATED:20241216T200349Z
LAST-MODIFIED:20250324T190638Z
UID:10002961-1740214800-1740220200@foodinitiative.org
SUMMARY:Figs Mobile Pantry- 4th Saturday of the Month
DESCRIPTION:
URL:https://foodinitiative.org/event/figs-mobile-pantry-4th-saturday-of-the-month/2025-02-22/
LOCATION:Church of the Brethren\, 2301 Woodland Ave\, Modesto\, CA\, 95358\, United States
END:VEVENT
END:VCALENDAR