BEGIN:VCALENDAR
VERSION:2.0
PRODID:-//The Food Initiative - ECPv6.15.20//NONSGML v1.0//EN
CALSCALE:GREGORIAN
METHOD:PUBLISH
X-WR-CALNAME:The Food Initiative
X-ORIGINAL-URL:https://foodinitiative.org
X-WR-CALDESC:Events for The Food Initiative
REFRESH-INTERVAL;VALUE=DURATION:PT1H
X-Robots-Tag:noindex
X-PUBLISHED-TTL:PT1H
BEGIN:VTIMEZONE
TZID:UTC
BEGIN:STANDARD
TZOFFSETFROM:+0000
TZOFFSETTO:+0000
TZNAME:UTC
DTSTART:20230101T000000
END:STANDARD
END:VTIMEZONE
BEGIN:VEVENT
DTSTART;TZID=UTC:20250228T100000
DTEND;TZID=UTC:20250228T113000
DTSTAMP:20260426T005137
CREATED:20241223T161620Z
LAST-MODIFIED:20250407T193309Z
UID:10003079-1740736800-1740742200@foodinitiative.org
SUMMARY:FIGS Mobile Pantry-4th Friday of the Month
DESCRIPTION:
URL:https://foodinitiative.org/event/figs-mobile-pantry-16-2/2025-02-28/
LOCATION:Franklin Elementary Child Develpment\, 905 Byron Lane\, Modesto\, California\, 95351
END:VEVENT
BEGIN:VEVENT
DTSTART;TZID=UTC:20250227T100000
DTEND;TZID=UTC:20250227T110000
DTSTAMP:20260426T005137
CREATED:20241216T195748Z
LAST-MODIFIED:20250407T193343Z
UID:10000138-1740650400-1740654000@foodinitiative.org
SUMMARY:FIGS Mobile Pantry-4th Thursday of the Month
DESCRIPTION:
URL:https://foodinitiative.org/event/figs-mobile-pantry-2-2-2/2025-02-27/
LOCATION:Orville Wright Elementary Child Develpment\, 805 Empire Ave\, Modesto\, California\, 95354
END:VEVENT
BEGIN:VEVENT
DTSTART;TZID=UTC:20250226T100000
DTEND;TZID=UTC:20250226T110000
DTSTAMP:20260426T005137
CREATED:20240105T234550Z
LAST-MODIFIED:20250407T205856Z
UID:10000079-1740564000-1740567600@foodinitiative.org
SUMMARY:FIGS Mobile Pantry-4th Wednesday of the Month
DESCRIPTION:
URL:https://foodinitiative.org/event/figs-mobile-pantry-2/2025-02-26/
LOCATION:Empire Church of Christ\, 434 Church Street\, Empire\, CA\, United States
END:VEVENT
BEGIN:VEVENT
DTSTART;TZID=UTC:20250225T093000
DTEND;TZID=UTC:20250225T110000
DTSTAMP:20260426T005137
CREATED:20240105T231908Z
LAST-MODIFIED:20260423T153319Z
UID:10004074-1740475800-1740481200@foodinitiative.org
SUMMARY:FIGS Mobile Pantry-4th Tuesday of the Month
DESCRIPTION:
URL:https://foodinitiative.org/event/figs-mobile-pantry-5/2025-02-25/
LOCATION:Modesto Gospel Mission\, 1400 Yosemite Blvd\, Modesto\, CA\, 95354\, United States
END:VEVENT
BEGIN:VEVENT
DTSTART;TZID=UTC:20250222T090000
DTEND;TZID=UTC:20250222T103000
DTSTAMP:20260426T005137
CREATED:20241216T200349Z
LAST-MODIFIED:20250324T190638Z
UID:10002961-1740214800-1740220200@foodinitiative.org
SUMMARY:Figs Mobile Pantry- 4th Saturday of the Month
DESCRIPTION:
URL:https://foodinitiative.org/event/figs-mobile-pantry-4th-saturday-of-the-month/2025-02-22/
LOCATION:Church of the Brethren\, 2301 Woodland Ave\, Modesto\, CA\, 95358\, United States
END:VEVENT
BEGIN:VEVENT
DTSTART;TZID=UTC:20250221T100000
DTEND;TZID=UTC:20250221T120000
DTSTAMP:20260426T005137
CREATED:20240126T190521Z
LAST-MODIFIED:20250407T203116Z
UID:10002061-1740132000-1740139200@foodinitiative.org
SUMMARY:FIGS Mobile Pantry-3rd Friday of the Month
DESCRIPTION:
URL:https://foodinitiative.org/event/figs-mobile-pantry-17/2025-02-21/
LOCATION:The Well Community Fellowship\, 2500 Claus Rd\, Modesto\, 95355\, United States
END:VEVENT
BEGIN:VEVENT
DTSTART;TZID=UTC:20250220T093000
DTEND;TZID=UTC:20250220T110000
DTSTAMP:20260426T005137
CREATED:20240520T213643Z
LAST-MODIFIED:20250407T193446Z
UID:10002840-1740043800-1740049200@foodinitiative.org
SUMMARY:FIGS Mobile Pantry-3rd Thursday of the Month
DESCRIPTION:
URL:https://foodinitiative.org/event/figs-mobile-pantry-25/2025-02-20/
LOCATION:Everett Elementary School\, 1530 Mt. Vernon Dr\, Modesto\, 95350\, United States
END:VEVENT
BEGIN:VEVENT
DTSTART;TZID=UTC:20250219T093000
DTEND;TZID=UTC:20250219T110000
DTSTAMP:20260426T005137
CREATED:20240131T004740Z
LAST-MODIFIED:20250407T202118Z
UID:10002412-1739957400-1739962800@foodinitiative.org
SUMMARY:FIGS Mobile Pantry-3rd Wednesday of the Month
DESCRIPTION:
URL:https://foodinitiative.org/event/figs-mobile-pantry-19/2025-02-19/
LOCATION:International Rescue Committee (IRC)\, 3446 N. Golden State Blvd.\, Turlock\, 95380\, United States
END:VEVENT
BEGIN:VEVENT
DTSTART;TZID=UTC:20250218T093000
DTEND;TZID=UTC:20250218T103000
DTSTAMP:20260426T005137
CREATED:20240105T222218Z
LAST-MODIFIED:20260423T153348Z
UID:10004161-1739871000-1739874600@foodinitiative.org
SUMMARY:FIGS Mobile Pantry-3rd Tuesday of the Month
DESCRIPTION:
URL:https://foodinitiative.org/event/figs-mobile-pantry-11/2025-02-18/
LOCATION:Johansen High School\, 641 Norseman Dr\, Modesto\, CA\, 95357\, United States
END:VEVENT
BEGIN:VEVENT
DTSTART;TZID=UTC:20250211T093000
DTEND;TZID=UTC:20250211T110000
DTSTAMP:20260426T005137
CREATED:20240325T220617Z
LAST-MODIFIED:20250407T194959Z
UID:10002654-1739266200-1739271600@foodinitiative.org
SUMMARY:FIGS Mobile Pantry-2nd Tuesday of the Month
DESCRIPTION:
URL:https://foodinitiative.org/event/figs-mobile-pantry-24/2025-02-11/
LOCATION:West Modesto Community Collaborative\, 601 S Martin Luther King Drive\, Modesto\, CA\, 95351
END:VEVENT
BEGIN:VEVENT
DTSTART;TZID=UTC:20250207T093000
DTEND;TZID=UTC:20250207T110000
DTSTAMP:20260426T005137
CREATED:20240105T235104Z
LAST-MODIFIED:20260423T153221Z
UID:10003956-1738920600-1738926000@foodinitiative.org
SUMMARY:FIGS Mobile Pantry-1st Friday of the Month
DESCRIPTION:
URL:https://foodinitiative.org/event/figs-mobile-pantry-13/2025-02-07/
LOCATION:Modesto Gospel Mission\, 1400 Yosemite Blvd\, Modesto\, CA\, 95354\, United States
END:VEVENT
BEGIN:VEVENT
DTSTART;TZID=UTC:20250206T150000
DTEND;TZID=UTC:20250206T160000
DTSTAMP:20260426T005137
CREATED:20240105T232548Z
LAST-MODIFIED:20250923T162157Z
UID:10001264-1738854000-1738857600@foodinitiative.org
SUMMARY:FIGS Mobile Pantry-1st Thursday of the Month
DESCRIPTION:
URL:https://foodinitiative.org/event/figs-mobile-pantry-12/2025-02-06/
LOCATION:St. Matthias Anglican Church\, 101 S. First Avenue\, OAKDALE\, CA\, 95361\, United States
END:VEVENT
BEGIN:VEVENT
DTSTART;TZID=UTC:20250204T160000
DTEND;TZID=UTC:20250204T170000
DTSTAMP:20260426T005137
CREATED:20240105T222051Z
LAST-MODIFIED:20250407T205111Z
UID:10000830-1738684800-1738688400@foodinitiative.org
SUMMARY:FIGS Mobile Pantry-1st Tuesday of the Month
DESCRIPTION:
URL:https://foodinitiative.org/event/figs-mobile-pantry-10/2025-02-04/
LOCATION:Johansen High School\, 641 Norseman Dr\, Modesto\, CA\, 95357\, United States
END:VEVENT
BEGIN:VEVENT
DTSTART;TZID=UTC:20250131T093000
DTEND;TZID=UTC:20250131T110000
DTSTAMP:20260426T005137
CREATED:20250407T201439Z
LAST-MODIFIED:20260423T153121Z
UID:10003888-1738315800-1738321200@foodinitiative.org
SUMMARY:FIGS Mobile Pantry-5th Friday of the Month
DESCRIPTION:
URL:https://foodinitiative.org/event/figs-mobile-pantry-5th-friday-of-the-month/2025-01-31/
LOCATION:Modesto Gospel Mission\, 1400 Yosemite Blvd\, Modesto\, CA\, 95354\, United States
END:VEVENT
BEGIN:VEVENT
DTSTART;TZID=UTC:20250130T093000
DTEND;TZID=UTC:20250130T110000
DTSTAMP:20260426T005137
CREATED:20240105T234938Z
LAST-MODIFIED:20260423T153155Z
UID:10003918-1738229400-1738234800@foodinitiative.org
SUMMARY:FIGS Mobile Pantry-5th Thursday of the Month
DESCRIPTION:
URL:https://foodinitiative.org/event/figs-mobile-pantry-7/2025-01-30/
LOCATION:Modesto Gospel Mission\, 1400 Yosemite Blvd\, Modesto\, CA\, 95354\, United States
END:VEVENT
BEGIN:VEVENT
DTSTART;TZID=UTC:20250128T093000
DTEND;TZID=UTC:20250128T110000
DTSTAMP:20260426T005137
CREATED:20240105T231908Z
LAST-MODIFIED:20260423T153319Z
UID:10004073-1738056600-1738062000@foodinitiative.org
SUMMARY:FIGS Mobile Pantry-4th Tuesday of the Month
DESCRIPTION:
URL:https://foodinitiative.org/event/figs-mobile-pantry-5/2025-01-28/
LOCATION:Modesto Gospel Mission\, 1400 Yosemite Blvd\, Modesto\, CA\, 95354\, United States
END:VEVENT
BEGIN:VEVENT
DTSTART;TZID=UTC:20250125T090000
DTEND;TZID=UTC:20250125T103000
DTSTAMP:20260426T005137
CREATED:20241216T200349Z
LAST-MODIFIED:20250324T190638Z
UID:10002960-1737795600-1737801000@foodinitiative.org
SUMMARY:Figs Mobile Pantry- 4th Saturday of the Month
DESCRIPTION:
URL:https://foodinitiative.org/event/figs-mobile-pantry-4th-saturday-of-the-month/2025-01-25/
LOCATION:Church of the Brethren\, 2301 Woodland Ave\, Modesto\, CA\, 95358\, United States
END:VEVENT
BEGIN:VEVENT
DTSTART;TZID=UTC:20250124T100000
DTEND;TZID=UTC:20250124T113000
DTSTAMP:20260426T005137
CREATED:20241223T161620Z
LAST-MODIFIED:20250407T193309Z
UID:10003078-1737712800-1737718200@foodinitiative.org
SUMMARY:FIGS Mobile Pantry-4th Friday of the Month
DESCRIPTION:
URL:https://foodinitiative.org/event/figs-mobile-pantry-16-2/2025-01-24/
LOCATION:Franklin Elementary Child Develpment\, 905 Byron Lane\, Modesto\, California\, 95351
END:VEVENT
BEGIN:VEVENT
DTSTART;TZID=UTC:20250123T100000
DTEND;TZID=UTC:20250123T110000
DTSTAMP:20260426T005137
CREATED:20241216T195748Z
LAST-MODIFIED:20250407T193343Z
UID:10000136-1737626400-1737630000@foodinitiative.org
SUMMARY:FIGS Mobile Pantry-4th Thursday of the Month
DESCRIPTION:
URL:https://foodinitiative.org/event/figs-mobile-pantry-2-2-2/2025-01-23/
LOCATION:Orville Wright Elementary Child Develpment\, 805 Empire Ave\, Modesto\, California\, 95354
END:VEVENT
BEGIN:VEVENT
DTSTART;TZID=UTC:20250122T100000
DTEND;TZID=UTC:20250122T110000
DTSTAMP:20260426T005137
CREATED:20240105T234550Z
LAST-MODIFIED:20250407T205856Z
UID:10000078-1737540000-1737543600@foodinitiative.org
SUMMARY:FIGS Mobile Pantry-4th Wednesday of the Month
DESCRIPTION:
URL:https://foodinitiative.org/event/figs-mobile-pantry-2/2025-01-22/
LOCATION:Empire Church of Christ\, 434 Church Street\, Empire\, CA\, United States
END:VEVENT
BEGIN:VEVENT
DTSTART;TZID=UTC:20250121T093000
DTEND;TZID=UTC:20250121T103000
DTSTAMP:20260426T005137
CREATED:20240105T222218Z
LAST-MODIFIED:20260423T153348Z
UID:10004160-1737451800-1737455400@foodinitiative.org
SUMMARY:FIGS Mobile Pantry-3rd Tuesday of the Month
DESCRIPTION:
URL:https://foodinitiative.org/event/figs-mobile-pantry-11/2025-01-21/
LOCATION:Johansen High School\, 641 Norseman Dr\, Modesto\, CA\, 95357\, United States
END:VEVENT
BEGIN:VEVENT
DTSTART;TZID=UTC:20250117T100000
DTEND;TZID=UTC:20250117T120000
DTSTAMP:20260426T005137
CREATED:20240126T190521Z
LAST-MODIFIED:20250407T203116Z
UID:10002060-1737108000-1737115200@foodinitiative.org
SUMMARY:FIGS Mobile Pantry-3rd Friday of the Month
DESCRIPTION:
URL:https://foodinitiative.org/event/figs-mobile-pantry-17/2025-01-17/
LOCATION:The Well Community Fellowship\, 2500 Claus Rd\, Modesto\, 95355\, United States
END:VEVENT
BEGIN:VEVENT
DTSTART;TZID=UTC:20250116T093000
DTEND;TZID=UTC:20250116T110000
DTSTAMP:20260426T005137
CREATED:20240520T213643Z
LAST-MODIFIED:20250407T193446Z
UID:10002839-1737019800-1737025200@foodinitiative.org
SUMMARY:FIGS Mobile Pantry-3rd Thursday of the Month
DESCRIPTION:
URL:https://foodinitiative.org/event/figs-mobile-pantry-25/2025-01-16/
LOCATION:Everett Elementary School\, 1530 Mt. Vernon Dr\, Modesto\, 95350\, United States
END:VEVENT
BEGIN:VEVENT
DTSTART;TZID=UTC:20250115T093000
DTEND;TZID=UTC:20250115T110000
DTSTAMP:20260426T005137
CREATED:20240131T004740Z
LAST-MODIFIED:20250407T202118Z
UID:10002411-1736933400-1736938800@foodinitiative.org
SUMMARY:FIGS Mobile Pantry-3rd Wednesday of the Month
DESCRIPTION:
URL:https://foodinitiative.org/event/figs-mobile-pantry-19/2025-01-15/
LOCATION:International Rescue Committee (IRC)\, 3446 N. Golden State Blvd.\, Turlock\, 95380\, United States
END:VEVENT
BEGIN:VEVENT
DTSTART;TZID=UTC:20250114T093000
DTEND;TZID=UTC:20250114T110000
DTSTAMP:20260426T005137
CREATED:20240325T220617Z
LAST-MODIFIED:20250407T194959Z
UID:10002653-1736847000-1736852400@foodinitiative.org
SUMMARY:FIGS Mobile Pantry-2nd Tuesday of the Month
DESCRIPTION:
URL:https://foodinitiative.org/event/figs-mobile-pantry-24/2025-01-14/
LOCATION:West Modesto Community Collaborative\, 601 S Martin Luther King Drive\, Modesto\, CA\, 95351
END:VEVENT
BEGIN:VEVENT
DTSTART;TZID=UTC:20250107T160000
DTEND;TZID=UTC:20250107T170000
DTSTAMP:20260426T005137
CREATED:20240105T222051Z
LAST-MODIFIED:20250407T205111Z
UID:10000829-1736265600-1736269200@foodinitiative.org
SUMMARY:FIGS Mobile Pantry-1st Tuesday of the Month
DESCRIPTION:
URL:https://foodinitiative.org/event/figs-mobile-pantry-10/2025-01-07/
LOCATION:Johansen High School\, 641 Norseman Dr\, Modesto\, CA\, 95357\, United States
END:VEVENT
BEGIN:VEVENT
DTSTART;TZID=UTC:20250103T093000
DTEND;TZID=UTC:20250103T110000
DTSTAMP:20260426T005137
CREATED:20240105T235104Z
LAST-MODIFIED:20260423T153221Z
UID:10003955-1735896600-1735902000@foodinitiative.org
SUMMARY:FIGS Mobile Pantry-1st Friday of the Month
DESCRIPTION:
URL:https://foodinitiative.org/event/figs-mobile-pantry-13/2025-01-03/
LOCATION:Modesto Gospel Mission\, 1400 Yosemite Blvd\, Modesto\, CA\, 95354\, United States
END:VEVENT
BEGIN:VEVENT
DTSTART;TZID=UTC:20250102T150000
DTEND;TZID=UTC:20250102T160000
DTSTAMP:20260426T005137
CREATED:20240105T232548Z
LAST-MODIFIED:20250923T162157Z
UID:10001263-1735830000-1735833600@foodinitiative.org
SUMMARY:FIGS Mobile Pantry-1st Thursday of the Month
DESCRIPTION:
URL:https://foodinitiative.org/event/figs-mobile-pantry-12/2025-01-02/
LOCATION:St. Matthias Anglican Church\, 101 S. First Avenue\, OAKDALE\, CA\, 95361\, United States
END:VEVENT
BEGIN:VEVENT
DTSTART;TZID=UTC:20241231T093000
DTEND;TZID=UTC:20241231T110000
DTSTAMP:20260426T005137
CREATED:20240105T232034Z
LAST-MODIFIED:20260423T153248Z
UID:10004035-1735637400-1735642800@foodinitiative.org
SUMMARY:FIGS Mobile Pantry-5th Tuesday of the Month
DESCRIPTION:
URL:https://foodinitiative.org/event/figs-mobile-pantry-6/2024-12-31/
LOCATION:Modesto Gospel Mission\, 1400 Yosemite Blvd\, Modesto\, CA\, 95354\, United States
END:VEVENT
BEGIN:VEVENT
DTSTART;TZID=UTC:20241228T090000
DTEND;TZID=UTC:20241228T103000
DTSTAMP:20260426T005137
CREATED:20241216T200349Z
LAST-MODIFIED:20250324T190638Z
UID:10002959-1735376400-1735381800@foodinitiative.org
SUMMARY:Figs Mobile Pantry- 4th Saturday of the Month
DESCRIPTION:
URL:https://foodinitiative.org/event/figs-mobile-pantry-4th-saturday-of-the-month/2024-12-28/
LOCATION:Church of the Brethren\, 2301 Woodland Ave\, Modesto\, CA\, 95358\, United States
END:VEVENT
END:VCALENDAR