BEGIN:VCALENDAR
VERSION:2.0
PRODID:-//The Food Initiative - ECPv6.15.20//NONSGML v1.0//EN
CALSCALE:GREGORIAN
METHOD:PUBLISH
X-WR-CALNAME:The Food Initiative
X-ORIGINAL-URL:https://foodinitiative.org
X-WR-CALDESC:Events for The Food Initiative
REFRESH-INTERVAL;VALUE=DURATION:PT1H
X-Robots-Tag:noindex
X-PUBLISHED-TTL:PT1H
BEGIN:VTIMEZONE
TZID:UTC
BEGIN:STANDARD
TZOFFSETFROM:+0000
TZOFFSETTO:+0000
TZNAME:UTC
DTSTART:20260101T000000
END:STANDARD
END:VTIMEZONE
BEGIN:VEVENT
DTSTART;TZID=UTC:20270123T090000
DTEND;TZID=UTC:20270123T103000
DTSTAMP:20260425T142309
CREATED:20241216T200349Z
LAST-MODIFIED:20250324T190638Z
UID:10002984-1800694800-1800700200@foodinitiative.org
SUMMARY:Figs Mobile Pantry- 4th Saturday of the Month
DESCRIPTION:
URL:https://foodinitiative.org/event/figs-mobile-pantry-4th-saturday-of-the-month/2027-01-23/
LOCATION:Church of the Brethren\, 2301 Woodland Ave\, Modesto\, CA\, 95358\, United States
END:VEVENT
BEGIN:VEVENT
DTSTART;TZID=UTC:20270126T093000
DTEND;TZID=UTC:20270126T110000
DTSTAMP:20260425T142309
CREATED:20240105T231908Z
LAST-MODIFIED:20260423T153319Z
UID:10004097-1800955800-1800961200@foodinitiative.org
SUMMARY:FIGS Mobile Pantry-4th Tuesday of the Month
DESCRIPTION:
URL:https://foodinitiative.org/event/figs-mobile-pantry-5/2027-01-26/
LOCATION:Modesto Gospel Mission\, 1400 Yosemite Blvd\, Modesto\, CA\, 95354\, United States
END:VEVENT
BEGIN:VEVENT
DTSTART;TZID=UTC:20270127T100000
DTEND;TZID=UTC:20270127T110000
DTSTAMP:20260425T142309
CREATED:20240105T234550Z
LAST-MODIFIED:20250407T205856Z
UID:10000102-1801044000-1801047600@foodinitiative.org
SUMMARY:FIGS Mobile Pantry-4th Wednesday of the Month
DESCRIPTION:
URL:https://foodinitiative.org/event/figs-mobile-pantry-2/2027-01-27/
LOCATION:Empire Church of Christ\, 434 Church Street\, Empire\, CA\, United States
END:VEVENT
BEGIN:VEVENT
DTSTART;TZID=UTC:20270128T100000
DTEND;TZID=UTC:20270128T110000
DTSTAMP:20260425T142309
CREATED:20241216T195748Z
LAST-MODIFIED:20250407T193343Z
UID:10000161-1801130400-1801134000@foodinitiative.org
SUMMARY:FIGS Mobile Pantry-4th Thursday of the Month
DESCRIPTION:
URL:https://foodinitiative.org/event/figs-mobile-pantry-2-2-2/2027-01-28/
LOCATION:Orville Wright Elementary Child Develpment\, 805 Empire Ave\, Modesto\, California\, 95354
END:VEVENT
BEGIN:VEVENT
DTSTART;TZID=UTC:20270129T093000
DTEND;TZID=UTC:20270129T110000
DTSTAMP:20260425T142309
CREATED:20250407T201439Z
LAST-MODIFIED:20260423T153121Z
UID:10003896-1801215000-1801220400@foodinitiative.org
SUMMARY:FIGS Mobile Pantry-5th Friday of the Month
DESCRIPTION:
URL:https://foodinitiative.org/event/figs-mobile-pantry-5th-friday-of-the-month/2027-01-29/
LOCATION:Modesto Gospel Mission\, 1400 Yosemite Blvd\, Modesto\, CA\, 95354\, United States
END:VEVENT
BEGIN:VEVENT
DTSTART;TZID=UTC:20270202T093000
DTEND;TZID=UTC:20270202T110000
DTSTAMP:20260425T142309
CREATED:20250407T204228Z
LAST-MODIFIED:20250407T204645Z
UID:10003399-1801560600-1801566000@foodinitiative.org
SUMMARY:FIGS Mobile Pantry-1st Tuesday of the Month
DESCRIPTION:
URL:https://foodinitiative.org/event/figs-mobile-pantry-1st-tuesday-of-the-month/2027-02-02/
LOCATION:Elliot Alternative High School\, 1440 Sunrise Ave.\, Modesto\, CA\, 95350\, United States
END:VEVENT
BEGIN:VEVENT
DTSTART;TZID=UTC:20270202T160000
DTEND;TZID=UTC:20270202T170000
DTSTAMP:20260425T142309
CREATED:20240105T222051Z
LAST-MODIFIED:20250407T205111Z
UID:10000854-1801584000-1801587600@foodinitiative.org
SUMMARY:FIGS Mobile Pantry-1st Tuesday of the Month
DESCRIPTION:
URL:https://foodinitiative.org/event/figs-mobile-pantry-10/2027-02-02/
LOCATION:Johansen High School\, 641 Norseman Dr\, Modesto\, CA\, 95357\, United States
END:VEVENT
BEGIN:VEVENT
DTSTART;TZID=UTC:20270204T093000
DTEND;TZID=UTC:20270204T110000
DTSTAMP:20260425T142309
CREATED:20250407T195914Z
LAST-MODIFIED:20250407T195914Z
UID:10002496-1801733400-1801738800@foodinitiative.org
SUMMARY:FIGS Mobile Pantry-1st Thursday of the Month
DESCRIPTION:
URL:https://foodinitiative.org/event/figs-mobile-pantry-22-2-2/2027-02-04/
LOCATION:Harriette Kirschen Elementary\, 1900 Kirschen Dr\, Modesto\, California\, 95351
END:VEVENT
BEGIN:VEVENT
DTSTART;TZID=UTC:20270204T150000
DTEND;TZID=UTC:20270204T160000
DTSTAMP:20260425T142309
CREATED:20240105T232548Z
LAST-MODIFIED:20250923T162157Z
UID:10001288-1801753200-1801756800@foodinitiative.org
SUMMARY:FIGS Mobile Pantry-1st Thursday of the Month
DESCRIPTION:
URL:https://foodinitiative.org/event/figs-mobile-pantry-12/2027-02-04/
LOCATION:St. Matthias Anglican Church\, 101 S. First Avenue\, OAKDALE\, CA\, 95361\, United States
END:VEVENT
BEGIN:VEVENT
DTSTART;TZID=UTC:20270205T093000
DTEND;TZID=UTC:20270205T110000
DTSTAMP:20260425T142309
CREATED:20240105T235104Z
LAST-MODIFIED:20260423T153221Z
UID:10003980-1801819800-1801825200@foodinitiative.org
SUMMARY:FIGS Mobile Pantry-1st Friday of the Month
DESCRIPTION:
URL:https://foodinitiative.org/event/figs-mobile-pantry-13/2027-02-05/
LOCATION:Modesto Gospel Mission\, 1400 Yosemite Blvd\, Modesto\, CA\, 95354\, United States
END:VEVENT
BEGIN:VEVENT
DTSTART;TZID=UTC:20270209T093000
DTEND;TZID=UTC:20270209T110000
DTSTAMP:20260425T142309
CREATED:20240325T220617Z
LAST-MODIFIED:20250407T194959Z
UID:10002678-1802165400-1802170800@foodinitiative.org
SUMMARY:FIGS Mobile Pantry-2nd Tuesday of the Month
DESCRIPTION:
URL:https://foodinitiative.org/event/figs-mobile-pantry-24/2027-02-09/
LOCATION:West Modesto Community Collaborative\, 601 S Martin Luther King Drive\, Modesto\, CA\, 95351
END:VEVENT
BEGIN:VEVENT
DTSTART;TZID=UTC:20270209T133000
DTEND;TZID=UTC:20270209T150000
DTSTAMP:20260425T142309
CREATED:20250811T193642Z
LAST-MODIFIED:20250811T194637Z
UID:10003759-1802179800-1802185200@foodinitiative.org
SUMMARY:FIGS Mobile Pantry-2nd Tuesday of the Month
DESCRIPTION:
URL:https://foodinitiative.org/event/figs-mobile-pantry-2nd-tuesday-of-the-month/2027-02-09/
LOCATION:Sierra Vista\, 906 Imperial Ave\, Modesto\, CA\, 95358\, United States
END:VEVENT
BEGIN:VEVENT
DTSTART;TZID=UTC:20270211T093000
DTEND;TZID=UTC:20270211T110000
DTSTAMP:20260425T142309
CREATED:20250407T221317Z
LAST-MODIFIED:20260423T153030Z
UID:10003833-1802338200-1802343600@foodinitiative.org
SUMMARY:FIGS Mobile Pantry-2nd Thursday of the Month
DESCRIPTION:
URL:https://foodinitiative.org/event/figs-mobile-pantry-2nd-thursday-of-the-month/2027-02-11/
LOCATION:Modesto Gospel Mission\, 1400 Yosemite Blvd\, Modesto\, CA\, 95354\, United States
END:VEVENT
BEGIN:VEVENT
DTSTART;TZID=UTC:20270212T093000
DTEND;TZID=UTC:20270212T110000
DTSTAMP:20260425T142309
CREATED:20250407T190230Z
LAST-MODIFIED:20250407T204721Z
UID:10003174-1802424600-1802430000@foodinitiative.org
SUMMARY:FIGS Mobile Food Pantry-2nd Friday of the Month
DESCRIPTION:
URL:https://foodinitiative.org/event/figs-mobile-food-pantry/2027-02-12/
LOCATION:Hanshaw Middle School\, 1724 Las Vegas St\, Modesto\, CA\, 95358\, United States
END:VEVENT
BEGIN:VEVENT
DTSTART;TZID=UTC:20270216T093000
DTEND;TZID=UTC:20270216T103000
DTSTAMP:20260425T142309
CREATED:20240105T222218Z
LAST-MODIFIED:20260423T153348Z
UID:10004185-1802770200-1802773800@foodinitiative.org
SUMMARY:FIGS Mobile Pantry-3rd Tuesday of the Month
DESCRIPTION:
URL:https://foodinitiative.org/event/figs-mobile-pantry-11/2027-02-16/
LOCATION:Johansen High School\, 641 Norseman Dr\, Modesto\, CA\, 95357\, United States
END:VEVENT
BEGIN:VEVENT
DTSTART;TZID=UTC:20270217T093000
DTEND;TZID=UTC:20270217T110000
DTSTAMP:20260425T142309
CREATED:20240131T004740Z
LAST-MODIFIED:20250407T202118Z
UID:10002436-1802856600-1802862000@foodinitiative.org
SUMMARY:FIGS Mobile Pantry-3rd Wednesday of the Month
DESCRIPTION:
URL:https://foodinitiative.org/event/figs-mobile-pantry-19/2027-02-17/
LOCATION:International Rescue Committee (IRC)\, 3446 N. Golden State Blvd.\, Turlock\, 95380\, United States
END:VEVENT
BEGIN:VEVENT
DTSTART;TZID=UTC:20270218T093000
DTEND;TZID=UTC:20270218T110000
DTSTAMP:20260425T142309
CREATED:20240520T213643Z
LAST-MODIFIED:20250407T193446Z
UID:10002864-1802943000-1802948400@foodinitiative.org
SUMMARY:FIGS Mobile Pantry-3rd Thursday of the Month
DESCRIPTION:
URL:https://foodinitiative.org/event/figs-mobile-pantry-25/2027-02-18/
LOCATION:Everett Elementary School\, 1530 Mt. Vernon Dr\, Modesto\, 95350\, United States
END:VEVENT
BEGIN:VEVENT
DTSTART;TZID=UTC:20270219T100000
DTEND;TZID=UTC:20270219T120000
DTSTAMP:20260425T142309
CREATED:20240126T190521Z
LAST-MODIFIED:20250407T203116Z
UID:10002085-1803031200-1803038400@foodinitiative.org
SUMMARY:FIGS Mobile Pantry-3rd Friday of the Month
DESCRIPTION:
URL:https://foodinitiative.org/event/figs-mobile-pantry-17/2027-02-19/
LOCATION:The Well Community Fellowship\, 2500 Claus Rd\, Modesto\, 95355\, United States
END:VEVENT
BEGIN:VEVENT
DTSTART;TZID=UTC:20270220T090000
DTEND;TZID=UTC:20270220T103000
DTSTAMP:20260425T142309
CREATED:20250501T180111Z
LAST-MODIFIED:20250923T162551Z
UID:10000772-1803114000-1803119400@foodinitiative.org
SUMMARY:FIGS Mobile Pantry-3rd Saturday of the Month
DESCRIPTION:
URL:https://foodinitiative.org/event/figs-mobile-pantry-4-2/2027-02-20/
LOCATION:Children’s Garden\, 3525 Pelandale Ave\, Modesto\, CA\, 95356\, United States
END:VEVENT
BEGIN:VEVENT
DTSTART;TZID=UTC:20270223T093000
DTEND;TZID=UTC:20270223T110000
DTSTAMP:20260425T142309
CREATED:20240105T231908Z
LAST-MODIFIED:20260423T153319Z
UID:10004098-1803375000-1803380400@foodinitiative.org
SUMMARY:FIGS Mobile Pantry-4th Tuesday of the Month
DESCRIPTION:
URL:https://foodinitiative.org/event/figs-mobile-pantry-5/2027-02-23/
LOCATION:Modesto Gospel Mission\, 1400 Yosemite Blvd\, Modesto\, CA\, 95354\, United States
END:VEVENT
BEGIN:VEVENT
DTSTART;TZID=UTC:20270224T100000
DTEND;TZID=UTC:20270224T110000
DTSTAMP:20260425T142309
CREATED:20240105T234550Z
LAST-MODIFIED:20250407T205856Z
UID:10000103-1803463200-1803466800@foodinitiative.org
SUMMARY:FIGS Mobile Pantry-4th Wednesday of the Month
DESCRIPTION:
URL:https://foodinitiative.org/event/figs-mobile-pantry-2/2027-02-24/
LOCATION:Empire Church of Christ\, 434 Church Street\, Empire\, CA\, United States
END:VEVENT
BEGIN:VEVENT
DTSTART;TZID=UTC:20270225T100000
DTEND;TZID=UTC:20270225T110000
DTSTAMP:20260425T142309
CREATED:20241216T195748Z
LAST-MODIFIED:20250407T193343Z
UID:10000162-1803549600-1803553200@foodinitiative.org
SUMMARY:FIGS Mobile Pantry-4th Thursday of the Month
DESCRIPTION:
URL:https://foodinitiative.org/event/figs-mobile-pantry-2-2-2/2027-02-25/
LOCATION:Orville Wright Elementary Child Develpment\, 805 Empire Ave\, Modesto\, California\, 95354
END:VEVENT
BEGIN:VEVENT
DTSTART;TZID=UTC:20270226T100000
DTEND;TZID=UTC:20270226T113000
DTSTAMP:20260425T142309
CREATED:20241223T161620Z
LAST-MODIFIED:20250407T193309Z
UID:10003103-1803636000-1803641400@foodinitiative.org
SUMMARY:FIGS Mobile Pantry-4th Friday of the Month
DESCRIPTION:
URL:https://foodinitiative.org/event/figs-mobile-pantry-16-2/2027-02-26/
LOCATION:Franklin Elementary Child Develpment\, 905 Byron Lane\, Modesto\, California\, 95351
END:VEVENT
BEGIN:VEVENT
DTSTART;TZID=UTC:20270227T090000
DTEND;TZID=UTC:20270227T103000
DTSTAMP:20260425T142309
CREATED:20241216T200349Z
LAST-MODIFIED:20250324T190638Z
UID:10002985-1803718800-1803724200@foodinitiative.org
SUMMARY:Figs Mobile Pantry- 4th Saturday of the Month
DESCRIPTION:
URL:https://foodinitiative.org/event/figs-mobile-pantry-4th-saturday-of-the-month/2027-02-27/
LOCATION:Church of the Brethren\, 2301 Woodland Ave\, Modesto\, CA\, 95358\, United States
END:VEVENT
BEGIN:VEVENT
DTSTART;TZID=UTC:20270302T093000
DTEND;TZID=UTC:20270302T110000
DTSTAMP:20260425T142309
CREATED:20250407T204228Z
LAST-MODIFIED:20250407T204645Z
UID:10003400-1803979800-1803985200@foodinitiative.org
SUMMARY:FIGS Mobile Pantry-1st Tuesday of the Month
DESCRIPTION:
URL:https://foodinitiative.org/event/figs-mobile-pantry-1st-tuesday-of-the-month/2027-03-02/
LOCATION:Elliot Alternative High School\, 1440 Sunrise Ave.\, Modesto\, CA\, 95350\, United States
END:VEVENT
BEGIN:VEVENT
DTSTART;TZID=UTC:20270302T160000
DTEND;TZID=UTC:20270302T170000
DTSTAMP:20260425T142309
CREATED:20240105T222051Z
LAST-MODIFIED:20250407T205111Z
UID:10000855-1804003200-1804006800@foodinitiative.org
SUMMARY:FIGS Mobile Pantry-1st Tuesday of the Month
DESCRIPTION:
URL:https://foodinitiative.org/event/figs-mobile-pantry-10/2027-03-02/
LOCATION:Johansen High School\, 641 Norseman Dr\, Modesto\, CA\, 95357\, United States
END:VEVENT
BEGIN:VEVENT
DTSTART;TZID=UTC:20270304T093000
DTEND;TZID=UTC:20270304T110000
DTSTAMP:20260425T142309
CREATED:20250407T195914Z
LAST-MODIFIED:20250407T195914Z
UID:10003254-1804152600-1804158000@foodinitiative.org
SUMMARY:FIGS Mobile Pantry-1st Thursday of the Month
DESCRIPTION:
URL:https://foodinitiative.org/event/figs-mobile-pantry-22-2-2/2027-03-04/
LOCATION:Harriette Kirschen Elementary\, 1900 Kirschen Dr\, Modesto\, California\, 95351
END:VEVENT
BEGIN:VEVENT
DTSTART;TZID=UTC:20270304T150000
DTEND;TZID=UTC:20270304T160000
DTSTAMP:20260425T142309
CREATED:20240105T232548Z
LAST-MODIFIED:20250923T162157Z
UID:10001289-1804172400-1804176000@foodinitiative.org
SUMMARY:FIGS Mobile Pantry-1st Thursday of the Month
DESCRIPTION:
URL:https://foodinitiative.org/event/figs-mobile-pantry-12/2027-03-04/
LOCATION:St. Matthias Anglican Church\, 101 S. First Avenue\, OAKDALE\, CA\, 95361\, United States
END:VEVENT
BEGIN:VEVENT
DTSTART;TZID=UTC:20270305T093000
DTEND;TZID=UTC:20270305T110000
DTSTAMP:20260425T142309
CREATED:20240105T235104Z
LAST-MODIFIED:20260423T153221Z
UID:10003981-1804239000-1804244400@foodinitiative.org
SUMMARY:FIGS Mobile Pantry-1st Friday of the Month
DESCRIPTION:
URL:https://foodinitiative.org/event/figs-mobile-pantry-13/2027-03-05/
LOCATION:Modesto Gospel Mission\, 1400 Yosemite Blvd\, Modesto\, CA\, 95354\, United States
END:VEVENT
BEGIN:VEVENT
DTSTART;TZID=UTC:20270309T093000
DTEND;TZID=UTC:20270309T110000
DTSTAMP:20260425T142309
CREATED:20240325T220617Z
LAST-MODIFIED:20250407T194959Z
UID:10002679-1804584600-1804590000@foodinitiative.org
SUMMARY:FIGS Mobile Pantry-2nd Tuesday of the Month
DESCRIPTION:
URL:https://foodinitiative.org/event/figs-mobile-pantry-24/2027-03-09/
LOCATION:West Modesto Community Collaborative\, 601 S Martin Luther King Drive\, Modesto\, CA\, 95351
END:VEVENT
END:VCALENDAR