BEGIN:VCALENDAR
VERSION:2.0
PRODID:-//The Food Initiative - ECPv6.15.20//NONSGML v1.0//EN
CALSCALE:GREGORIAN
METHOD:PUBLISH
X-WR-CALNAME:The Food Initiative
X-ORIGINAL-URL:https://foodinitiative.org
X-WR-CALDESC:Events for The Food Initiative
REFRESH-INTERVAL;VALUE=DURATION:PT1H
X-Robots-Tag:noindex
X-PUBLISHED-TTL:PT1H
BEGIN:VTIMEZONE
TZID:UTC
BEGIN:STANDARD
TZOFFSETFROM:+0000
TZOFFSETTO:+0000
TZNAME:UTC
DTSTART:20240101T000000
END:STANDARD
END:VTIMEZONE
BEGIN:VEVENT
DTSTART;TZID=UTC:20251007T160000
DTEND;TZID=UTC:20251007T170000
DTSTAMP:20260425T132226
CREATED:20240105T222051Z
LAST-MODIFIED:20250407T205111Z
UID:10000838-1759852800-1759856400@foodinitiative.org
SUMMARY:FIGS Mobile Pantry-1st Tuesday of the Month
DESCRIPTION:
URL:https://foodinitiative.org/event/figs-mobile-pantry-10/2025-10-07/
LOCATION:Johansen High School\, 641 Norseman Dr\, Modesto\, CA\, 95357\, United States
END:VEVENT
BEGIN:VEVENT
DTSTART;TZID=UTC:20251009T093000
DTEND;TZID=UTC:20251009T110000
DTSTAMP:20260425T132226
CREATED:20250407T221317Z
LAST-MODIFIED:20260423T153030Z
UID:10003817-1760002200-1760007600@foodinitiative.org
SUMMARY:FIGS Mobile Pantry-2nd Thursday of the Month
DESCRIPTION:
URL:https://foodinitiative.org/event/figs-mobile-pantry-2nd-thursday-of-the-month/2025-10-09/
LOCATION:Modesto Gospel Mission\, 1400 Yosemite Blvd\, Modesto\, CA\, 95354\, United States
END:VEVENT
BEGIN:VEVENT
DTSTART;TZID=UTC:20251010T093000
DTEND;TZID=UTC:20251010T110000
DTSTAMP:20260425T132226
CREATED:20250407T190230Z
LAST-MODIFIED:20250407T204721Z
UID:10003158-1760088600-1760094000@foodinitiative.org
SUMMARY:FIGS Mobile Food Pantry-2nd Friday of the Month
DESCRIPTION:
URL:https://foodinitiative.org/event/figs-mobile-food-pantry/2025-10-10/
LOCATION:Hanshaw Middle School\, 1724 Las Vegas St\, Modesto\, CA\, 95358\, United States
END:VEVENT
BEGIN:VEVENT
DTSTART;TZID=UTC:20251014T093000
DTEND;TZID=UTC:20251014T110000
DTSTAMP:20260425T132226
CREATED:20240325T220617Z
LAST-MODIFIED:20250407T194959Z
UID:10002662-1760434200-1760439600@foodinitiative.org
SUMMARY:FIGS Mobile Pantry-2nd Tuesday of the Month
DESCRIPTION:
URL:https://foodinitiative.org/event/figs-mobile-pantry-24/2025-10-14/
LOCATION:West Modesto Community Collaborative\, 601 S Martin Luther King Drive\, Modesto\, CA\, 95351
END:VEVENT
BEGIN:VEVENT
DTSTART;TZID=UTC:20251014T133000
DTEND;TZID=UTC:20251014T150000
DTSTAMP:20260425T132226
CREATED:20250811T193642Z
LAST-MODIFIED:20250811T194637Z
UID:10003743-1760448600-1760454000@foodinitiative.org
SUMMARY:FIGS Mobile Pantry-2nd Tuesday of the Month
DESCRIPTION:
URL:https://foodinitiative.org/event/figs-mobile-pantry-2nd-tuesday-of-the-month/2025-10-14/
LOCATION:Sierra Vista\, 906 Imperial Ave\, Modesto\, CA\, 95358\, United States
END:VEVENT
BEGIN:VEVENT
DTSTART;TZID=UTC:20251015T093000
DTEND;TZID=UTC:20251015T110000
DTSTAMP:20260425T132226
CREATED:20240131T004740Z
LAST-MODIFIED:20250407T202118Z
UID:10002420-1760520600-1760526000@foodinitiative.org
SUMMARY:FIGS Mobile Pantry-3rd Wednesday of the Month
DESCRIPTION:
URL:https://foodinitiative.org/event/figs-mobile-pantry-19/2025-10-15/
LOCATION:International Rescue Committee (IRC)\, 3446 N. Golden State Blvd.\, Turlock\, 95380\, United States
END:VEVENT
BEGIN:VEVENT
DTSTART;TZID=UTC:20251016T093000
DTEND;TZID=UTC:20251016T110000
DTSTAMP:20260425T132226
CREATED:20240520T213643Z
LAST-MODIFIED:20250407T193446Z
UID:10002848-1760607000-1760612400@foodinitiative.org
SUMMARY:FIGS Mobile Pantry-3rd Thursday of the Month
DESCRIPTION:
URL:https://foodinitiative.org/event/figs-mobile-pantry-25/2025-10-16/
LOCATION:Everett Elementary School\, 1530 Mt. Vernon Dr\, Modesto\, 95350\, United States
END:VEVENT
BEGIN:VEVENT
DTSTART;TZID=UTC:20251017T100000
DTEND;TZID=UTC:20251017T120000
DTSTAMP:20260425T132226
CREATED:20240126T190521Z
LAST-MODIFIED:20250407T203116Z
UID:10002069-1760695200-1760702400@foodinitiative.org
SUMMARY:FIGS Mobile Pantry-3rd Friday of the Month
DESCRIPTION:
URL:https://foodinitiative.org/event/figs-mobile-pantry-17/2025-10-17/
LOCATION:The Well Community Fellowship\, 2500 Claus Rd\, Modesto\, 95355\, United States
END:VEVENT
BEGIN:VEVENT
DTSTART;TZID=UTC:20251018T090000
DTEND;TZID=UTC:20251018T103000
DTSTAMP:20260425T132226
CREATED:20250501T180111Z
LAST-MODIFIED:20250923T162551Z
UID:10000756-1760778000-1760783400@foodinitiative.org
SUMMARY:FIGS Mobile Pantry-3rd Saturday of the Month
DESCRIPTION:
URL:https://foodinitiative.org/event/figs-mobile-pantry-4-2/2025-10-18/
LOCATION:Children’s Garden\, 3525 Pelandale Ave\, Modesto\, CA\, 95356\, United States
END:VEVENT
BEGIN:VEVENT
DTSTART;TZID=UTC:20251021T093000
DTEND;TZID=UTC:20251021T103000
DTSTAMP:20260425T132226
CREATED:20240105T222218Z
LAST-MODIFIED:20260423T153348Z
UID:10004169-1761039000-1761042600@foodinitiative.org
SUMMARY:FIGS Mobile Pantry-3rd Tuesday of the Month
DESCRIPTION:
URL:https://foodinitiative.org/event/figs-mobile-pantry-11/2025-10-21/
LOCATION:Johansen High School\, 641 Norseman Dr\, Modesto\, CA\, 95357\, United States
END:VEVENT
BEGIN:VEVENT
DTSTART;TZID=UTC:20251022T100000
DTEND;TZID=UTC:20251022T110000
DTSTAMP:20260425T132226
CREATED:20240105T234550Z
LAST-MODIFIED:20250407T205856Z
UID:10000087-1761127200-1761130800@foodinitiative.org
SUMMARY:FIGS Mobile Pantry-4th Wednesday of the Month
DESCRIPTION:
URL:https://foodinitiative.org/event/figs-mobile-pantry-2/2025-10-22/
LOCATION:Empire Church of Christ\, 434 Church Street\, Empire\, CA\, United States
END:VEVENT
BEGIN:VEVENT
DTSTART;TZID=UTC:20251023T100000
DTEND;TZID=UTC:20251023T110000
DTSTAMP:20260425T132226
CREATED:20241216T195748Z
LAST-MODIFIED:20250407T193343Z
UID:10000146-1761213600-1761217200@foodinitiative.org
SUMMARY:FIGS Mobile Pantry-4th Thursday of the Month
DESCRIPTION:
URL:https://foodinitiative.org/event/figs-mobile-pantry-2-2-2/2025-10-23/
LOCATION:Orville Wright Elementary Child Develpment\, 805 Empire Ave\, Modesto\, California\, 95354
END:VEVENT
BEGIN:VEVENT
DTSTART;TZID=UTC:20251024T100000
DTEND;TZID=UTC:20251024T113000
DTSTAMP:20260425T132226
CREATED:20241223T161620Z
LAST-MODIFIED:20250407T193309Z
UID:10003087-1761300000-1761305400@foodinitiative.org
SUMMARY:FIGS Mobile Pantry-4th Friday of the Month
DESCRIPTION:
URL:https://foodinitiative.org/event/figs-mobile-pantry-16-2/2025-10-24/
LOCATION:Franklin Elementary Child Develpment\, 905 Byron Lane\, Modesto\, California\, 95351
END:VEVENT
BEGIN:VEVENT
DTSTART;TZID=UTC:20251025T090000
DTEND;TZID=UTC:20251025T103000
DTSTAMP:20260425T132226
CREATED:20241216T200349Z
LAST-MODIFIED:20250324T190638Z
UID:10002969-1761382800-1761388200@foodinitiative.org
SUMMARY:Figs Mobile Pantry- 4th Saturday of the Month
DESCRIPTION:
URL:https://foodinitiative.org/event/figs-mobile-pantry-4th-saturday-of-the-month/2025-10-25/
LOCATION:Church of the Brethren\, 2301 Woodland Ave\, Modesto\, CA\, 95358\, United States
END:VEVENT
BEGIN:VEVENT
DTSTART;TZID=UTC:20251028T093000
DTEND;TZID=UTC:20251028T110000
DTSTAMP:20260425T132226
CREATED:20240105T231908Z
LAST-MODIFIED:20260423T153319Z
UID:10004082-1761643800-1761649200@foodinitiative.org
SUMMARY:FIGS Mobile Pantry-4th Tuesday of the Month
DESCRIPTION:
URL:https://foodinitiative.org/event/figs-mobile-pantry-5/2025-10-28/
LOCATION:Modesto Gospel Mission\, 1400 Yosemite Blvd\, Modesto\, CA\, 95354\, United States
END:VEVENT
BEGIN:VEVENT
DTSTART;TZID=UTC:20251030T093000
DTEND;TZID=UTC:20251030T110000
DTSTAMP:20260425T132226
CREATED:20240105T234938Z
LAST-MODIFIED:20260423T153155Z
UID:10003921-1761816600-1761822000@foodinitiative.org
SUMMARY:FIGS Mobile Pantry-5th Thursday of the Month
DESCRIPTION:
URL:https://foodinitiative.org/event/figs-mobile-pantry-7/2025-10-30/
LOCATION:Modesto Gospel Mission\, 1400 Yosemite Blvd\, Modesto\, CA\, 95354\, United States
END:VEVENT
BEGIN:VEVENT
DTSTART;TZID=UTC:20251031T093000
DTEND;TZID=UTC:20251031T110000
DTSTAMP:20260425T132226
CREATED:20250407T201439Z
LAST-MODIFIED:20260423T153121Z
UID:10003891-1761903000-1761908400@foodinitiative.org
SUMMARY:FIGS Mobile Pantry-5th Friday of the Month
DESCRIPTION:
URL:https://foodinitiative.org/event/figs-mobile-pantry-5th-friday-of-the-month/2025-10-31/
LOCATION:Modesto Gospel Mission\, 1400 Yosemite Blvd\, Modesto\, CA\, 95354\, United States
END:VEVENT
BEGIN:VEVENT
DTSTART;TZID=UTC:20251104T093000
DTEND;TZID=UTC:20251104T110000
DTSTAMP:20260425T132226
CREATED:20250407T204228Z
LAST-MODIFIED:20250407T204645Z
UID:10003384-1762248600-1762254000@foodinitiative.org
SUMMARY:FIGS Mobile Pantry-1st Tuesday of the Month
DESCRIPTION:
URL:https://foodinitiative.org/event/figs-mobile-pantry-1st-tuesday-of-the-month/2025-11-04/
LOCATION:Elliot Alternative High School\, 1440 Sunrise Ave.\, Modesto\, CA\, 95350\, United States
END:VEVENT
BEGIN:VEVENT
DTSTART;TZID=UTC:20251104T160000
DTEND;TZID=UTC:20251104T170000
DTSTAMP:20260425T132226
CREATED:20240105T222051Z
LAST-MODIFIED:20250407T205111Z
UID:10000839-1762272000-1762275600@foodinitiative.org
SUMMARY:FIGS Mobile Pantry-1st Tuesday of the Month
DESCRIPTION:
URL:https://foodinitiative.org/event/figs-mobile-pantry-10/2025-11-04/
LOCATION:Johansen High School\, 641 Norseman Dr\, Modesto\, CA\, 95357\, United States
END:VEVENT
BEGIN:VEVENT
DTSTART;TZID=UTC:20251106T093000
DTEND;TZID=UTC:20251106T110000
DTSTAMP:20260425T132226
CREATED:20250407T195914Z
LAST-MODIFIED:20250407T195914Z
UID:10003246-1762421400-1762426800@foodinitiative.org
SUMMARY:FIGS Mobile Pantry-1st Thursday of the Month
DESCRIPTION:
URL:https://foodinitiative.org/event/figs-mobile-pantry-22-2-2/2025-11-06/
LOCATION:Harriette Kirschen Elementary\, 1900 Kirschen Dr\, Modesto\, California\, 95351
END:VEVENT
BEGIN:VEVENT
DTSTART;TZID=UTC:20251106T150000
DTEND;TZID=UTC:20251106T160000
DTSTAMP:20260425T132226
CREATED:20240105T232548Z
LAST-MODIFIED:20250923T162157Z
UID:10001273-1762441200-1762444800@foodinitiative.org
SUMMARY:FIGS Mobile Pantry-1st Thursday of the Month
DESCRIPTION:
URL:https://foodinitiative.org/event/figs-mobile-pantry-12/2025-11-06/
LOCATION:St. Matthias Anglican Church\, 101 S. First Avenue\, OAKDALE\, CA\, 95361\, United States
END:VEVENT
BEGIN:VEVENT
DTSTART;TZID=UTC:20251107T093000
DTEND;TZID=UTC:20251107T110000
DTSTAMP:20260425T132226
CREATED:20240105T235104Z
LAST-MODIFIED:20260423T153221Z
UID:10003965-1762507800-1762513200@foodinitiative.org
SUMMARY:FIGS Mobile Pantry-1st Friday of the Month
DESCRIPTION:
URL:https://foodinitiative.org/event/figs-mobile-pantry-13/2025-11-07/
LOCATION:Modesto Gospel Mission\, 1400 Yosemite Blvd\, Modesto\, CA\, 95354\, United States
END:VEVENT
BEGIN:VEVENT
DTSTART;TZID=UTC:20251111T093000
DTEND;TZID=UTC:20251111T110000
DTSTAMP:20260425T132226
CREATED:20240325T220617Z
LAST-MODIFIED:20250407T194959Z
UID:10002663-1762853400-1762858800@foodinitiative.org
SUMMARY:FIGS Mobile Pantry-2nd Tuesday of the Month
DESCRIPTION:
URL:https://foodinitiative.org/event/figs-mobile-pantry-24/2025-11-11/
LOCATION:West Modesto Community Collaborative\, 601 S Martin Luther King Drive\, Modesto\, CA\, 95351
END:VEVENT
BEGIN:VEVENT
DTSTART;TZID=UTC:20251111T133000
DTEND;TZID=UTC:20251111T150000
DTSTAMP:20260425T132226
CREATED:20250811T193642Z
LAST-MODIFIED:20250811T194637Z
UID:10003744-1762867800-1762873200@foodinitiative.org
SUMMARY:FIGS Mobile Pantry-2nd Tuesday of the Month
DESCRIPTION:
URL:https://foodinitiative.org/event/figs-mobile-pantry-2nd-tuesday-of-the-month/2025-11-11/
LOCATION:Sierra Vista\, 906 Imperial Ave\, Modesto\, CA\, 95358\, United States
END:VEVENT
BEGIN:VEVENT
DTSTART;TZID=UTC:20251113T093000
DTEND;TZID=UTC:20251113T110000
DTSTAMP:20260425T132226
CREATED:20250407T221317Z
LAST-MODIFIED:20260423T153030Z
UID:10003818-1763026200-1763031600@foodinitiative.org
SUMMARY:FIGS Mobile Pantry-2nd Thursday of the Month
DESCRIPTION:
URL:https://foodinitiative.org/event/figs-mobile-pantry-2nd-thursday-of-the-month/2025-11-13/
LOCATION:Modesto Gospel Mission\, 1400 Yosemite Blvd\, Modesto\, CA\, 95354\, United States
END:VEVENT
BEGIN:VEVENT
DTSTART;TZID=UTC:20251114T093000
DTEND;TZID=UTC:20251114T110000
DTSTAMP:20260425T132226
CREATED:20250407T190230Z
LAST-MODIFIED:20250407T204721Z
UID:10003159-1763112600-1763118000@foodinitiative.org
SUMMARY:FIGS Mobile Food Pantry-2nd Friday of the Month
DESCRIPTION:
URL:https://foodinitiative.org/event/figs-mobile-food-pantry/2025-11-14/
LOCATION:Hanshaw Middle School\, 1724 Las Vegas St\, Modesto\, CA\, 95358\, United States
END:VEVENT
BEGIN:VEVENT
DTSTART;TZID=UTC:20251115T090000
DTEND;TZID=UTC:20251115T103000
DTSTAMP:20260425T132226
CREATED:20250501T180111Z
LAST-MODIFIED:20250923T162551Z
UID:10000757-1763197200-1763202600@foodinitiative.org
SUMMARY:FIGS Mobile Pantry-3rd Saturday of the Month
DESCRIPTION:
URL:https://foodinitiative.org/event/figs-mobile-pantry-4-2/2025-11-15/
LOCATION:Children’s Garden\, 3525 Pelandale Ave\, Modesto\, CA\, 95356\, United States
END:VEVENT
BEGIN:VEVENT
DTSTART;TZID=UTC:20251118T093000
DTEND;TZID=UTC:20251118T103000
DTSTAMP:20260425T132226
CREATED:20240105T222218Z
LAST-MODIFIED:20260423T153348Z
UID:10004170-1763458200-1763461800@foodinitiative.org
SUMMARY:FIGS Mobile Pantry-3rd Tuesday of the Month
DESCRIPTION:
URL:https://foodinitiative.org/event/figs-mobile-pantry-11/2025-11-18/
LOCATION:Johansen High School\, 641 Norseman Dr\, Modesto\, CA\, 95357\, United States
END:VEVENT
BEGIN:VEVENT
DTSTART;TZID=UTC:20251119T093000
DTEND;TZID=UTC:20251119T110000
DTSTAMP:20260425T132226
CREATED:20240131T004740Z
LAST-MODIFIED:20250407T202118Z
UID:10002421-1763544600-1763550000@foodinitiative.org
SUMMARY:FIGS Mobile Pantry-3rd Wednesday of the Month
DESCRIPTION:
URL:https://foodinitiative.org/event/figs-mobile-pantry-19/2025-11-19/
LOCATION:International Rescue Committee (IRC)\, 3446 N. Golden State Blvd.\, Turlock\, 95380\, United States
END:VEVENT
BEGIN:VEVENT
DTSTART;TZID=UTC:20251120T093000
DTEND;TZID=UTC:20251120T110000
DTSTAMP:20260425T132226
CREATED:20240520T213643Z
LAST-MODIFIED:20250407T193446Z
UID:10002849-1763631000-1763636400@foodinitiative.org
SUMMARY:FIGS Mobile Pantry-3rd Thursday of the Month
DESCRIPTION:
URL:https://foodinitiative.org/event/figs-mobile-pantry-25/2025-11-20/
LOCATION:Everett Elementary School\, 1530 Mt. Vernon Dr\, Modesto\, 95350\, United States
END:VEVENT
END:VCALENDAR