BEGIN:VCALENDAR
VERSION:2.0
PRODID:-//The Food Initiative - ECPv6.15.20//NONSGML v1.0//EN
CALSCALE:GREGORIAN
METHOD:PUBLISH
X-ORIGINAL-URL:https://foodinitiative.org
X-WR-CALDESC:Events for The Food Initiative
REFRESH-INTERVAL;VALUE=DURATION:PT1H
X-Robots-Tag:noindex
X-PUBLISHED-TTL:PT1H
BEGIN:VTIMEZONE
TZID:UTC
BEGIN:STANDARD
TZOFFSETFROM:+0000
TZOFFSETTO:+0000
TZNAME:UTC
DTSTART:20240101T000000
END:STANDARD
END:VTIMEZONE
BEGIN:VEVENT
DTSTART;TZID=UTC:20250621T090000
DTEND;TZID=UTC:20250621T103000
DTSTAMP:20260425T152406
CREATED:20250501T180111Z
LAST-MODIFIED:20250923T162551Z
UID:10000752-1750496400-1750501800@foodinitiative.org
SUMMARY:FIGS Mobile Pantry-3rd Saturday of the Month
DESCRIPTION:
URL:https://foodinitiative.org/event/figs-mobile-pantry-4-2/2025-06-21/
LOCATION:Children’s Garden\, 3525 Pelandale Ave\, Modesto\, CA\, 95356\, United States
END:VEVENT
BEGIN:VEVENT
DTSTART;TZID=UTC:20250624T093000
DTEND;TZID=UTC:20250624T110000
DTSTAMP:20260425T152406
CREATED:20240105T231908Z
LAST-MODIFIED:20260423T153319Z
UID:10004078-1750757400-1750762800@foodinitiative.org
SUMMARY:FIGS Mobile Pantry-4th Tuesday of the Month
DESCRIPTION:
URL:https://foodinitiative.org/event/figs-mobile-pantry-5/2025-06-24/
LOCATION:Modesto Gospel Mission\, 1400 Yosemite Blvd\, Modesto\, CA\, 95354\, United States
END:VEVENT
BEGIN:VEVENT
DTSTART;TZID=UTC:20250625T100000
DTEND;TZID=UTC:20250625T110000
DTSTAMP:20260425T152406
CREATED:20240105T234550Z
LAST-MODIFIED:20250407T205856Z
UID:10000083-1750845600-1750849200@foodinitiative.org
SUMMARY:FIGS Mobile Pantry-4th Wednesday of the Month
DESCRIPTION:
URL:https://foodinitiative.org/event/figs-mobile-pantry-2/2025-06-25/
LOCATION:Empire Church of Christ\, 434 Church Street\, Empire\, CA\, United States
END:VEVENT
BEGIN:VEVENT
DTSTART;TZID=UTC:20250626T100000
DTEND;TZID=UTC:20250626T110000
DTSTAMP:20260425T152406
CREATED:20241216T195748Z
LAST-MODIFIED:20250407T193343Z
UID:10000142-1750932000-1750935600@foodinitiative.org
SUMMARY:FIGS Mobile Pantry-4th Thursday of the Month
DESCRIPTION:
URL:https://foodinitiative.org/event/figs-mobile-pantry-2-2-2/2025-06-26/
LOCATION:Orville Wright Elementary Child Develpment\, 805 Empire Ave\, Modesto\, California\, 95354
END:VEVENT
BEGIN:VEVENT
DTSTART;TZID=UTC:20250627T100000
DTEND;TZID=UTC:20250627T113000
DTSTAMP:20260425T152406
CREATED:20241223T161620Z
LAST-MODIFIED:20250407T193309Z
UID:10003083-1751018400-1751023800@foodinitiative.org
SUMMARY:FIGS Mobile Pantry-4th Friday of the Month
DESCRIPTION:
URL:https://foodinitiative.org/event/figs-mobile-pantry-16-2/2025-06-27/
LOCATION:Franklin Elementary Child Develpment\, 905 Byron Lane\, Modesto\, California\, 95351
END:VEVENT
BEGIN:VEVENT
DTSTART;TZID=UTC:20250628T090000
DTEND;TZID=UTC:20250628T103000
DTSTAMP:20260425T152406
CREATED:20241216T200349Z
LAST-MODIFIED:20250324T190638Z
UID:10002965-1751101200-1751106600@foodinitiative.org
SUMMARY:Figs Mobile Pantry- 4th Saturday of the Month
DESCRIPTION:
URL:https://foodinitiative.org/event/figs-mobile-pantry-4th-saturday-of-the-month/2025-06-28/
LOCATION:Church of the Brethren\, 2301 Woodland Ave\, Modesto\, CA\, 95358\, United States
END:VEVENT
BEGIN:VEVENT
DTSTART;TZID=UTC:20250701T093000
DTEND;TZID=UTC:20250701T110000
DTSTAMP:20260425T152406
CREATED:20250407T204228Z
LAST-MODIFIED:20250407T204645Z
UID:10003380-1751362200-1751367600@foodinitiative.org
SUMMARY:FIGS Mobile Pantry-1st Tuesday of the Month
DESCRIPTION:
URL:https://foodinitiative.org/event/figs-mobile-pantry-1st-tuesday-of-the-month/2025-07-01/
LOCATION:Elliot Alternative High School\, 1440 Sunrise Ave.\, Modesto\, CA\, 95350\, United States
END:VEVENT
BEGIN:VEVENT
DTSTART;TZID=UTC:20250701T160000
DTEND;TZID=UTC:20250701T170000
DTSTAMP:20260425T152406
CREATED:20240105T222051Z
LAST-MODIFIED:20250407T205111Z
UID:10000835-1751385600-1751389200@foodinitiative.org
SUMMARY:FIGS Mobile Pantry-1st Tuesday of the Month
DESCRIPTION:
URL:https://foodinitiative.org/event/figs-mobile-pantry-10/2025-07-01/
LOCATION:Johansen High School\, 641 Norseman Dr\, Modesto\, CA\, 95357\, United States
END:VEVENT
BEGIN:VEVENT
DTSTART;TZID=UTC:20250703T093000
DTEND;TZID=UTC:20250703T110000
DTSTAMP:20260425T152406
CREATED:20250407T195914Z
LAST-MODIFIED:20250407T195914Z
UID:10003244-1751535000-1751540400@foodinitiative.org
SUMMARY:FIGS Mobile Pantry-1st Thursday of the Month
DESCRIPTION:
URL:https://foodinitiative.org/event/figs-mobile-pantry-22-2-2/2025-07-03/
LOCATION:Harriette Kirschen Elementary\, 1900 Kirschen Dr\, Modesto\, California\, 95351
END:VEVENT
BEGIN:VEVENT
DTSTART;TZID=UTC:20250703T150000
DTEND;TZID=UTC:20250703T160000
DTSTAMP:20260425T152406
CREATED:20240105T232548Z
LAST-MODIFIED:20250923T162157Z
UID:10001269-1751554800-1751558400@foodinitiative.org
SUMMARY:FIGS Mobile Pantry-1st Thursday of the Month
DESCRIPTION:
URL:https://foodinitiative.org/event/figs-mobile-pantry-12/2025-07-03/
LOCATION:St. Matthias Anglican Church\, 101 S. First Avenue\, OAKDALE\, CA\, 95361\, United States
END:VEVENT
BEGIN:VEVENT
DTSTART;TZID=UTC:20250704T093000
DTEND;TZID=UTC:20250704T110000
DTSTAMP:20260425T152406
CREATED:20240105T235104Z
LAST-MODIFIED:20260423T153221Z
UID:10003961-1751621400-1751626800@foodinitiative.org
SUMMARY:FIGS Mobile Pantry-1st Friday of the Month
DESCRIPTION:
URL:https://foodinitiative.org/event/figs-mobile-pantry-13/2025-07-04/
LOCATION:Modesto Gospel Mission\, 1400 Yosemite Blvd\, Modesto\, CA\, 95354\, United States
END:VEVENT
BEGIN:VEVENT
DTSTART;TZID=UTC:20250708T093000
DTEND;TZID=UTC:20250708T110000
DTSTAMP:20260425T152406
CREATED:20240325T220617Z
LAST-MODIFIED:20250407T194959Z
UID:10002659-1751967000-1751972400@foodinitiative.org
SUMMARY:FIGS Mobile Pantry-2nd Tuesday of the Month
DESCRIPTION:
URL:https://foodinitiative.org/event/figs-mobile-pantry-24/2025-07-08/
LOCATION:West Modesto Community Collaborative\, 601 S Martin Luther King Drive\, Modesto\, CA\, 95351
END:VEVENT
BEGIN:VEVENT
DTSTART;TZID=UTC:20250710T093000
DTEND;TZID=UTC:20250710T110000
DTSTAMP:20260425T152406
CREATED:20250407T221317Z
LAST-MODIFIED:20260423T153030Z
UID:10003814-1752139800-1752145200@foodinitiative.org
SUMMARY:FIGS Mobile Pantry-2nd Thursday of the Month
DESCRIPTION:
URL:https://foodinitiative.org/event/figs-mobile-pantry-2nd-thursday-of-the-month/2025-07-10/
LOCATION:Modesto Gospel Mission\, 1400 Yosemite Blvd\, Modesto\, CA\, 95354\, United States
END:VEVENT
BEGIN:VEVENT
DTSTART;TZID=UTC:20250711T093000
DTEND;TZID=UTC:20250711T110000
DTSTAMP:20260425T152406
CREATED:20250407T190230Z
LAST-MODIFIED:20250407T204721Z
UID:10003155-1752226200-1752231600@foodinitiative.org
SUMMARY:FIGS Mobile Food Pantry-2nd Friday of the Month
DESCRIPTION:
URL:https://foodinitiative.org/event/figs-mobile-food-pantry/2025-07-11/
LOCATION:Hanshaw Middle School\, 1724 Las Vegas St\, Modesto\, CA\, 95358\, United States
END:VEVENT
BEGIN:VEVENT
DTSTART;TZID=UTC:20250715T093000
DTEND;TZID=UTC:20250715T103000
DTSTAMP:20260425T152406
CREATED:20240105T222218Z
LAST-MODIFIED:20260423T153348Z
UID:10004166-1752571800-1752575400@foodinitiative.org
SUMMARY:FIGS Mobile Pantry-3rd Tuesday of the Month
DESCRIPTION:
URL:https://foodinitiative.org/event/figs-mobile-pantry-11/2025-07-15/
LOCATION:Johansen High School\, 641 Norseman Dr\, Modesto\, CA\, 95357\, United States
END:VEVENT
BEGIN:VEVENT
DTSTART;TZID=UTC:20250716T093000
DTEND;TZID=UTC:20250716T110000
DTSTAMP:20260425T152406
CREATED:20240131T004740Z
LAST-MODIFIED:20250407T202118Z
UID:10002417-1752658200-1752663600@foodinitiative.org
SUMMARY:FIGS Mobile Pantry-3rd Wednesday of the Month
DESCRIPTION:
URL:https://foodinitiative.org/event/figs-mobile-pantry-19/2025-07-16/
LOCATION:International Rescue Committee (IRC)\, 3446 N. Golden State Blvd.\, Turlock\, 95380\, United States
END:VEVENT
BEGIN:VEVENT
DTSTART;TZID=UTC:20250717T093000
DTEND;TZID=UTC:20250717T110000
DTSTAMP:20260425T152406
CREATED:20240520T213643Z
LAST-MODIFIED:20250407T193446Z
UID:10002845-1752744600-1752750000@foodinitiative.org
SUMMARY:FIGS Mobile Pantry-3rd Thursday of the Month
DESCRIPTION:
URL:https://foodinitiative.org/event/figs-mobile-pantry-25/2025-07-17/
LOCATION:Everett Elementary School\, 1530 Mt. Vernon Dr\, Modesto\, 95350\, United States
END:VEVENT
BEGIN:VEVENT
DTSTART;TZID=UTC:20250718T100000
DTEND;TZID=UTC:20250718T120000
DTSTAMP:20260425T152406
CREATED:20240126T190521Z
LAST-MODIFIED:20250407T203116Z
UID:10002066-1752832800-1752840000@foodinitiative.org
SUMMARY:FIGS Mobile Pantry-3rd Friday of the Month
DESCRIPTION:
URL:https://foodinitiative.org/event/figs-mobile-pantry-17/2025-07-18/
LOCATION:The Well Community Fellowship\, 2500 Claus Rd\, Modesto\, 95355\, United States
END:VEVENT
BEGIN:VEVENT
DTSTART;TZID=UTC:20250719T090000
DTEND;TZID=UTC:20250719T103000
DTSTAMP:20260425T152406
CREATED:20250501T180111Z
LAST-MODIFIED:20250923T162551Z
UID:10000753-1752915600-1752921000@foodinitiative.org
SUMMARY:FIGS Mobile Pantry-3rd Saturday of the Month
DESCRIPTION:
URL:https://foodinitiative.org/event/figs-mobile-pantry-4-2/2025-07-19/
LOCATION:Children’s Garden\, 3525 Pelandale Ave\, Modesto\, CA\, 95356\, United States
END:VEVENT
BEGIN:VEVENT
DTSTART;TZID=UTC:20250722T093000
DTEND;TZID=UTC:20250722T110000
DTSTAMP:20260425T152406
CREATED:20240105T231908Z
LAST-MODIFIED:20260423T153319Z
UID:10004079-1753176600-1753182000@foodinitiative.org
SUMMARY:FIGS Mobile Pantry-4th Tuesday of the Month
DESCRIPTION:
URL:https://foodinitiative.org/event/figs-mobile-pantry-5/2025-07-22/
LOCATION:Modesto Gospel Mission\, 1400 Yosemite Blvd\, Modesto\, CA\, 95354\, United States
END:VEVENT
BEGIN:VEVENT
DTSTART;TZID=UTC:20250723T100000
DTEND;TZID=UTC:20250723T110000
DTSTAMP:20260425T152406
CREATED:20240105T234550Z
LAST-MODIFIED:20250407T205856Z
UID:10000084-1753264800-1753268400@foodinitiative.org
SUMMARY:FIGS Mobile Pantry-4th Wednesday of the Month
DESCRIPTION:
URL:https://foodinitiative.org/event/figs-mobile-pantry-2/2025-07-23/
LOCATION:Empire Church of Christ\, 434 Church Street\, Empire\, CA\, United States
END:VEVENT
BEGIN:VEVENT
DTSTART;TZID=UTC:20250724T100000
DTEND;TZID=UTC:20250724T110000
DTSTAMP:20260425T152406
CREATED:20241216T195748Z
LAST-MODIFIED:20250407T193343Z
UID:10000143-1753351200-1753354800@foodinitiative.org
SUMMARY:FIGS Mobile Pantry-4th Thursday of the Month
DESCRIPTION:
URL:https://foodinitiative.org/event/figs-mobile-pantry-2-2-2/2025-07-24/
LOCATION:Orville Wright Elementary Child Develpment\, 805 Empire Ave\, Modesto\, California\, 95354
END:VEVENT
BEGIN:VEVENT
DTSTART;TZID=UTC:20250725T100000
DTEND;TZID=UTC:20250725T113000
DTSTAMP:20260425T152406
CREATED:20241223T161620Z
LAST-MODIFIED:20250407T193309Z
UID:10003084-1753437600-1753443000@foodinitiative.org
SUMMARY:FIGS Mobile Pantry-4th Friday of the Month
DESCRIPTION:
URL:https://foodinitiative.org/event/figs-mobile-pantry-16-2/2025-07-25/
LOCATION:Franklin Elementary Child Develpment\, 905 Byron Lane\, Modesto\, California\, 95351
END:VEVENT
BEGIN:VEVENT
DTSTART;TZID=UTC:20250726T090000
DTEND;TZID=UTC:20250726T103000
DTSTAMP:20260425T152406
CREATED:20241216T200349Z
LAST-MODIFIED:20250324T190638Z
UID:10002966-1753520400-1753525800@foodinitiative.org
SUMMARY:Figs Mobile Pantry- 4th Saturday of the Month
DESCRIPTION:
URL:https://foodinitiative.org/event/figs-mobile-pantry-4th-saturday-of-the-month/2025-07-26/
LOCATION:Church of the Brethren\, 2301 Woodland Ave\, Modesto\, CA\, 95358\, United States
END:VEVENT
BEGIN:VEVENT
DTSTART;TZID=UTC:20250729T093000
DTEND;TZID=UTC:20250729T110000
DTSTAMP:20260425T152406
CREATED:20240105T232034Z
LAST-MODIFIED:20260423T153248Z
UID:10004037-1753781400-1753786800@foodinitiative.org
SUMMARY:FIGS Mobile Pantry-5th Tuesday of the Month
DESCRIPTION:
URL:https://foodinitiative.org/event/figs-mobile-pantry-6/2025-07-29/
LOCATION:Modesto Gospel Mission\, 1400 Yosemite Blvd\, Modesto\, CA\, 95354\, United States
END:VEVENT
BEGIN:VEVENT
DTSTART;TZID=UTC:20250731T093000
DTEND;TZID=UTC:20250731T110000
DTSTAMP:20260425T152406
CREATED:20240105T234938Z
LAST-MODIFIED:20260423T153155Z
UID:10003920-1753954200-1753959600@foodinitiative.org
SUMMARY:FIGS Mobile Pantry-5th Thursday of the Month
DESCRIPTION:
URL:https://foodinitiative.org/event/figs-mobile-pantry-7/2025-07-31/
LOCATION:Modesto Gospel Mission\, 1400 Yosemite Blvd\, Modesto\, CA\, 95354\, United States
END:VEVENT
BEGIN:VEVENT
DTSTART;TZID=UTC:20250801T093000
DTEND;TZID=UTC:20250801T110000
DTSTAMP:20260425T152406
CREATED:20240105T235104Z
LAST-MODIFIED:20260423T153221Z
UID:10003962-1754040600-1754046000@foodinitiative.org
SUMMARY:FIGS Mobile Pantry-1st Friday of the Month
DESCRIPTION:
URL:https://foodinitiative.org/event/figs-mobile-pantry-13/2025-08-01/
LOCATION:Modesto Gospel Mission\, 1400 Yosemite Blvd\, Modesto\, CA\, 95354\, United States
END:VEVENT
BEGIN:VEVENT
DTSTART;TZID=UTC:20250805T093000
DTEND;TZID=UTC:20250805T110000
DTSTAMP:20260425T152406
CREATED:20250407T204228Z
LAST-MODIFIED:20250407T204645Z
UID:10003381-1754386200-1754391600@foodinitiative.org
SUMMARY:FIGS Mobile Pantry-1st Tuesday of the Month
DESCRIPTION:
URL:https://foodinitiative.org/event/figs-mobile-pantry-1st-tuesday-of-the-month/2025-08-05/
LOCATION:Elliot Alternative High School\, 1440 Sunrise Ave.\, Modesto\, CA\, 95350\, United States
END:VEVENT
BEGIN:VEVENT
DTSTART;TZID=UTC:20250805T160000
DTEND;TZID=UTC:20250805T170000
DTSTAMP:20260425T152406
CREATED:20240105T222051Z
LAST-MODIFIED:20250407T205111Z
UID:10000836-1754409600-1754413200@foodinitiative.org
SUMMARY:FIGS Mobile Pantry-1st Tuesday of the Month
DESCRIPTION:
URL:https://foodinitiative.org/event/figs-mobile-pantry-10/2025-08-05/
LOCATION:Johansen High School\, 641 Norseman Dr\, Modesto\, CA\, 95357\, United States
END:VEVENT
BEGIN:VEVENT
DTSTART;TZID=UTC:20250807T093000
DTEND;TZID=UTC:20250807T110000
DTSTAMP:20260425T152406
CREATED:20250407T195914Z
LAST-MODIFIED:20250407T195914Z
UID:10002478-1754559000-1754564400@foodinitiative.org
SUMMARY:FIGS Mobile Pantry-1st Thursday of the Month
DESCRIPTION:
URL:https://foodinitiative.org/event/figs-mobile-pantry-22-2-2/2025-08-07/
LOCATION:Harriette Kirschen Elementary\, 1900 Kirschen Dr\, Modesto\, California\, 95351
END:VEVENT
END:VCALENDAR