BEGIN:VCALENDAR
VERSION:2.0
PRODID:-//The Food Initiative - ECPv6.15.20//NONSGML v1.0//EN
CALSCALE:GREGORIAN
METHOD:PUBLISH
X-WR-CALNAME:The Food Initiative
X-ORIGINAL-URL:https://foodinitiative.org
X-WR-CALDESC:Events for The Food Initiative
REFRESH-INTERVAL;VALUE=DURATION:PT1H
X-Robots-Tag:noindex
X-PUBLISHED-TTL:PT1H
BEGIN:VTIMEZONE
TZID:UTC
BEGIN:STANDARD
TZOFFSETFROM:+0000
TZOFFSETTO:+0000
TZNAME:UTC
DTSTART:20230101T000000
END:STANDARD
END:VTIMEZONE
BEGIN:VEVENT
DTSTART;TZID=UTC:20241127T100000
DTEND;TZID=UTC:20241127T110000
DTSTAMP:20260426T042139
CREATED:20240105T234550Z
LAST-MODIFIED:20250407T205856Z
UID:10000076-1732701600-1732705200@foodinitiative.org
SUMMARY:FIGS Mobile Pantry-4th Wednesday of the Month
DESCRIPTION:
URL:https://foodinitiative.org/event/figs-mobile-pantry-2/2024-11-27/
LOCATION:Empire Church of Christ\, 434 Church Street\, Empire\, CA\, United States
END:VEVENT
BEGIN:VEVENT
DTSTART;TZID=UTC:20241126T093000
DTEND;TZID=UTC:20241126T110000
DTSTAMP:20260426T042139
CREATED:20240105T231908Z
LAST-MODIFIED:20260423T153319Z
UID:10004071-1732613400-1732618800@foodinitiative.org
SUMMARY:FIGS Mobile Pantry-4th Tuesday of the Month
DESCRIPTION:
URL:https://foodinitiative.org/event/figs-mobile-pantry-5/2024-11-26/
LOCATION:Modesto Gospel Mission\, 1400 Yosemite Blvd\, Modesto\, CA\, 95354\, United States
END:VEVENT
BEGIN:VEVENT
DTSTART;TZID=UTC:20241121T093000
DTEND;TZID=UTC:20241121T110000
DTSTAMP:20260426T042139
CREATED:20240520T213643Z
LAST-MODIFIED:20250407T193446Z
UID:10002837-1732181400-1732186800@foodinitiative.org
SUMMARY:FIGS Mobile Pantry-3rd Thursday of the Month
DESCRIPTION:
URL:https://foodinitiative.org/event/figs-mobile-pantry-25/2024-11-21/
LOCATION:Everett Elementary School\, 1530 Mt. Vernon Dr\, Modesto\, 95350\, United States
END:VEVENT
BEGIN:VEVENT
DTSTART;TZID=UTC:20241120T093000
DTEND;TZID=UTC:20241120T110000
DTSTAMP:20260426T042139
CREATED:20240131T004740Z
LAST-MODIFIED:20250407T202118Z
UID:10002409-1732095000-1732100400@foodinitiative.org
SUMMARY:FIGS Mobile Pantry-3rd Wednesday of the Month
DESCRIPTION:
URL:https://foodinitiative.org/event/figs-mobile-pantry-19/2024-11-20/
LOCATION:International Rescue Committee (IRC)\, 3446 N. Golden State Blvd.\, Turlock\, 95380\, United States
END:VEVENT
BEGIN:VEVENT
DTSTART;TZID=UTC:20241115T100000
DTEND;TZID=UTC:20241115T120000
DTSTAMP:20260426T042139
CREATED:20240126T190521Z
LAST-MODIFIED:20250407T203116Z
UID:10002058-1731664800-1731672000@foodinitiative.org
SUMMARY:FIGS Mobile Pantry-3rd Friday of the Month
DESCRIPTION:
URL:https://foodinitiative.org/event/figs-mobile-pantry-17/2024-11-15/
LOCATION:The Well Community Fellowship\, 2500 Claus Rd\, Modesto\, 95355\, United States
END:VEVENT
BEGIN:VEVENT
DTSTART;TZID=UTC:20241112T093000
DTEND;TZID=UTC:20241112T110000
DTSTAMP:20260426T042139
CREATED:20240325T220617Z
LAST-MODIFIED:20250407T194959Z
UID:10002651-1731403800-1731409200@foodinitiative.org
SUMMARY:FIGS Mobile Pantry-2nd Tuesday of the Month
DESCRIPTION:
URL:https://foodinitiative.org/event/figs-mobile-pantry-24/2024-11-12/
LOCATION:West Modesto Community Collaborative\, 601 S Martin Luther King Drive\, Modesto\, CA\, 95351
END:VEVENT
BEGIN:VEVENT
DTSTART;TZID=UTC:20241107T150000
DTEND;TZID=UTC:20241107T160000
DTSTAMP:20260426T042139
CREATED:20240105T232548Z
LAST-MODIFIED:20250923T162157Z
UID:10003514-1730991600-1730995200@foodinitiative.org
SUMMARY:FIGS Mobile Pantry-1st Thursday of the Month
DESCRIPTION:
URL:https://foodinitiative.org/event/figs-mobile-pantry-12/2024-11-07/
LOCATION:St. Matthias Anglican Church\, 101 S. First Avenue\, OAKDALE\, CA\, 95361\, United States
END:VEVENT
BEGIN:VEVENT
DTSTART;TZID=UTC:20241105T160000
DTEND;TZID=UTC:20241105T170000
DTSTAMP:20260426T042139
CREATED:20240105T222051Z
LAST-MODIFIED:20250407T205111Z
UID:10000827-1730822400-1730826000@foodinitiative.org
SUMMARY:FIGS Mobile Pantry-1st Tuesday of the Month
DESCRIPTION:
URL:https://foodinitiative.org/event/figs-mobile-pantry-10/2024-11-05/
LOCATION:Johansen High School\, 641 Norseman Dr\, Modesto\, CA\, 95357\, United States
END:VEVENT
BEGIN:VEVENT
DTSTART;TZID=UTC:20241101T093000
DTEND;TZID=UTC:20241101T110000
DTSTAMP:20260426T042139
CREATED:20240105T235104Z
LAST-MODIFIED:20260423T153221Z
UID:10003953-1730453400-1730458800@foodinitiative.org
SUMMARY:FIGS Mobile Pantry-1st Friday of the Month
DESCRIPTION:
URL:https://foodinitiative.org/event/figs-mobile-pantry-13/2024-11-01/
LOCATION:Modesto Gospel Mission\, 1400 Yosemite Blvd\, Modesto\, CA\, 95354\, United States
END:VEVENT
BEGIN:VEVENT
DTSTART;TZID=UTC:20241031T093000
DTEND;TZID=UTC:20241031T110000
DTSTAMP:20260426T042139
CREATED:20240105T234938Z
LAST-MODIFIED:20260423T153155Z
UID:10003917-1730367000-1730372400@foodinitiative.org
SUMMARY:FIGS Mobile Pantry-5th Thursday of the Month
DESCRIPTION:
URL:https://foodinitiative.org/event/figs-mobile-pantry-7/2024-10-31/
LOCATION:Modesto Gospel Mission\, 1400 Yosemite Blvd\, Modesto\, CA\, 95354\, United States
END:VEVENT
BEGIN:VEVENT
DTSTART;TZID=UTC:20241029T093000
DTEND;TZID=UTC:20241029T110000
DTSTAMP:20260426T042139
CREATED:20240105T232034Z
LAST-MODIFIED:20260423T153248Z
UID:10004034-1730194200-1730199600@foodinitiative.org
SUMMARY:FIGS Mobile Pantry-5th Tuesday of the Month
DESCRIPTION:
URL:https://foodinitiative.org/event/figs-mobile-pantry-6/2024-10-29/
LOCATION:Modesto Gospel Mission\, 1400 Yosemite Blvd\, Modesto\, CA\, 95354\, United States
END:VEVENT
BEGIN:VEVENT
DTSTART;TZID=UTC:20241023T100000
DTEND;TZID=UTC:20241023T110000
DTSTAMP:20260426T042139
CREATED:20240105T234550Z
LAST-MODIFIED:20250407T205856Z
UID:10000075-1729677600-1729681200@foodinitiative.org
SUMMARY:FIGS Mobile Pantry-4th Wednesday of the Month
DESCRIPTION:
URL:https://foodinitiative.org/event/figs-mobile-pantry-2/2024-10-23/
LOCATION:Empire Church of Christ\, 434 Church Street\, Empire\, CA\, United States
END:VEVENT
BEGIN:VEVENT
DTSTART;TZID=UTC:20241022T093000
DTEND;TZID=UTC:20241022T110000
DTSTAMP:20260426T042139
CREATED:20240105T231908Z
LAST-MODIFIED:20260423T153319Z
UID:10004070-1729589400-1729594800@foodinitiative.org
SUMMARY:FIGS Mobile Pantry-4th Tuesday of the Month
DESCRIPTION:
URL:https://foodinitiative.org/event/figs-mobile-pantry-5/2024-10-22/
LOCATION:Modesto Gospel Mission\, 1400 Yosemite Blvd\, Modesto\, CA\, 95354\, United States
END:VEVENT
BEGIN:VEVENT
DTSTART;TZID=UTC:20241018T100000
DTEND;TZID=UTC:20241018T120000
DTSTAMP:20260426T042139
CREATED:20240126T190521Z
LAST-MODIFIED:20250407T203116Z
UID:10002057-1729245600-1729252800@foodinitiative.org
SUMMARY:FIGS Mobile Pantry-3rd Friday of the Month
DESCRIPTION:
URL:https://foodinitiative.org/event/figs-mobile-pantry-17/2024-10-18/
LOCATION:The Well Community Fellowship\, 2500 Claus Rd\, Modesto\, 95355\, United States
END:VEVENT
BEGIN:VEVENT
DTSTART;TZID=UTC:20241017T093000
DTEND;TZID=UTC:20241017T110000
DTSTAMP:20260426T042139
CREATED:20240520T213643Z
LAST-MODIFIED:20250407T193446Z
UID:10002836-1729157400-1729162800@foodinitiative.org
SUMMARY:FIGS Mobile Pantry-3rd Thursday of the Month
DESCRIPTION:
URL:https://foodinitiative.org/event/figs-mobile-pantry-25/2024-10-17/
LOCATION:Everett Elementary School\, 1530 Mt. Vernon Dr\, Modesto\, 95350\, United States
END:VEVENT
BEGIN:VEVENT
DTSTART;TZID=UTC:20241016T093000
DTEND;TZID=UTC:20241016T110000
DTSTAMP:20260426T042139
CREATED:20240131T004740Z
LAST-MODIFIED:20250407T202118Z
UID:10002408-1729071000-1729076400@foodinitiative.org
SUMMARY:FIGS Mobile Pantry-3rd Wednesday of the Month
DESCRIPTION:
URL:https://foodinitiative.org/event/figs-mobile-pantry-19/2024-10-16/
LOCATION:International Rescue Committee (IRC)\, 3446 N. Golden State Blvd.\, Turlock\, 95380\, United States
END:VEVENT
BEGIN:VEVENT
DTSTART;TZID=UTC:20241015T093000
DTEND;TZID=UTC:20241015T103000
DTSTAMP:20260426T042139
CREATED:20240105T222218Z
LAST-MODIFIED:20260423T153348Z
UID:10004158-1728984600-1728988200@foodinitiative.org
SUMMARY:FIGS Mobile Pantry-3rd Tuesday of the Month
DESCRIPTION:
URL:https://foodinitiative.org/event/figs-mobile-pantry-11/2024-10-15/
LOCATION:Johansen High School\, 641 Norseman Dr\, Modesto\, CA\, 95357\, United States
END:VEVENT
BEGIN:VEVENT
DTSTART;TZID=UTC:20241008T093000
DTEND;TZID=UTC:20241008T110000
DTSTAMP:20260426T042139
CREATED:20240325T220617Z
LAST-MODIFIED:20250407T194959Z
UID:10002650-1728379800-1728385200@foodinitiative.org
SUMMARY:FIGS Mobile Pantry-2nd Tuesday of the Month
DESCRIPTION:
URL:https://foodinitiative.org/event/figs-mobile-pantry-24/2024-10-08/
LOCATION:West Modesto Community Collaborative\, 601 S Martin Luther King Drive\, Modesto\, CA\, 95351
END:VEVENT
BEGIN:VEVENT
DTSTART;TZID=UTC:20241004T093000
DTEND;TZID=UTC:20241004T110000
DTSTAMP:20260426T042139
CREATED:20240105T235104Z
LAST-MODIFIED:20260423T153221Z
UID:10003952-1728034200-1728039600@foodinitiative.org
SUMMARY:FIGS Mobile Pantry-1st Friday of the Month
DESCRIPTION:
URL:https://foodinitiative.org/event/figs-mobile-pantry-13/2024-10-04/
LOCATION:Modesto Gospel Mission\, 1400 Yosemite Blvd\, Modesto\, CA\, 95354\, United States
END:VEVENT
BEGIN:VEVENT
DTSTART;TZID=UTC:20241003T150000
DTEND;TZID=UTC:20241003T160000
DTSTAMP:20260426T042139
CREATED:20240105T232548Z
LAST-MODIFIED:20250923T162157Z
UID:10001260-1727967600-1727971200@foodinitiative.org
SUMMARY:FIGS Mobile Pantry-1st Thursday of the Month
DESCRIPTION:
URL:https://foodinitiative.org/event/figs-mobile-pantry-12/2024-10-03/
LOCATION:St. Matthias Anglican Church\, 101 S. First Avenue\, OAKDALE\, CA\, 95361\, United States
END:VEVENT
BEGIN:VEVENT
DTSTART;TZID=UTC:20241001T160000
DTEND;TZID=UTC:20241001T170000
DTSTAMP:20260426T042139
CREATED:20240105T222051Z
LAST-MODIFIED:20250407T205111Z
UID:10000826-1727798400-1727802000@foodinitiative.org
SUMMARY:FIGS Mobile Pantry-1st Tuesday of the Month
DESCRIPTION:
URL:https://foodinitiative.org/event/figs-mobile-pantry-10/2024-10-01/
LOCATION:Johansen High School\, 641 Norseman Dr\, Modesto\, CA\, 95357\, United States
END:VEVENT
BEGIN:VEVENT
DTSTART;TZID=UTC:20240925T100000
DTEND;TZID=UTC:20240925T110000
DTSTAMP:20260426T042139
CREATED:20240105T234550Z
LAST-MODIFIED:20250407T205856Z
UID:10000074-1727258400-1727262000@foodinitiative.org
SUMMARY:FIGS Mobile Pantry-4th Wednesday of the Month
DESCRIPTION:
URL:https://foodinitiative.org/event/figs-mobile-pantry-2/2024-09-25/
LOCATION:Empire Church of Christ\, 434 Church Street\, Empire\, CA\, United States
END:VEVENT
BEGIN:VEVENT
DTSTART;TZID=UTC:20240924T093000
DTEND;TZID=UTC:20240924T110000
DTSTAMP:20260426T042139
CREATED:20240105T231908Z
LAST-MODIFIED:20260423T153319Z
UID:10004069-1727170200-1727175600@foodinitiative.org
SUMMARY:FIGS Mobile Pantry-4th Tuesday of the Month
DESCRIPTION:
URL:https://foodinitiative.org/event/figs-mobile-pantry-5/2024-09-24/
LOCATION:Modesto Gospel Mission\, 1400 Yosemite Blvd\, Modesto\, CA\, 95354\, United States
END:VEVENT
BEGIN:VEVENT
DTSTART;TZID=UTC:20240920T100000
DTEND;TZID=UTC:20240920T120000
DTSTAMP:20260426T042139
CREATED:20240126T190521Z
LAST-MODIFIED:20250407T203116Z
UID:10002056-1726826400-1726833600@foodinitiative.org
SUMMARY:FIGS Mobile Pantry-3rd Friday of the Month
DESCRIPTION:
URL:https://foodinitiative.org/event/figs-mobile-pantry-17/2024-09-20/
LOCATION:The Well Community Fellowship\, 2500 Claus Rd\, Modesto\, 95355\, United States
END:VEVENT
BEGIN:VEVENT
DTSTART;TZID=UTC:20240919T093000
DTEND;TZID=UTC:20240919T110000
DTSTAMP:20260426T042139
CREATED:20240520T213643Z
LAST-MODIFIED:20250407T193446Z
UID:10002835-1726738200-1726743600@foodinitiative.org
SUMMARY:FIGS Mobile Pantry-3rd Thursday of the Month
DESCRIPTION:
URL:https://foodinitiative.org/event/figs-mobile-pantry-25/2024-09-19/
LOCATION:Everett Elementary School\, 1530 Mt. Vernon Dr\, Modesto\, 95350\, United States
END:VEVENT
BEGIN:VEVENT
DTSTART;TZID=UTC:20240918T093000
DTEND;TZID=UTC:20240918T110000
DTSTAMP:20260426T042139
CREATED:20240131T004740Z
LAST-MODIFIED:20250407T202118Z
UID:10002407-1726651800-1726657200@foodinitiative.org
SUMMARY:FIGS Mobile Pantry-3rd Wednesday of the Month
DESCRIPTION:
URL:https://foodinitiative.org/event/figs-mobile-pantry-19/2024-09-18/
LOCATION:International Rescue Committee (IRC)\, 3446 N. Golden State Blvd.\, Turlock\, 95380\, United States
END:VEVENT
BEGIN:VEVENT
DTSTART;TZID=UTC:20240917T093000
DTEND;TZID=UTC:20240917T103000
DTSTAMP:20260426T042139
CREATED:20240105T222218Z
LAST-MODIFIED:20260423T153348Z
UID:10004157-1726565400-1726569000@foodinitiative.org
SUMMARY:FIGS Mobile Pantry-3rd Tuesday of the Month
DESCRIPTION:
URL:https://foodinitiative.org/event/figs-mobile-pantry-11/2024-09-17/
LOCATION:Johansen High School\, 641 Norseman Dr\, Modesto\, CA\, 95357\, United States
END:VEVENT
BEGIN:VEVENT
DTSTART;TZID=UTC:20240910T093000
DTEND;TZID=UTC:20240910T110000
DTSTAMP:20260426T042139
CREATED:20240325T220617Z
LAST-MODIFIED:20250407T194959Z
UID:10002649-1725960600-1725966000@foodinitiative.org
SUMMARY:FIGS Mobile Pantry-2nd Tuesday of the Month
DESCRIPTION:
URL:https://foodinitiative.org/event/figs-mobile-pantry-24/2024-09-10/
LOCATION:West Modesto Community Collaborative\, 601 S Martin Luther King Drive\, Modesto\, CA\, 95351
END:VEVENT
BEGIN:VEVENT
DTSTART;TZID=UTC:20240906T093000
DTEND;TZID=UTC:20240906T110000
DTSTAMP:20260426T042139
CREATED:20240105T235104Z
LAST-MODIFIED:20260423T153221Z
UID:10003951-1725615000-1725620400@foodinitiative.org
SUMMARY:FIGS Mobile Pantry-1st Friday of the Month
DESCRIPTION:
URL:https://foodinitiative.org/event/figs-mobile-pantry-13/2024-09-06/
LOCATION:Modesto Gospel Mission\, 1400 Yosemite Blvd\, Modesto\, CA\, 95354\, United States
END:VEVENT
BEGIN:VEVENT
DTSTART;TZID=UTC:20240905T150000
DTEND;TZID=UTC:20240905T160000
DTSTAMP:20260426T042139
CREATED:20240105T232548Z
LAST-MODIFIED:20250923T162157Z
UID:10001259-1725548400-1725552000@foodinitiative.org
SUMMARY:FIGS Mobile Pantry-1st Thursday of the Month
DESCRIPTION:
URL:https://foodinitiative.org/event/figs-mobile-pantry-12/2024-09-05/
LOCATION:St. Matthias Anglican Church\, 101 S. First Avenue\, OAKDALE\, CA\, 95361\, United States
END:VEVENT
END:VCALENDAR