BEGIN:VCALENDAR
VERSION:2.0
PRODID:-//The Food Initiative - ECPv6.15.20//NONSGML v1.0//EN
CALSCALE:GREGORIAN
METHOD:PUBLISH
X-ORIGINAL-URL:https://foodinitiative.org
X-WR-CALDESC:Events for The Food Initiative
REFRESH-INTERVAL;VALUE=DURATION:PT1H
X-Robots-Tag:noindex
X-PUBLISHED-TTL:PT1H
BEGIN:VTIMEZONE
TZID:UTC
BEGIN:STANDARD
TZOFFSETFROM:+0000
TZOFFSETTO:+0000
TZNAME:UTC
DTSTART:20260101T000000
END:STANDARD
END:VTIMEZONE
BEGIN:VEVENT
DTSTART;TZID=UTC:20270115T100000
DTEND;TZID=UTC:20270115T120000
DTSTAMP:20260425T102107
CREATED:20240126T190521Z
LAST-MODIFIED:20250407T203116Z
UID:10002084-1800007200-1800014400@foodinitiative.org
SUMMARY:FIGS Mobile Pantry-3rd Friday of the Month
DESCRIPTION:
URL:https://foodinitiative.org/event/figs-mobile-pantry-17/2027-01-15/
LOCATION:The Well Community Fellowship\, 2500 Claus Rd\, Modesto\, 95355\, United States
END:VEVENT
END:VCALENDAR